BEGIN:VCALENDAR
VERSION:2.0
PRODID:-//musée des beaux-arts et d&#039;archéologie de Besançon - ECPv5.14.2.1//NONSGML v1.0//EN
CALSCALE:GREGORIAN
METHOD:PUBLISH
X-WR-CALNAME:musée des beaux-arts et d&#039;archéologie de Besançon
X-ORIGINAL-URL:https://www.mbaa.besancon.fr
X-WR-CALDESC:évènements pour musée des beaux-arts et d&#039;archéologie de Besançon
BEGIN:VTIMEZONE
TZID:Europe/Paris
BEGIN:DAYLIGHT
TZOFFSETFROM:+0100
TZOFFSETTO:+0200
TZNAME:CEST
DTSTART:20210328T010000
END:DAYLIGHT
BEGIN:STANDARD
TZOFFSETFROM:+0200
TZOFFSETTO:+0100
TZNAME:CET
DTSTART:20211031T010000
END:STANDARD
END:VTIMEZONE
BEGIN:VEVENT
DTSTART;TZID=Europe/Paris:20211120T150000
DTEND;TZID=Europe/Paris:20211120T160000
DTSTAMP:20260419T221004
CREATED:20211029T121712Z
LAST-MODIFIED:20211029T121712Z
UID:5869-1637420400-1637424000@www.mbaa.besancon.fr
SUMMARY:Conférence : "Prenez-en de la graine !"
DESCRIPTION:Le 20 novembre à 15h et le 9 décembre à 18h30 \nVisite nature à double voix avec Grégory Jacquot (Université – Jardins botaniques) et Alexandre Cailler\, guide conférencier.\nDécouvrez les fleurs\, les plantes\, les fruits et autres arbres qui se cachent dans les chefs-d’œuvre du musée. \nGratuit.
URL:https://www.mbaa.besancon.fr/event/conference-prenez-en-de-la-graine/
CATEGORIES:conférence,tout public
END:VEVENT
END:VCALENDAR