BEGIN:VCALENDAR
VERSION:2.0
PRODID:-//musée des beaux-arts et d&#039;archéologie de Besançon - ECPv5.14.2.1//NONSGML v1.0//EN
CALSCALE:GREGORIAN
METHOD:PUBLISH
X-WR-CALNAME:musée des beaux-arts et d&#039;archéologie de Besançon
X-ORIGINAL-URL:https://www.mbaa.besancon.fr
X-WR-CALDESC:évènements pour musée des beaux-arts et d&#039;archéologie de Besançon
BEGIN:VTIMEZONE
TZID:Europe/Paris
BEGIN:DAYLIGHT
TZOFFSETFROM:+0100
TZOFFSETTO:+0200
TZNAME:CEST
DTSTART:20260329T010000
END:DAYLIGHT
BEGIN:STANDARD
TZOFFSETFROM:+0200
TZOFFSETTO:+0100
TZNAME:CET
DTSTART:20261025T010000
END:STANDARD
END:VTIMEZONE
BEGIN:VEVENT
DTSTART;TZID=Europe/Paris:20260709T110000
DTEND;TZID=Europe/Paris:20260709T120000
DTSTAMP:20260421T151722
CREATED:20260415T083944Z
LAST-MODIFIED:20260415T083944Z
UID:10362-1783594800-1783598400@www.mbaa.besancon.fr
SUMMARY:Visite découverte
DESCRIPTION:Accompagnés par un médiateur ou une médiatrice\, découvrez ou redécouvrez les collections permanentes du musée. Laissez-vous guider à travers une visite unique\, façonnée par la curiosité du groupe et la sensibilité du guide. Des chefs-d’œuvre emblématiques aux trésors plus discrets\, chaque parcours est une nouvelle exploration. \nRenseignements et réservation sur : https://vosdemarches.grandbesancon.fr/billetterie/mat
URL:https://www.mbaa.besancon.fr/event/visite-decouverte-51/
CATEGORIES:Ado,public adulte,visite guidée
END:VEVENT
BEGIN:VEVENT
DTSTART;TZID=Europe/Paris:20260709T143000
DTEND;TZID=Europe/Paris:20260709T153000
DTSTAMP:20260421T151722
CREATED:20260416T083220Z
LAST-MODIFIED:20260416T083220Z
UID:10400-1783607400-1783611000@www.mbaa.besancon.fr
SUMMARY:Visite adaptée "Le regard dans l'art" / handicap moteur
DESCRIPTION:Découverte participative des œuvres autour du regard dans l’exposition et dans le parcours permanent\, au rythme de chacun. \nEn partenariat avec la Maison des séniors. \n— \nL’entrée\, les animations et les outils sont gratuits pour les personnes en situation de handicap et leur accompagnateur\, qu’ils soient visiteurs individuels ou en groupe. \nInformations et réservations obligatoires :\nMiléna Buguet – Référente accessibilité\nmilena.buguet@besancon.fr / 03 81 41 57 86
URL:https://www.mbaa.besancon.fr/event/visite-adaptee-le-regard-dans-lart-handicap-moteur/
CATEGORIES:handicap,visite guidée
END:VEVENT
END:VCALENDAR