BEGIN:VCALENDAR
VERSION:2.0
PRODID:-//musée des beaux-arts et d&#039;archéologie de Besançon - ECPv5.14.2.1//NONSGML v1.0//EN
CALSCALE:GREGORIAN
METHOD:PUBLISH
X-WR-CALNAME:musée des beaux-arts et d&#039;archéologie de Besançon
X-ORIGINAL-URL:https://www.mbaa.besancon.fr
X-WR-CALDESC:évènements pour musée des beaux-arts et d&#039;archéologie de Besançon
BEGIN:VTIMEZONE
TZID:Europe/Paris
BEGIN:DAYLIGHT
TZOFFSETFROM:+0100
TZOFFSETTO:+0200
TZNAME:CEST
DTSTART:20260329T010000
END:DAYLIGHT
BEGIN:STANDARD
TZOFFSETFROM:+0200
TZOFFSETTO:+0100
TZNAME:CET
DTSTART:20261025T010000
END:STANDARD
END:VTIMEZONE
BEGIN:VEVENT
DTSTART;TZID=Europe/Paris:20260422T143000
DTEND;TZID=Europe/Paris:20260422T160000
DTSTAMP:20260421T105557
CREATED:20250911T145902Z
LAST-MODIFIED:20250911T145902Z
UID:10064-1776868200-1776873600@www.mbaa.besancon.fr
SUMMARY:Visite guidée adaptée - Handicap intellectuel / Exposition Ceija Stojka
DESCRIPTION:Visite-atelier avec l’art-thérapeute Émilie Boutillier\, pour comprendre l’histoire de l’artiste et exprimer ses émotions grâce à la création\, en toute simplicité.\nMercredi 22 avril à 14h30\nEn partenariat avec l’Atlas de la Fondation Pluriel \nDurée : 1h30\nRéservation obligatoire auprès de la référente accessibilité\nTarif : Gratuit \nMiléna Buguet\nRéférente accessibilité\nmilena.buguet@besancon.fr\n03 81 41 57 86
URL:https://www.mbaa.besancon.fr/event/visite-guidee-adaptee-handicap-intellectuel-exposition-ceija-stojka/
CATEGORIES:atelier,expo,handicap,Partenariat,visite guidée
END:VEVENT
END:VCALENDAR