BEGIN:VCALENDAR
VERSION:2.0
PRODID:-//musée des beaux-arts et d&#039;archéologie de Besançon - ECPv5.14.2.1//NONSGML v1.0//EN
CALSCALE:GREGORIAN
METHOD:PUBLISH
X-WR-CALNAME:musée des beaux-arts et d&#039;archéologie de Besançon
X-ORIGINAL-URL:https://www.mbaa.besancon.fr
X-WR-CALDESC:évènements pour musée des beaux-arts et d&#039;archéologie de Besançon
BEGIN:VTIMEZONE
TZID:Europe/Paris
BEGIN:DAYLIGHT
TZOFFSETFROM:+0100
TZOFFSETTO:+0200
TZNAME:CEST
DTSTART:20260329T010000
END:DAYLIGHT
BEGIN:STANDARD
TZOFFSETFROM:+0200
TZOFFSETTO:+0100
TZNAME:CET
DTSTART:20261025T010000
END:STANDARD
END:VTIMEZONE
BEGIN:VEVENT
DTSTART;TZID=Europe/Paris:20260412T103000
DTEND;TZID=Europe/Paris:20260412T110000
DTSTAMP:20260421T105636
CREATED:20250909T091456Z
LAST-MODIFIED:20250909T091456Z
UID:9874-1775989800-1775991600@www.mbaa.besancon.fr
SUMMARY:Visite "Éveil tout-petits" (18 mois-3 ans)
DESCRIPTION:Visite sensible.\nIci on scrute les animaux dans les tableaux\, avec des bruits\, des comptines\, des histoires\, des marionnettes…\nApporte ton propre doudou ! \nDurée : 30 minutes\nSur réservation : https://vosdemarches.grandbesancon.fr/billetterie/mat\nLes enfants doivent être obligatoirement accompagnés d’un adulte.\nMerci de vous présenter 10 minutes avant l’horaire indiqué.\nTarif : Gratuit
URL:https://www.mbaa.besancon.fr/event/visite-eveil-tout-petits-18-mois-3-ans-13/
CATEGORIES:tout-petits,visite guidée
END:VEVENT
BEGIN:VEVENT
DTSTART;TZID=Europe/Paris:20260412T143000
DTEND;TZID=Europe/Paris:20260412T153000
DTSTAMP:20260421T105636
CREATED:20250908T123646Z
LAST-MODIFIED:20250908T123646Z
UID:9736-1776004200-1776007800@www.mbaa.besancon.fr
SUMMARY:Visite (Re)découverte
DESCRIPTION:Chaque premier dimanche du mois\, profitez de la gratuité du musée pour découvrir ou redécouvrir ses collections permanentes.\nAccompagnés par un médiateur ou une médiatrice\, laissez-vous guider à travers une visite unique\, façonnée par la curiosité du groupe et la sensibilité du guide. Des chefs-d’œuvre emblématiques aux trésors plus discrets\, chaque parcours est une nouvelle exploration. \nDurée : 1h\nMerci de vous présenter 10 minutes avant l’horaire indiqué.\nSur inscription : https://vosdemarches.grandbesancon.fr/billetterie/mat\nVisite gratuite (hors billet d’entrée)
URL:https://www.mbaa.besancon.fr/event/visite-redecouverte-22/
CATEGORIES:tout public,visite guidée
END:VEVENT
BEGIN:VEVENT
DTSTART;TZID=Europe/Paris:20260412T160000
DTEND;TZID=Europe/Paris:20260412T170000
DTSTAMP:20260421T105636
CREATED:20250908T152901Z
LAST-MODIFIED:20260303T103958Z
UID:9832-1776009600-1776013200@www.mbaa.besancon.fr
SUMMARY:Visite exposition temporaire "Ceija Stojka"
DESCRIPTION:À travers un parcours de 112 peintures et dessins\, cette visite guidée vous invite à découvrir l’univers bouleversant de Ceija Stojka\, artiste rom autrichienne rescapée des camps nazis. Son œuvre\, à la fois poignante et lumineuse\, témoigne de l’extermination des Tsiganes pendant la Seconde Guerre mondiale tout en célébrant la résilience\, la nature et la beauté du monde. \nDurée : 1h\nMerci de vous présenter 10 minutes avant l’horaire indiqué.\nSur réservation : https://vosdemarches.grandbesancon.fr/billetterie/mat\nVisite gratuite (hors billet d’entrée\, gratuité le 1er dimanche de chaque mois)
URL:https://www.mbaa.besancon.fr/event/visite-exposition-temporaire-ceija-stojka-8/
CATEGORIES:art graphique,Beaux-arts,expo,public adulte,visite guidée
END:VEVENT
END:VCALENDAR