BEGIN:VCALENDAR
VERSION:2.0
PRODID:-//musée des beaux-arts et d&#039;archéologie de Besançon - ECPv5.14.2.1//NONSGML v1.0//EN
CALSCALE:GREGORIAN
METHOD:PUBLISH
X-WR-CALNAME:musée des beaux-arts et d&#039;archéologie de Besançon
X-ORIGINAL-URL:https://www.mbaa.besancon.fr
X-WR-CALDESC:évènements pour musée des beaux-arts et d&#039;archéologie de Besançon
BEGIN:VTIMEZONE
TZID:Europe/Paris
BEGIN:DAYLIGHT
TZOFFSETFROM:+0100
TZOFFSETTO:+0200
TZNAME:CEST
DTSTART:20260329T010000
END:DAYLIGHT
BEGIN:STANDARD
TZOFFSETFROM:+0200
TZOFFSETTO:+0100
TZNAME:CET
DTSTART:20261025T010000
END:STANDARD
END:VTIMEZONE
BEGIN:VEVENT
DTSTART;TZID=Europe/Paris:20260405T103000
DTEND;TZID=Europe/Paris:20260405T113000
DTSTAMP:20260421T121301
CREATED:20250908T131239Z
LAST-MODIFIED:20250908T131239Z
UID:9760-1775385000-1775388600@www.mbaa.besancon.fr
SUMMARY:Visite famille
DESCRIPTION:Découvrez les incontournables du musée en famille.\nUn musée\, qu’est-ce que c’est\, qu’est-ce qu’on trouve dedans ? Une sculpture\, une mosaïque\, c’est fait comment ? Autour d’une sélection d’œuvres\, découverte des expositions permanentes ou temporaires en compagnie d’un.e guide\, pour les petits et les grands. \nDurée 1h \nGratuit (hors billet d’entrée sous certaines conditions) \nSur réservation : https://vosdemarches.grandbesancon.fr/billetterie/mat
URL:https://www.mbaa.besancon.fr/event/visite-famille-72/
CATEGORIES:Famille,visite guidée
END:VEVENT
BEGIN:VEVENT
DTSTART;TZID=Europe/Paris:20260405T143000
DTEND;TZID=Europe/Paris:20260405T153000
DTSTAMP:20260421T121301
CREATED:20250908T123508Z
LAST-MODIFIED:20250908T123508Z
UID:9734-1775399400-1775403000@www.mbaa.besancon.fr
SUMMARY:Visite (Re)découverte
DESCRIPTION:Chaque premier dimanche du mois\, profitez de la gratuité du musée pour découvrir ou redécouvrir ses collections permanentes.\nAccompagnés par un médiateur ou une médiatrice\, laissez-vous guider à travers une visite unique\, façonnée par la curiosité du groupe et la sensibilité du guide. Des chefs-d’œuvre emblématiques aux trésors plus discrets\, chaque parcours est une nouvelle exploration. \nDurée : 1h\nMerci de vous présenter 10 minutes avant l’horaire indiqué.\nSur inscription : https://vosdemarches.grandbesancon.fr/billetterie/mat\nVisite gratuite (hors billet d’entrée)
URL:https://www.mbaa.besancon.fr/event/visite-redecouverte-21/
CATEGORIES:tout public,visite guidée
END:VEVENT
BEGIN:VEVENT
DTSTART;TZID=Europe/Paris:20260405T160000
DTEND;TZID=Europe/Paris:20260405T170000
DTSTAMP:20260421T121301
CREATED:20250908T152707Z
LAST-MODIFIED:20260303T104053Z
UID:9830-1775404800-1775408400@www.mbaa.besancon.fr
SUMMARY:Visite exposition temporaire "Ceija Stojka"
DESCRIPTION:À travers un parcours de 112 peintures et dessins\, cette visite guidée vous invite à découvrir l’univers bouleversant de Ceija Stojka\, artiste rom autrichienne rescapée des camps nazis. Son œuvre\, à la fois poignante et lumineuse\, témoigne de l’extermination des Tsiganes pendant la Seconde Guerre mondiale tout en célébrant la résilience\, la nature et la beauté du monde. \nDurée : 1h\nMerci de vous présenter 10 minutes avant l’horaire indiqué.\nSur réservation : https://vosdemarches.grandbesancon.fr/billetterie/mat\nVisite gratuite (hors billet d’entrée\, gratuité le 1er dimanche de chaque mois)
URL:https://www.mbaa.besancon.fr/event/visite-exposition-temporaire-ceija-stojka-7/
CATEGORIES:art graphique,Beaux-arts,expo,public adulte,visite guidée
END:VEVENT
END:VCALENDAR