BEGIN:VCALENDAR
VERSION:2.0
PRODID:-//musée des beaux-arts et d&#039;archéologie de Besançon - ECPv5.14.2.1//NONSGML v1.0//EN
CALSCALE:GREGORIAN
METHOD:PUBLISH
X-WR-CALNAME:musée des beaux-arts et d&#039;archéologie de Besançon
X-ORIGINAL-URL:https://www.mbaa.besancon.fr
X-WR-CALDESC:évènements pour musée des beaux-arts et d&#039;archéologie de Besançon
BEGIN:VTIMEZONE
TZID:Europe/Paris
BEGIN:DAYLIGHT
TZOFFSETFROM:+0100
TZOFFSETTO:+0200
TZNAME:CEST
DTSTART:20260329T010000
END:DAYLIGHT
BEGIN:STANDARD
TZOFFSETFROM:+0200
TZOFFSETTO:+0100
TZNAME:CET
DTSTART:20261025T010000
END:STANDARD
END:VTIMEZONE
BEGIN:VEVENT
DTSTART;TZID=Europe/Paris:20260314T103000
DTEND;TZID=Europe/Paris:20260314T120000
DTSTAMP:20260421T121301
CREATED:20250911T114503Z
LAST-MODIFIED:20250911T114503Z
UID:10012-1773484200-1773489600@www.mbaa.besancon.fr
SUMMARY:Les matinées bien-être / Art thérapie
DESCRIPTION:Les ateliers proposés s’inspirent de l’œuvre de Ceija Stojka\, où se mêlent les souvenirs sombres de la guerre et les paysages lumineux de son enfance libre. Émilie Boutillier\, art-thérapeute\, propose une approche intuitive et sensorielle\, respectueuse du rythme de chacun·e. Par le geste\, la matière\, les couleurs ou l’écriture\, les participant·e·s sont invité·e·s à vivre un moment de reconnexion intérieure\, entre mémoire et libération. Ces ateliers offrent un espace de pause\, d’écoute et de transformation douce\, où l’expression non verbale devient une voie vers le mieux-être. \nDurée : 1h30\nPlein tarif : 15 €/personne.\nTarif réduit étudiant et demandeur d’emploi : 10 €/personne.\nLe tarif comprend l’animation et l’entrée du musée.\nSur réservation : https://vosdemarches.grandbesancon.fr/billetterie/mat
URL:https://www.mbaa.besancon.fr/event/les-matinees-bien-etre-art-therapie/
CATEGORIES:Bien-être
END:VEVENT
END:VCALENDAR