BEGIN:VCALENDAR
VERSION:2.0
PRODID:-//musée des beaux-arts et d&#039;archéologie de Besançon - ECPv5.14.2.1//NONSGML v1.0//EN
CALSCALE:GREGORIAN
METHOD:PUBLISH
X-WR-CALNAME:musée des beaux-arts et d&#039;archéologie de Besançon
X-ORIGINAL-URL:https://www.mbaa.besancon.fr
X-WR-CALDESC:évènements pour musée des beaux-arts et d&#039;archéologie de Besançon
BEGIN:VTIMEZONE
TZID:Europe/Paris
BEGIN:DAYLIGHT
TZOFFSETFROM:+0100
TZOFFSETTO:+0200
TZNAME:CEST
DTSTART:20260329T010000
END:DAYLIGHT
BEGIN:STANDARD
TZOFFSETFROM:+0200
TZOFFSETTO:+0100
TZNAME:CET
DTSTART:20261025T010000
END:STANDARD
END:VTIMEZONE
BEGIN:VEVENT
DTSTART;TZID=Europe/Paris:20260222T103000
DTEND;TZID=Europe/Paris:20260222T110000
DTSTAMP:20260421T135139
CREATED:20250909T091018Z
LAST-MODIFIED:20250909T091018Z
UID:9868-1771756200-1771758000@www.mbaa.besancon.fr
SUMMARY:Visite "Éveil tout-petits" (18 mois - 3 ans)
DESCRIPTION:Visite sensible.\nIci on scrute les animaux dans les tableaux\, avec des bruits\, des comptines\, des histoires\, des marionnettes…\nApporte ton propre doudou ! \nDurée : 30 minutes\nSur réservation : https://vosdemarches.grandbesancon.fr/billetterie/mat\nLes enfants doivent être obligatoirement accompagnés d’un adulte.\nMerci de vous présenter 10 minutes avant l’horaire indiqué.\nTarif : Gratuit
URL:https://www.mbaa.besancon.fr/event/visite-eveil-tout-petits-18-mois-3-ans-10/
CATEGORIES:tout-petits,visite guidée
END:VEVENT
BEGIN:VEVENT
DTSTART;TZID=Europe/Paris:20260222T143000
DTEND;TZID=Europe/Paris:20260222T153000
DTSTAMP:20260421T135139
CREATED:20250908T123105Z
LAST-MODIFIED:20250908T123105Z
UID:9726-1771770600-1771774200@www.mbaa.besancon.fr
SUMMARY:Visite (Re)découverte
DESCRIPTION:Chaque premier dimanche du mois\, profitez de la gratuité du musée pour découvrir ou redécouvrir ses collections permanentes.\nAccompagnés par un médiateur ou une médiatrice\, laissez-vous guider à travers une visite unique\, façonnée par la curiosité du groupe et la sensibilité du guide. Des chefs-d’œuvre emblématiques aux trésors plus discrets\, chaque parcours est une nouvelle exploration. \nDurée : 1h\nMerci de vous présenter 10 minutes avant l’horaire indiqué.\nSur inscription : https://vosdemarches.grandbesancon.fr/billetterie/mat\nVisite gratuite (hors billet d’entrée)
URL:https://www.mbaa.besancon.fr/event/visite-redecouverte-18/
CATEGORIES:tout public,visite guidée
END:VEVENT
BEGIN:VEVENT
DTSTART;TZID=Europe/Paris:20260222T160000
DTEND;TZID=Europe/Paris:20260222T170000
DTSTAMP:20260421T135139
CREATED:20250908T143510Z
LAST-MODIFIED:20250908T143510Z
UID:9794-1771776000-1771779600@www.mbaa.besancon.fr
SUMMARY:Visite "Le Cabinet des arts graphiques"
DESCRIPTION:Entrez exceptionnellement dans le Cabinet des Arts Graphiques\, la seule réserve interne du musée\, où sont précieusement conservés dessins\, estampes et photographies. \nDurée : 1h\nMerci de vous présenter 10 minutes avant l’horaire indiqué.\nSur réservation : https://vosdemarches.grandbesancon.fr/billetterie/mat\nVisite gratuite (hors billet d’entrée\, gratuité le 1er dimanche de chaque mois)
URL:https://www.mbaa.besancon.fr/event/visite-le-cabinet-des-arts-graphiques-3/
CATEGORIES:art graphique,public adulte,visite guidée
END:VEVENT
END:VCALENDAR