BEGIN:VCALENDAR
VERSION:2.0
PRODID:-//musée des beaux-arts et d&#039;archéologie de Besançon - ECPv5.14.2.1//NONSGML v1.0//EN
CALSCALE:GREGORIAN
METHOD:PUBLISH
X-WR-CALNAME:musée des beaux-arts et d&#039;archéologie de Besançon
X-ORIGINAL-URL:https://www.mbaa.besancon.fr
X-WR-CALDESC:évènements pour musée des beaux-arts et d&#039;archéologie de Besançon
BEGIN:VTIMEZONE
TZID:Europe/Paris
BEGIN:DAYLIGHT
TZOFFSETFROM:+0100
TZOFFSETTO:+0200
TZNAME:CEST
DTSTART:20260329T010000
END:DAYLIGHT
BEGIN:STANDARD
TZOFFSETFROM:+0200
TZOFFSETTO:+0100
TZNAME:CET
DTSTART:20261025T010000
END:STANDARD
END:VTIMEZONE
BEGIN:VEVENT
DTSTART;TZID=Europe/Paris:20260214T103000
DTEND;TZID=Europe/Paris:20260214T120000
DTSTAMP:20260421T135257
CREATED:20250911T114041Z
LAST-MODIFIED:20250911T114041Z
UID:10010-1771065000-1771070400@www.mbaa.besancon.fr
SUMMARY:Les matinées bien-être / Bain sonore
DESCRIPTION:Fanny Vantomme\, sonothérapeute et art-thérapeute certifiée\, vous invite à une immersion vibratoire mêlant sons et bienêtre.\nCette pratique douce réduit le stress\, apaise les tensions et stimule la créativité\, tout en vous connectant aux œuvres d’art dans un cadre enveloppant. \nUne séance unique\, à vivre seul·e ou en couple. Venez vivre une vibration commune\, placée sous le signe de l’amour et de la complicité. Avant la pratique sonore\, une médiation de 30 minutes vous sera proposée pour découvrir quelques-unes de nos œuvres autour de la thématique de l’amour\, puis place à la détente ! \nDurée : 1h30\nPlein tarif : 15 €/personne.\nTarif réduit étudiant et demandeur d’emploi : 10 €/personne.\nLe tarif comprend l’animation et l’entrée du musée.\nSur réservation : https://vosdemarches.grandbesancon.fr/billetterie/mat
URL:https://www.mbaa.besancon.fr/event/les-matinees-bien-etre-bain-sonore/
CATEGORIES:Bien-être
END:VEVENT
END:VCALENDAR