BEGIN:VCALENDAR
VERSION:2.0
PRODID:-//musée des beaux-arts et d&#039;archéologie de Besançon - ECPv5.14.2.1//NONSGML v1.0//EN
CALSCALE:GREGORIAN
METHOD:PUBLISH
X-WR-CALNAME:musée des beaux-arts et d&#039;archéologie de Besançon
X-ORIGINAL-URL:https://www.mbaa.besancon.fr
X-WR-CALDESC:évènements pour musée des beaux-arts et d&#039;archéologie de Besançon
BEGIN:VTIMEZONE
TZID:Europe/Paris
BEGIN:DAYLIGHT
TZOFFSETFROM:+0100
TZOFFSETTO:+0200
TZNAME:CEST
DTSTART:20260329T010000
END:DAYLIGHT
BEGIN:STANDARD
TZOFFSETFROM:+0200
TZOFFSETTO:+0100
TZNAME:CET
DTSTART:20261025T010000
END:STANDARD
END:VTIMEZONE
BEGIN:VEVENT
DTSTART;TZID=Europe/Paris:20260104T103000
DTEND;TZID=Europe/Paris:20260104T113000
DTSTAMP:20260421T152248
CREATED:20250908T130815Z
LAST-MODIFIED:20250908T130815Z
UID:9752-1767522600-1767526200@www.mbaa.besancon.fr
SUMMARY:Visite famille
DESCRIPTION:Découvrez les incontournables du musée en famille.\nUn musée\, qu’est-ce que c’est\, qu’est-ce qu’on trouve dedans ? Une sculpture\, une mosaïque\, c’est fait comment ? Autour d’une sélection d’œuvres\, découverte des expositions permanentes ou temporaires en compagnie d’un.e guide\, pour les petits et les grands. \nDurée 1h \nGratuit (hors billet d’entrée sous certaines conditions) \nSur réservation : https://vosdemarches.grandbesancon.fr/billetterie/mat
URL:https://www.mbaa.besancon.fr/event/visite-famille-68/
CATEGORIES:Famille,visite guidée
END:VEVENT
BEGIN:VEVENT
DTSTART;TZID=Europe/Paris:20260104T143000
DTEND;TZID=Europe/Paris:20260104T153000
DTSTAMP:20260421T152248
CREATED:20250908T122128Z
LAST-MODIFIED:20250908T122128Z
UID:9716-1767537000-1767540600@www.mbaa.besancon.fr
SUMMARY:Visite (Re)découverte
DESCRIPTION:Chaque premier dimanche du mois\, profitez de la gratuité du musée pour découvrir ou redécouvrir ses collections permanentes.\nAccompagnés par un médiateur ou une médiatrice\, laissez-vous guider à travers une visite unique\, façonnée par la curiosité du groupe et la sensibilité du guide. Des chefs-d’œuvre emblématiques aux trésors plus discrets\, chaque parcours est une nouvelle exploration. \nDurée : 1h\nMerci de vous présenter 10 minutes avant l’horaire indiqué.\nSur inscription : https://vosdemarches.grandbesancon.fr/billetterie/mat\nVisite gratuite (hors billet d’entrée)
URL:https://www.mbaa.besancon.fr/event/visite-redecouverte-13/
CATEGORIES:tout public,visite guidée
END:VEVENT
BEGIN:VEVENT
DTSTART;TZID=Europe/Paris:20260104T160000
DTEND;TZID=Europe/Paris:20260104T170000
DTSTAMP:20260421T152248
CREATED:20250908T145213Z
LAST-MODIFIED:20250908T145213Z
UID:9808-1767542400-1767546000@www.mbaa.besancon.fr
SUMMARY:Visite "L'art du XXe siècle"
DESCRIPTION:Visite de la collection Besson.\nDécouvrez la donation George et Adèle Besson\, riche en œuvres de maîtres tels que Bonnard\, Matisse et Renoir\, mais aussi d’artistes émergents. Cet accrochage met en lumière l’éclectisme du couple\, marqué par l’impressionnisme et le fauvisme. \nDurée : 1h\nMerci de vous présenter 10 minutes avant l’horaire indiqué.\nSur réservation : https://vosdemarches.grandbesancon.fr/billetterie/mat\nVisite gratuite (hors billet d’entrée\, gratuité le 1er dimanche de chaque mois)
URL:https://www.mbaa.besancon.fr/event/visite-lart-du-xxe-siecle-4/
CATEGORIES:Beaux-arts,public adulte,Sculpture,visite guidée
END:VEVENT
END:VCALENDAR