BEGIN:VCALENDAR
VERSION:2.0
PRODID:-//musée des beaux-arts et d&#039;archéologie de Besançon - ECPv5.14.2.1//NONSGML v1.0//EN
CALSCALE:GREGORIAN
METHOD:PUBLISH
X-WR-CALNAME:musée des beaux-arts et d&#039;archéologie de Besançon
X-ORIGINAL-URL:https://www.mbaa.besancon.fr
X-WR-CALDESC:évènements pour musée des beaux-arts et d&#039;archéologie de Besançon
BEGIN:VTIMEZONE
TZID:Europe/Paris
BEGIN:DAYLIGHT
TZOFFSETFROM:+0100
TZOFFSETTO:+0200
TZNAME:CEST
DTSTART:20250330T010000
END:DAYLIGHT
BEGIN:STANDARD
TZOFFSETFROM:+0200
TZOFFSETTO:+0100
TZNAME:CET
DTSTART:20251026T010000
END:STANDARD
END:VTIMEZONE
BEGIN:VEVENT
DTSTART;TZID=Europe/Paris:20251123T103000
DTEND;TZID=Europe/Paris:20251123T110000
DTSTAMP:20260421T181843
CREATED:20250909T085731Z
LAST-MODIFIED:20250909T085731Z
UID:9856-1763893800-1763895600@www.mbaa.besancon.fr
SUMMARY:Visite "Éveil tout-petits" (18 mois-3 ans)
DESCRIPTION:Visite sensible.\nIci on scrute les animaux dans les tableaux\, avec des bruits\, des comptines\, des histoires\, des marionnettes…\nApporte ton propre doudou ! \nDurée : 30 minutes\nSur réservation : https://vosdemarches.grandbesancon.fr/billetterie/mat\nLes enfants doivent être obligatoirement accompagnés d’un adulte.\nMerci de vous présenter 10 minutes avant l’horaire indiqué.\nTarif : Gratuit
URL:https://www.mbaa.besancon.fr/event/visite-eveil-tout-petits-18-mois-3-ans-4/
CATEGORIES:tout-petits,visite guidée
END:VEVENT
BEGIN:VEVENT
DTSTART;TZID=Europe/Paris:20251123T143000
DTEND;TZID=Europe/Paris:20251123T153000
DTSTAMP:20260421T181843
CREATED:20250908T121339Z
LAST-MODIFIED:20250908T121339Z
UID:9706-1763908200-1763911800@www.mbaa.besancon.fr
SUMMARY:Visite (Re)découverte
DESCRIPTION:Chaque premier dimanche du mois\, profitez de la gratuité du musée pour découvrir ou redécouvrir ses collections permanentes.\nAccompagnés par un médiateur ou une médiatrice\, laissez-vous guider à travers une visite unique\, façonnée par la curiosité du groupe et la sensibilité du guide. Des chefs-d’œuvre emblématiques aux trésors plus discrets\, chaque parcours est une nouvelle exploration. \nDurée : 1h\nMerci de vous présenter 10 minutes avant l’horaire indiqué.\nSur inscription : https://vosdemarches.grandbesancon.fr/billetterie/mat\nVisite gratuite (hors billet d’entrée)
URL:https://www.mbaa.besancon.fr/event/visite-redecouverte-8/
CATEGORIES:tout public,visite guidée
END:VEVENT
BEGIN:VEVENT
DTSTART;TZID=Europe/Paris:20251123T160000
DTEND;TZID=Europe/Paris:20251123T170000
DTSTAMP:20260421T181843
CREATED:20250908T144020Z
LAST-MODIFIED:20250908T144020Z
UID:9796-1763913600-1763917200@www.mbaa.besancon.fr
SUMMARY:Visite "Arc-en-ciel"
DESCRIPTION:Usages et symboliques des couleurs au cours du temps.\nDécouvrez la place des couleurs dans l’histoire de l’art lors d’une visite captivante ! Longtemps négligée par les historiens\, la couleur\, plus fragile face au temps\, a souvent été supplantée par le dessin. Depuis le XVIe siècle\, la transmission des modèles s’est faite principalement en noir et blanc. Explorez comment les artistes ont employé les couleurs pour exprimer des émotions\, véhiculer des symboles et transformer les styles\, et comment elles continuent d’influencer notre société aujourd’hui. \nDurée : 1h\nMerci de vous présenter 10 minutes avant l’horaire indiqué.\nSur réservation : https://vosdemarches.grandbesancon.fr/billetterie/mat\nVisite gratuite (hors billet d’entrée\, gratuité le 1er dimanche de chaque mois)
URL:https://www.mbaa.besancon.fr/event/visite-arc-en-ciel/
CATEGORIES:Beaux-arts,public adulte,visite guidée
END:VEVENT
END:VCALENDAR