BEGIN:VCALENDAR
VERSION:2.0
PRODID:-//musée des beaux-arts et d&#039;archéologie de Besançon - ECPv5.14.2.1//NONSGML v1.0//EN
CALSCALE:GREGORIAN
METHOD:PUBLISH
X-WR-CALNAME:musée des beaux-arts et d&#039;archéologie de Besançon
X-ORIGINAL-URL:https://www.mbaa.besancon.fr
X-WR-CALDESC:évènements pour musée des beaux-arts et d&#039;archéologie de Besançon
BEGIN:VTIMEZONE
TZID:Europe/Paris
BEGIN:DAYLIGHT
TZOFFSETFROM:+0100
TZOFFSETTO:+0200
TZNAME:CEST
DTSTART:20250330T010000
END:DAYLIGHT
BEGIN:STANDARD
TZOFFSETFROM:+0200
TZOFFSETTO:+0100
TZNAME:CET
DTSTART:20251026T010000
END:STANDARD
END:VTIMEZONE
BEGIN:VEVENT
DTSTART;TZID=Europe/Paris:20251102T103000
DTEND;TZID=Europe/Paris:20251102T113000
DTSTAMP:20260421T181910
CREATED:20250908T130527Z
LAST-MODIFIED:20250908T130527Z
UID:9746-1762079400-1762083000@www.mbaa.besancon.fr
SUMMARY:Visite famille
DESCRIPTION:Découvrez les incontournables du musée en famille.\nUn musée\, qu’est-ce que c’est\, qu’est-ce qu’on trouve dedans ? Une sculpture\, une mosaïque\, c’est fait comment ? Autour d’une sélection d’œuvres\, découverte des expositions permanentes ou temporaires en compagnie d’un.e guide\, pour les petits et les grands. \nDurée 1h \nGratuit (hors billet d’entrée sous certaines conditions) \nSur réservation : https://vosdemarches.grandbesancon.fr/billetterie/mat
URL:https://www.mbaa.besancon.fr/event/visite-famille-65/
CATEGORIES:Famille,visite guidée
END:VEVENT
BEGIN:VEVENT
DTSTART;TZID=Europe/Paris:20251102T143000
DTEND;TZID=Europe/Paris:20251102T153000
DTSTAMP:20260421T181910
CREATED:20250908T121057Z
LAST-MODIFIED:20250908T121057Z
UID:9700-1762093800-1762097400@www.mbaa.besancon.fr
SUMMARY:Visite (Re)découverte
DESCRIPTION:Chaque premier dimanche du mois\, profitez de la gratuité du musée pour découvrir ou redécouvrir ses collections permanentes.\nAccompagnés par un médiateur ou une médiatrice\, laissez-vous guider à travers une visite unique\, façonnée par la curiosité du groupe et la sensibilité du guide. Des chefs-d’œuvre emblématiques aux trésors plus discrets\, chaque parcours est une nouvelle exploration. \nDurée : 1h\nMerci de vous présenter 10 minutes avant l’horaire indiqué.\nSur inscription : https://vosdemarches.grandbesancon.fr/billetterie/mat\nVisite gratuite (hors billet d’entrée)
URL:https://www.mbaa.besancon.fr/event/visite-redecouverte-5/
CATEGORIES:tout public,visite guidée
END:VEVENT
BEGIN:VEVENT
DTSTART;TZID=Europe/Paris:20251102T150000
DTEND;TZID=Europe/Paris:20251102T160000
DTSTAMP:20260421T181910
CREATED:20250911T115923Z
LAST-MODIFIED:20250911T121203Z
UID:10016-1762095600-1762099200@www.mbaa.besancon.fr
SUMMARY:Atelier "Morceaux d'histoire" (7-10 ans)
DESCRIPTION:Découvre des objets de la vie quotidienne des XVIIe et XVIIIe siècles en te mettant dans la peau d’un.e archéologue spécialisé.e en céramique.\nAnimé par une médiatrice de la Citadelle de Besançon. \nDurée : 1h (en simultané avec la conférence La vie quotidienne aux XVIIe et XVIIIe siècles à Besançon\, éclairée par l’archéologie)\nSur réservation : https://vosdemarches.grandbesancon.fr/billetterie/mat\nEnfant non accompagné\nMerci de vous présenter 10 minutes avant l’horaire indiqué\nTarif : Gratuit
URL:https://www.mbaa.besancon.fr/event/atelier-morceaux-dhistoire-7-10-ans/
CATEGORIES:Archéologie,atelier,jeune public,public jeune
END:VEVENT
BEGIN:VEVENT
DTSTART;TZID=Europe/Paris:20251102T150000
DTEND;TZID=Europe/Paris:20251102T160000
DTSTAMP:20260421T181910
CREATED:20250911T121053Z
LAST-MODIFIED:20250911T121053Z
UID:10020-1762095600-1762099200@www.mbaa.besancon.fr
SUMMARY:Conférence "La vie quotidienne aux XVIIe et XVIIIe siècles à Besançon"
DESCRIPTION:Par Claudine Munier\, archéologue à la Direction du patrimoine historique\, service d’archéologie préventive de la Ville de Besançon.\nEn partenariat avec la Citadelle de Besançon. \nPendant que les parents assistent à la conférence\, les enfants sont invités à se plonger dans la même thématique en participant à un atelier archéologique conçu spécialement pour eux !\nAtelier « Morceaux d’histoire » (7-10 ans)\nDécouvre des objets de la vie quotidienne aux XVIIe-XVIIIe siècles en te mettant dans la peau d’un archéologue spécialisé en céramique.\nDurée : 1h – en simultané avec la conférence\nTarif : Gratuit
URL:https://www.mbaa.besancon.fr/event/conference-la-vie-quotidienne-aux-xviie-et-xviiie-siecles-a-besancon/
CATEGORIES:atelier,conférence,Partenariat
END:VEVENT
BEGIN:VEVENT
DTSTART;TZID=Europe/Paris:20251102T160000
DTEND;TZID=Europe/Paris:20251102T170000
DTSTAMP:20260421T181910
CREATED:20250908T134440Z
LAST-MODIFIED:20250908T134440Z
UID:9782-1762099200-1762102800@www.mbaa.besancon.fr
SUMMARY:Visite "Bon sang ne sait mentir !" / Spéciale Halloween
DESCRIPTION:Visite autour du sang et de sa représentation dans les tableaux du musée. Symbolisme du sang\, analyses et anecdotes autour d’une sélection de tableaux\, analyse technique autour de la couleur du sang\, mise en lien de l’histoire de la médecine avec l’histoire de la représentation du corps… \nDurée : 1h\nMerci de vous présenter 10 minutes avant l’horaire indiqué.\nSur réservation : https://vosdemarches.grandbesancon.fr/billetterie/mat\nVisite gratuite (hors billet d’entrée\, gratuité le 1er dimanche de chaque mois)
URL:https://www.mbaa.besancon.fr/event/visite-bon-sang-ne-sait-mentir-speciale-halloween-2/
CATEGORIES:Beaux-arts,public adulte,visite guidée
END:VEVENT
END:VCALENDAR