BEGIN:VCALENDAR
VERSION:2.0
PRODID:-//musée des beaux-arts et d&#039;archéologie de Besançon - ECPv5.14.2.1//NONSGML v1.0//EN
CALSCALE:GREGORIAN
METHOD:PUBLISH
X-WR-CALNAME:musée des beaux-arts et d&#039;archéologie de Besançon
X-ORIGINAL-URL:https://www.mbaa.besancon.fr
X-WR-CALDESC:évènements pour musée des beaux-arts et d&#039;archéologie de Besançon
BEGIN:VTIMEZONE
TZID:Europe/Paris
BEGIN:DAYLIGHT
TZOFFSETFROM:+0100
TZOFFSETTO:+0200
TZNAME:CEST
DTSTART:20250330T010000
END:DAYLIGHT
BEGIN:STANDARD
TZOFFSETFROM:+0200
TZOFFSETTO:+0100
TZNAME:CET
DTSTART:20251026T010000
END:STANDARD
END:VTIMEZONE
BEGIN:VEVENT
DTSTART;TZID=Europe/Paris:20251026T103000
DTEND;TZID=Europe/Paris:20251026T110000
DTSTAMP:20260421T193821
CREATED:20250909T085456Z
LAST-MODIFIED:20250909T085456Z
UID:9852-1761474600-1761476400@www.mbaa.besancon.fr
SUMMARY:Visite "Éveil tout-petits" (18 mois-3 ans)
DESCRIPTION:Visite sensible.\nIci on scrute les animaux dans les tableaux\, avec des bruits\, des comptines\, des histoires\, des marionnettes…\nApporte ton propre doudou ! \nDurée : 30 minutes\nSur réservation : https://vosdemarches.grandbesancon.fr/billetterie/mat\nLes enfants doivent être obligatoirement accompagnés d’un adulte.\nMerci de vous présenter 10 minutes avant l’horaire indiqué.\nTarif : Gratuit
URL:https://www.mbaa.besancon.fr/event/visite-eveil-tout-petits-18-mois-3-ans-2/
CATEGORIES:tout-petits,visite guidée
END:VEVENT
BEGIN:VEVENT
DTSTART;TZID=Europe/Paris:20251026T143000
DTEND;TZID=Europe/Paris:20251026T153000
DTSTAMP:20260421T193821
CREATED:20250908T120929Z
LAST-MODIFIED:20250908T120929Z
UID:9698-1761489000-1761492600@www.mbaa.besancon.fr
SUMMARY:Visite (Re)découverte
DESCRIPTION:Chaque premier dimanche du mois\, profitez de la gratuité du musée pour découvrir ou redécouvrir ses collections permanentes.\nAccompagnés par un médiateur ou une médiatrice\, laissez-vous guider à travers une visite unique\, façonnée par la curiosité du groupe et la sensibilité du guide. Des chefs-d’œuvre emblématiques aux trésors plus discrets\, chaque parcours est une nouvelle exploration. \nDurée : 1h\nMerci de vous présenter 10 minutes avant l’horaire indiqué.\nSur inscription : https://vosdemarches.grandbesancon.fr/billetterie/mat\nVisite gratuite (hors billet d’entrée)
URL:https://www.mbaa.besancon.fr/event/visite-redecouverte-4/
CATEGORIES:tout public,visite guidée
END:VEVENT
BEGIN:VEVENT
DTSTART;TZID=Europe/Paris:20251026T160000
DTEND;TZID=Europe/Paris:20251026T170000
DTSTAMP:20260421T193821
CREATED:20250908T134319Z
LAST-MODIFIED:20250908T134319Z
UID:9780-1761494400-1761498000@www.mbaa.besancon.fr
SUMMARY:Visite "Bon sang ne sait mentir !" / Spéciale Halloween
DESCRIPTION:Visite autour du sang et de sa représentation dans les tableaux du musée. Symbolisme du sang\, analyses et anecdotes autour d’une sélection de tableaux\, analyse technique autour de la couleur du sang\, mise en lien de l’histoire de la médecine avec l’histoire de la représentation du corps… \nDurée : 1h\nMerci de vous présenter 10 minutes avant l’horaire indiqué.\nSur réservation : https://vosdemarches.grandbesancon.fr/billetterie/mat\nVisite gratuite (hors billet d’entrée\, gratuité le 1er dimanche de chaque mois)
URL:https://www.mbaa.besancon.fr/event/visite-bon-sang-ne-sait-mentir-speciale-halloween/
CATEGORIES:Beaux-arts,public adulte,visite guidée
END:VEVENT
END:VCALENDAR