BEGIN:VCALENDAR
VERSION:2.0
PRODID:-//musée des beaux-arts et d&#039;archéologie de Besançon - ECPv5.14.2.1//NONSGML v1.0//EN
CALSCALE:GREGORIAN
METHOD:PUBLISH
X-WR-CALNAME:musée des beaux-arts et d&#039;archéologie de Besançon
X-ORIGINAL-URL:https://www.mbaa.besancon.fr
X-WR-CALDESC:évènements pour musée des beaux-arts et d&#039;archéologie de Besançon
BEGIN:VTIMEZONE
TZID:Europe/Paris
BEGIN:DAYLIGHT
TZOFFSETFROM:+0100
TZOFFSETTO:+0200
TZNAME:CEST
DTSTART:20250330T010000
END:DAYLIGHT
BEGIN:STANDARD
TZOFFSETFROM:+0200
TZOFFSETTO:+0100
TZNAME:CET
DTSTART:20251026T010000
END:STANDARD
END:VTIMEZONE
BEGIN:VEVENT
DTSTART;TZID=Europe/Paris:20251005T103000
DTEND;TZID=Europe/Paris:20251005T113000
DTSTAMP:20260421T194246
CREATED:20250908T124649Z
LAST-MODIFIED:20250908T124649Z
UID:9742-1759660200-1759663800@www.mbaa.besancon.fr
SUMMARY:Visite famille
DESCRIPTION:Découvrez les incontournables du musée en famille.\nUn musée\, qu’est-ce que c’est\, qu’est-ce qu’on trouve dedans ? Une sculpture\, une mosaïque\, c’est fait comment ? Autour d’une sélection d’œuvres\, découverte des expositions permanentes ou temporaires en compagnie d’un.e guide\, pour les petits et les grands. \nDurée 1h \nGratuit (hors billet d’entrée sous certaines conditions) \nSur réservation : https://vosdemarches.grandbesancon.fr/billetterie/mat
URL:https://www.mbaa.besancon.fr/event/visite-famille-63/
CATEGORIES:Famille,visite guidée
END:VEVENT
BEGIN:VEVENT
DTSTART;TZID=Europe/Paris:20251005T143000
DTEND;TZID=Europe/Paris:20251005T153000
DTSTAMP:20260421T194246
CREATED:20250908T120527Z
LAST-MODIFIED:20250908T120527Z
UID:9692-1759674600-1759678200@www.mbaa.besancon.fr
SUMMARY:Visite (Re)découverte
DESCRIPTION:Chaque premier dimanche du mois\, profitez de la gratuité du musée pour découvrir ou redécouvrir ses collections permanentes.\nAccompagnés par un médiateur ou une médiatrice\, laissez-vous guider à travers une visite unique\, façonnée par la curiosité du groupe et la sensibilité du guide. Des chefs-d’œuvre emblématiques aux trésors plus discrets\, chaque parcours est une nouvelle exploration. \nDurée : 1h\nMerci de vous présenter 10 minutes avant l’horaire indiqué.\nSur inscription : https://vosdemarches.grandbesancon.fr/billetterie/mat\nVisite gratuite (hors billet d’entrée)
URL:https://www.mbaa.besancon.fr/event/visite-redecouverte/
CATEGORIES:tout public,visite guidée
END:VEVENT
BEGIN:VEVENT
DTSTART;TZID=Europe/Paris:20251005T160000
DTEND;TZID=Europe/Paris:20251005T170000
DTSTAMP:20260421T194246
CREATED:20250908T131731Z
LAST-MODIFIED:20250908T131731Z
UID:9764-1759680000-1759683600@www.mbaa.besancon.fr
SUMMARY:Visite "L'Art de la sculpture"
DESCRIPTION:Découvrez comment\, de tout temps\, les artistes façonnent la réalité à travers des matériaux variés comme la terre cuite\, la pierre et le bois\, alliant technique et imagination. Explorez cette maîtrise unique avec des œuvres d’artistes emblématiques des collections. \nDurée : 1h\nMerci de vous présenter 10 minutes avant l’horaire indiqué.\nSur réservation : https://vosdemarches.grandbesancon.fr/billetterie/mat\nVisites gratuites (hors billet d’entrée\, gratuité le 1er dimanche de chaque mois) \n 
URL:https://www.mbaa.besancon.fr/event/visite-lart-de-la-sculpture/
CATEGORIES:public adulte,Sculpture,visite guidée
END:VEVENT
END:VCALENDAR