BEGIN:VCALENDAR
VERSION:2.0
PRODID:-//musée des beaux-arts et d&#039;archéologie de Besançon - ECPv5.14.2.1//NONSGML v1.0//EN
CALSCALE:GREGORIAN
METHOD:PUBLISH
X-WR-CALNAME:musée des beaux-arts et d&#039;archéologie de Besançon
X-ORIGINAL-URL:https://www.mbaa.besancon.fr
X-WR-CALDESC:évènements pour musée des beaux-arts et d&#039;archéologie de Besançon
BEGIN:VTIMEZONE
TZID:Europe/Paris
BEGIN:DAYLIGHT
TZOFFSETFROM:+0100
TZOFFSETTO:+0200
TZNAME:CEST
DTSTART:20250330T010000
END:DAYLIGHT
BEGIN:STANDARD
TZOFFSETFROM:+0200
TZOFFSETTO:+0100
TZNAME:CET
DTSTART:20251026T010000
END:STANDARD
END:VTIMEZONE
BEGIN:VEVENT
DTSTART;TZID=Europe/Paris:20250810T143000
DTEND;TZID=Europe/Paris:20250810T153000
DTSTAMP:20260421T223918
CREATED:20250606T070409Z
LAST-MODIFIED:20250606T070409Z
UID:9622-1754836200-1754839800@www.mbaa.besancon.fr
SUMMARY:Visite guidée "Over the rainbow"
DESCRIPTION:Visite arc-en-ciel – usages et symboliques des couleurs au cours du temps\nDécouvrez la place des couleurs dans l’histoire de l’art. Longtemps négligée par les historiens\, la couleur\, plus fragile face au temps\, a souvent été supplantée par le dessin. Explorez comment les artistes ont employé les couleurs pour exprimer des émotions\, véhiculer des symboles et transformer les styles\, et comment elles continuent d’influencer notre société aujourd’hui. \nDurée : 1h\nSur inscription : https://vosdemarches.grandbesancon.fr/billetterie/mat\nVisite gratuite (hors billet d’entrée)
URL:https://www.mbaa.besancon.fr/event/visite-guidee-over-the-rainbow/
CATEGORIES:tout public,visite guidée
END:VEVENT
BEGIN:VEVENT
DTSTART;TZID=Europe/Paris:20250810T160000
DTEND;TZID=Europe/Paris:20250810T170000
DTSTAMP:20260421T223918
CREATED:20250512T133305Z
LAST-MODIFIED:20250512T133305Z
UID:9461-1754841600-1754845200@www.mbaa.besancon.fr
SUMMARY:Visite guidée exposition "Chorégraphies"
DESCRIPTION:Venez découvrir les liens surprenants entre danse et dessin dans cette visite immersive et pleine de surprises ! À travers des expériences ludiques\, vous comprendrez comment le dessin a nourri la création chorégraphique\, de Louis XIV à aujourd’hui. Une façon originale de voir\, de comprendre et de ressentir la danse autrement ! \n  \nViste gratuite (hors billet d’entrée) \nSur réservation : https://vosdemarches.grandbesancon.fr/billetterie/mat
URL:https://www.mbaa.besancon.fr/event/visite-guidee-exposition-choregraphies-11/
CATEGORIES:Danse,expo,tout public,visite guidée
END:VEVENT
END:VCALENDAR