BEGIN:VCALENDAR
VERSION:2.0
PRODID:-//musée des beaux-arts et d&#039;archéologie de Besançon - ECPv5.14.2.1//NONSGML v1.0//EN
CALSCALE:GREGORIAN
METHOD:PUBLISH
X-WR-CALNAME:musée des beaux-arts et d&#039;archéologie de Besançon
X-ORIGINAL-URL:https://www.mbaa.besancon.fr
X-WR-CALDESC:évènements pour musée des beaux-arts et d&#039;archéologie de Besançon
BEGIN:VTIMEZONE
TZID:Europe/Paris
BEGIN:DAYLIGHT
TZOFFSETFROM:+0100
TZOFFSETTO:+0200
TZNAME:CEST
DTSTART:20250330T010000
END:DAYLIGHT
BEGIN:STANDARD
TZOFFSETFROM:+0200
TZOFFSETTO:+0100
TZNAME:CET
DTSTART:20251026T010000
END:STANDARD
END:VTIMEZONE
BEGIN:VEVENT
DTSTART;TZID=Europe/Paris:20250614T103000
DTEND;TZID=Europe/Paris:20250719T123000
DTSTAMP:20260422T013511
CREATED:20250514T080835Z
LAST-MODIFIED:20250514T080835Z
UID:9535-1749897000-1752928200@www.mbaa.besancon.fr
SUMMARY:Visite-atelier "Modelage pot néolithique" (7-10 ans)
DESCRIPTION:Du chasseur-cueilleur à l’agriculteur qui modèle ses pots\, il n’y a (presque) qu’un pas\, juste quelques milliers d’années !\nVisite paléo-néolithique et modelage de céramique au colombin\, comme les premiers potiers préhistoriques. \nDurée : 2h \nTarif : 5€ \nSur réservation : https://vosdemarches.grandbesancon.fr/billetterie/mat
URL:https://www.mbaa.besancon.fr/event/visite-atelier-modelage-pot-neolithique-7-10-ans-2/
CATEGORIES:Archéologie,atelier,jeune public,public jeune,visite guidée
END:VEVENT
BEGIN:VEVENT
DTSTART;TZID=Europe/Paris:20250629T103000
DTEND;TZID=Europe/Paris:20250629T113000
DTSTAMP:20260422T013511
CREATED:20250512T130348Z
LAST-MODIFIED:20250512T130348Z
UID:9413-1751193000-1751196600@www.mbaa.besancon.fr
SUMMARY:Visite dansée (famille)
DESCRIPTION:Partez à la découverte de l’exposition Chorégraphies en compagnie d’une médiatrice pour une visite animée et dansante qui enthousiasmera petits et grands. Une parenthèse ludique pour bouger\, ressentir et laisser le corps s’exprimer librement. \nGratuit \nSur réservation : https://vosdemarches.grandbesancon.fr/billetterie/mat
URL:https://www.mbaa.besancon.fr/event/visite-dansee-famille-4/
CATEGORIES:Danse,expo,Famille,visite guidée
END:VEVENT
BEGIN:VEVENT
DTSTART;TZID=Europe/Paris:20250629T143000
DTEND;TZID=Europe/Paris:20250629T153000
DTSTAMP:20260422T013511
CREATED:20250514T084946Z
LAST-MODIFIED:20250514T084946Z
UID:9562-1751207400-1751211000@www.mbaa.besancon.fr
SUMMARY:Visite guidée "Architecture dedans/dehors"
DESCRIPTION:Explorez l’évolution architecturale du musée des beaux-arts et d’archéologie\, de la halle aux grains de 1843 par Pierre Marnotte\, à la structure en béton des années 60 signée Louis Miquel\, jusqu’à la rénovation de 2018 par Adelfo Scaranello. Une visite qui traverse les époques de ce monument de Besançon. \n  \nDurée : 1h \nTarif : Gratuit (hors billet d’entrée) \nSur réservation : https://vosdemarches.grandbesancon.fr/billetterie/mat
URL:https://www.mbaa.besancon.fr/event/visite-guidee-architecture-dedans-dehors/
CATEGORIES:Architecture,tout public,visite guidée
END:VEVENT
BEGIN:VEVENT
DTSTART;TZID=Europe/Paris:20250629T160000
DTEND;TZID=Europe/Paris:20250629T170000
DTSTAMP:20260422T013511
CREATED:20250512T132651Z
LAST-MODIFIED:20250512T132705Z
UID:9446-1751212800-1751216400@www.mbaa.besancon.fr
SUMMARY:Visite guidée exposition "Chorégraphies"
DESCRIPTION:Venez découvrir les liens surprenants entre danse et dessin dans cette visite immersive et pleine de surprises ! À travers des expériences ludiques\, vous comprendrez comment le dessin a nourri la création chorégraphique\, de Louis XIV à aujourd’hui. Une façon originale de voir\, de comprendre et de ressentir la danse autrement ! \n  \nViste gratuite (hors billet d’entrée) \nSur réservation : https://vosdemarches.grandbesancon.fr/billetterie/mat
URL:https://www.mbaa.besancon.fr/event/9446/
CATEGORIES:Danse,expo,tout public,visite guidée
END:VEVENT
BEGIN:VEVENT
DTSTART;TZID=Europe/Paris:20250629T160000
DTEND;TZID=Europe/Paris:20250629T170000
DTSTAMP:20260422T013511
CREATED:20250512T132744Z
LAST-MODIFIED:20250512T132744Z
UID:9449-1751212800-1751216400@www.mbaa.besancon.fr
SUMMARY:Visite guidée exposition "Chorégraphies"
DESCRIPTION:Venez découvrir les liens surprenants entre danse et dessin dans cette visite immersive et pleine de surprises ! À travers des expériences ludiques\, vous comprendrez comment le dessin a nourri la création chorégraphique\, de Louis XIV à aujourd’hui. Une façon originale de voir\, de comprendre et de ressentir la danse autrement ! \n  \nViste gratuite (hors billet d’entrée) \nSur réservation : https://vosdemarches.grandbesancon.fr/billetterie/mat
URL:https://www.mbaa.besancon.fr/event/visite-guidee-exposition-choregraphies-6/
CATEGORIES:Danse,expo,tout public,visite guidée
END:VEVENT
END:VCALENDAR