BEGIN:VCALENDAR
VERSION:2.0
PRODID:-//musée des beaux-arts et d&#039;archéologie de Besançon - ECPv5.14.2.1//NONSGML v1.0//EN
CALSCALE:GREGORIAN
METHOD:PUBLISH
X-WR-CALNAME:musée des beaux-arts et d&#039;archéologie de Besançon
X-ORIGINAL-URL:https://www.mbaa.besancon.fr
X-WR-CALDESC:évènements pour musée des beaux-arts et d&#039;archéologie de Besançon
BEGIN:VTIMEZONE
TZID:Europe/Paris
BEGIN:DAYLIGHT
TZOFFSETFROM:+0100
TZOFFSETTO:+0200
TZNAME:CEST
DTSTART:20250330T010000
END:DAYLIGHT
BEGIN:STANDARD
TZOFFSETFROM:+0200
TZOFFSETTO:+0100
TZNAME:CET
DTSTART:20251026T010000
END:STANDARD
END:VTIMEZONE
BEGIN:VEVENT
DTSTART;TZID=Europe/Paris:20250608T103000
DTEND;TZID=Europe/Paris:20250608T113000
DTSTAMP:20260422T013505
CREATED:20250512T141055Z
LAST-MODIFIED:20250512T141055Z
UID:9495-1749378600-1749382200@www.mbaa.besancon.fr
SUMMARY:Visite éveil (18 mois- 3 ans)
DESCRIPTION:Ici on scrute les animaux dans les tableaux\, avec des bruits\, des comptines\, des histoires\, des marionnettes… Tu peux même amener ton doudou ! \nGratuit \nSur réservation : https://vosdemarches.grandbesancon.fr/billetterie/mat
URL:https://www.mbaa.besancon.fr/event/visite-eveil-18-mois-3-ans-16/
CATEGORIES:éveil,tout-petits,visite guidée
END:VEVENT
BEGIN:VEVENT
DTSTART;TZID=Europe/Paris:20250608T143000
DTEND;TZID=Europe/Paris:20250608T153000
DTSTAMP:20260422T013505
CREATED:20250514T075429Z
LAST-MODIFIED:20250603T133704Z
UID:9529-1749393000-1749396600@www.mbaa.besancon.fr
SUMMARY:ANNULÉE : Visite guidée "Où sont les femmes ?"
DESCRIPTION:Les œuvres du musée vous racontent quelle a été la place des femmes\, notamment des artistes\, dans les sociétés d’hier et d’aujourd’hui. Une visite pour découvrir mais surtout échanger ! \nDurée : 1h \nTarif : Gratuit (hors billet d’entrée) \nSur réservation : https://vosdemarches.grandbesancon.fr/billetterie/mat
URL:https://www.mbaa.besancon.fr/event/visite-guidee-ou-sont-les-femmes/
CATEGORIES:tout public,visite guidée
END:VEVENT
BEGIN:VEVENT
DTSTART;TZID=Europe/Paris:20250608T160000
DTEND;TZID=Europe/Paris:20250608T170000
DTSTAMP:20260422T013505
CREATED:20250512T132426Z
LAST-MODIFIED:20250603T133843Z
UID:9439-1749398400-1749402000@www.mbaa.besancon.fr
SUMMARY:ANNULÉE: Visite guidée exposition "Chorégraphies"
DESCRIPTION:Venez découvrir les liens surprenants entre danse et dessin dans cette visite immersive et pleine de surprises ! À travers des expériences ludiques\, vous comprendrez comment le dessin a nourri la création chorégraphique\, de Louis XIV à aujourd’hui. Une façon originale de voir\, de comprendre et de ressentir la danse autrement ! \n  \nViste gratuite (hors billet d’entrée) \nSur réservation : https://vosdemarches.grandbesancon.fr/billetterie/mat
URL:https://www.mbaa.besancon.fr/event/visite-guidee-exposition-choregraphies-4/
CATEGORIES:Danse,expo,tout public,visite guidée
END:VEVENT
END:VCALENDAR