BEGIN:VCALENDAR
VERSION:2.0
PRODID:-//musée des beaux-arts et d&#039;archéologie de Besançon - ECPv5.14.2.1//NONSGML v1.0//EN
CALSCALE:GREGORIAN
METHOD:PUBLISH
X-WR-CALNAME:musée des beaux-arts et d&#039;archéologie de Besançon
X-ORIGINAL-URL:https://www.mbaa.besancon.fr
X-WR-CALDESC:évènements pour musée des beaux-arts et d&#039;archéologie de Besançon
BEGIN:VTIMEZONE
TZID:Europe/Paris
BEGIN:DAYLIGHT
TZOFFSETFROM:+0100
TZOFFSETTO:+0200
TZNAME:CEST
DTSTART:20250330T010000
END:DAYLIGHT
BEGIN:STANDARD
TZOFFSETFROM:+0200
TZOFFSETTO:+0100
TZNAME:CET
DTSTART:20251026T010000
END:STANDARD
END:VTIMEZONE
BEGIN:VEVENT
DTSTART;TZID=Europe/Paris:20250601T103000
DTEND;TZID=Europe/Paris:20250601T113000
DTSTAMP:20260422T013630
CREATED:20250512T130149Z
LAST-MODIFIED:20250512T130149Z
UID:9409-1748773800-1748777400@www.mbaa.besancon.fr
SUMMARY:Visite dansée (famille)
DESCRIPTION:Partez à la découverte de l’exposition Chorégraphies en compagnie d’une médiatrice pour une visite animée et dansante qui enthousiasmera petits et grands. Une parenthèse ludique pour bouger\, ressentir et laisser le corps s’exprimer librement. \nGratuit \nSur réservation : https://vosdemarches.grandbesancon.fr/billetterie/mat
URL:https://www.mbaa.besancon.fr/event/visite-dansee-famille-2/
CATEGORIES:Danse,expo,Famille,visite guidée
END:VEVENT
BEGIN:VEVENT
DTSTART;TZID=Europe/Paris:20250601T140000
DTEND;TZID=Europe/Paris:20250601T160000
DTSTAMP:20260422T013630
CREATED:20250514T065518Z
LAST-MODIFIED:20250514T065518Z
UID:9517-1748786400-1748793600@www.mbaa.besancon.fr
SUMMARY:Stage "Power-up !" avec la compagnie Labkine (à partir de 7 ans)
DESCRIPTION:Power-up ! est une performance dansée participative\, pour un public familial\, en résonnance avec l’œuvre\, LA MACHINE\, présentée dans l’exposition. Le jour même\, la performance est précédée d’un atelier en mouvement\, pour les danseurs amateurs\, avec 3 danseurs de la compagnie LABKINE et un groupe de 30 amateurs.Durée : 2hTarif : 10€/participantÀ partir de 7 ans. \nSur réservation : https://vosdemarches.grandbesancon.fr/billetterie/reservation/index/id/5128/idcatstr/mbaa/from/mat
URL:https://www.mbaa.besancon.fr/event/stage-power-up-avec-la-compagnie-labkine-a-partir-de-7-ans/
CATEGORIES:Ado,Danse,expo,jeune public,public jeune,Stage,tout public
END:VEVENT
BEGIN:VEVENT
DTSTART;TZID=Europe/Paris:20250601T143000
DTEND;TZID=Europe/Paris:20250601T153000
DTSTAMP:20260422T013630
CREATED:20250514T064646Z
LAST-MODIFIED:20250514T064646Z
UID:9515-1748788200-1748791800@www.mbaa.besancon.fr
SUMMARY:Visite exposition "Chorégraphies" par Pauline Chevalier co-commissaire d'exposition
DESCRIPTION:Venez découvrir les liens surprenants entre danse et dessin dans cette visite immersive et pleine de surprises ! À travers des expériences ludiques\, vous comprendrez comment le dessin a nourri la création chorégraphique\, de Louis XIV à aujourd’hui.\nUne façon originale de voir\, de comprendre et de ressentir la danse autrement ! \nVisite guidée exceptionnelle par la co-commissaire de l’exposition Pauline Chevalier\, maîtresse de conférences en esthétique et histoire de l’art à l’Université Marie et Louis Pasteur et conseillère scientifique à l’Institut national d’histoire de l’art. \n  \nGratuit (hors billet d’entrée) \nSur réservation : https://vosdemarches.grandbesancon.fr/billetterie/mat
URL:https://www.mbaa.besancon.fr/event/visite-exposition-choregraphies-par-pauline-chevalier-co-commissaire-dexposition/
CATEGORIES:art graphique,Danse,expo,tout public,visite guidée
END:VEVENT
BEGIN:VEVENT
DTSTART;TZID=Europe/Paris:20250601T160000
DTEND;TZID=Europe/Paris:20250601T170000
DTSTAMP:20260422T013630
CREATED:20250512T132336Z
LAST-MODIFIED:20250512T132336Z
UID:9437-1748793600-1748797200@www.mbaa.besancon.fr
SUMMARY:Visite guidée exposition "Chorégraphies"
DESCRIPTION:Venez découvrir les liens surprenants entre danse et dessin dans cette visite immersive et pleine de surprises ! À travers des expériences ludiques\, vous comprendrez comment le dessin a nourri la création chorégraphique\, de Louis XIV à aujourd’hui. Une façon originale de voir\, de comprendre et de ressentir la danse autrement ! \n  \nViste gratuite (hors billet d’entrée) \nSur réservation : https://vosdemarches.grandbesancon.fr/billetterie/mat
URL:https://www.mbaa.besancon.fr/event/visite-guidee-exposition-choregraphies-3/
CATEGORIES:Danse,expo,tout public,visite guidée
END:VEVENT
BEGIN:VEVENT
DTSTART;TZID=Europe/Paris:20250601T160000
DTEND;TZID=Europe/Paris:20250601T173000
DTSTAMP:20260422T013630
CREATED:20250514T071505Z
LAST-MODIFIED:20250514T071505Z
UID:9519-1748793600-1748799000@www.mbaa.besancon.fr
SUMMARY:Rencontre "Écrire et dessiner la danse au XXIe siècle" par Dominique Brun et François Chaignaud
DESCRIPTION:Par Dominique Brun\, danseuse\, chorégraphe\, pédagogue et notatrice en système Laban et François Chaignaud\, danseur\, chorégraphe et chanteur. \nGratuit \nSur réservation : https://vosdemarches.grandbesancon.fr/billetterie/mat
URL:https://www.mbaa.besancon.fr/event/rencontre-ecrire-et-dessiner-la-danse-au-xxie-siecle-par-dominique-brun-et-francois-chaignaud/
CATEGORIES:conférence,Danse,expo,public adulte,rencontre
END:VEVENT
END:VCALENDAR