BEGIN:VCALENDAR
VERSION:2.0
PRODID:-//musée des beaux-arts et d&#039;archéologie de Besançon - ECPv5.14.2.1//NONSGML v1.0//EN
CALSCALE:GREGORIAN
METHOD:PUBLISH
X-WR-CALNAME:musée des beaux-arts et d&#039;archéologie de Besançon
X-ORIGINAL-URL:https://www.mbaa.besancon.fr
X-WR-CALDESC:évènements pour musée des beaux-arts et d&#039;archéologie de Besançon
BEGIN:VTIMEZONE
TZID:Europe/Paris
BEGIN:DAYLIGHT
TZOFFSETFROM:+0100
TZOFFSETTO:+0200
TZNAME:CEST
DTSTART:20250330T010000
END:DAYLIGHT
BEGIN:STANDARD
TZOFFSETFROM:+0200
TZOFFSETTO:+0100
TZNAME:CET
DTSTART:20251026T010000
END:STANDARD
END:VTIMEZONE
BEGIN:VEVENT
DTSTART;TZID=Europe/Paris:20250518T103000
DTEND;TZID=Europe/Paris:20250518T113000
DTSTAMP:20260422T030233
CREATED:20250512T130042Z
LAST-MODIFIED:20250512T130042Z
UID:9407-1747564200-1747567800@www.mbaa.besancon.fr
SUMMARY:Visite dansée (famille)
DESCRIPTION:Partez à la découverte de l’exposition Chorégraphies en compagnie d’une médiatrice pour une visite animée et dansante qui enthousiasmera petits et grands. Une parenthèse ludique pour bouger\, ressentir et laisser le corps s’exprimer librement. \nGratuit \nSur réservation : https://vosdemarches.grandbesancon.fr/billetterie/mat
URL:https://www.mbaa.besancon.fr/event/visite-dansee-famille/
CATEGORIES:Danse,expo,Famille,visite guidée
END:VEVENT
BEGIN:VEVENT
DTSTART;TZID=Europe/Paris:20250518T143000
DTEND;TZID=Europe/Paris:20250518T153000
DTSTAMP:20260422T030233
CREATED:20250512T131611Z
LAST-MODIFIED:20250512T131642Z
UID:9427-1747578600-1747582200@www.mbaa.besancon.fr
SUMMARY:Visite "Une ville sous nos pieds"
DESCRIPTION:Visite des collections archéologiques locales. \nExplorez l’histoire de Besançon\, à travers une riche collection archéologique. De la dent de mammouth préhistorique aux mosaïques gallo-romaines\, cette visite vous fera voyager à travers les époques. \n  \nViste gratuite (hors billet d’entrée) \nSur réservation : https://vosdemarches.grandbesancon.fr/billetterie/mat
URL:https://www.mbaa.besancon.fr/event/visite-une-ville-sous-nos-pieds-3/
CATEGORIES:Archéologie,tout public,visite guidée
END:VEVENT
BEGIN:VEVENT
DTSTART;TZID=Europe/Paris:20250518T160000
DTEND;TZID=Europe/Paris:20250518T170000
DTSTAMP:20260422T030233
CREATED:20250512T132139Z
LAST-MODIFIED:20250512T132139Z
UID:9433-1747584000-1747587600@www.mbaa.besancon.fr
SUMMARY:Visite guidée exposition "Chorégraphies"
DESCRIPTION:Venez découvrir les liens surprenants entre danse et dessin dans cette visite immersive et pleine de surprises ! À travers des expériences ludiques\, vous comprendrez comment le dessin a nourri la création chorégraphique\, de Louis XIV à aujourd’hui. Une façon originale de voir\, de comprendre et de ressentir la danse autrement ! \n  \nViste gratuite (hors billet d’entrée) \nSur réservation : https://vosdemarches.grandbesancon.fr/billetterie/mat
URL:https://www.mbaa.besancon.fr/event/visite-guidee-exposition-choregraphies/
CATEGORIES:Danse,expo,tout public,visite guidée
END:VEVENT
END:VCALENDAR