BEGIN:VCALENDAR
VERSION:2.0
PRODID:-//musée des beaux-arts et d&#039;archéologie de Besançon - ECPv5.14.2.1//NONSGML v1.0//EN
CALSCALE:GREGORIAN
METHOD:PUBLISH
X-WR-CALNAME:musée des beaux-arts et d&#039;archéologie de Besançon
X-ORIGINAL-URL:https://www.mbaa.besancon.fr
X-WR-CALDESC:évènements pour musée des beaux-arts et d&#039;archéologie de Besançon
BEGIN:VTIMEZONE
TZID:Europe/Paris
BEGIN:DAYLIGHT
TZOFFSETFROM:+0100
TZOFFSETTO:+0200
TZNAME:CEST
DTSTART:20250330T010000
END:DAYLIGHT
BEGIN:STANDARD
TZOFFSETFROM:+0200
TZOFFSETTO:+0100
TZNAME:CET
DTSTART:20251026T010000
END:STANDARD
END:VTIMEZONE
BEGIN:VEVENT
DTSTART;TZID=Europe/Paris:20250412T100000
DTEND;TZID=Europe/Paris:20250413T180000
DTSTAMP:20260422T043614
CREATED:20241004T135431Z
LAST-MODIFIED:20241004T135431Z
UID:9146-1744452000-1744567200@www.mbaa.besancon.fr
SUMMARY:Pixel Art / Les 12 et 13 avril
DESCRIPTION:Cette année encore\, le musée des beaux-arts et d’archéologie s’associe avec l’association du Pixel Bisontin pour un événement unique dans lequel s’installe un dialogue entre jeux vidéo et œuvres du musée. Au programme : gaming\, let’s play commenté\, concerts\, visites guidées\, ateliers\, conférence autour du jeu vidéo : une expérience ludique pour petit.e.s et grand.e.s. \nTarif : Gratuit
URL:https://www.mbaa.besancon.fr/event/pixel-art-les-12-et-13-avril/
CATEGORIES:Archéologie,Beaux-arts,Famille,jeu,jeune public,Partenariat,tout public
END:VEVENT
BEGIN:VEVENT
DTSTART;TZID=Europe/Paris:20250413T103000
DTEND;TZID=Europe/Paris:20250413T110000
DTSTAMP:20260422T043614
CREATED:20240925T092748Z
LAST-MODIFIED:20240925T092748Z
UID:8973-1744540200-1744542000@www.mbaa.besancon.fr
SUMMARY:Visite Éveil (18 mois-3 ans)
DESCRIPTION:Ici on scrute les animaux dans un ou deux tableaux\, avec des bruits\, des comptines\, des histoires\, des marionnettes… \nDurée : 30 min \nTarif : gratuit \nInscription uniquement réservée aux enfants\, les parents n’ont pas besoin de s’inscrire. Les enfants doivent être obligatoirement accompagnés d’un adulte (deux adultes maximum). \nNous demandons aux enfants d’apporter leur propre doudou (chien\, vache\, mouton\, chèvre\, cochon ou cheval de préférence) ! \nSur réservation : https://vosdemarches.grandbesancon.fr/billetterie/mat
URL:https://www.mbaa.besancon.fr/event/visite-eveil-18-mois-3-ans-13/
CATEGORIES:éveil,tout-petits,visite guidée
END:VEVENT
BEGIN:VEVENT
DTSTART;TZID=Europe/Paris:20250413T143000
DTEND;TZID=Europe/Paris:20250413T153000
DTSTAMP:20260422T043614
CREATED:20241004T132404Z
LAST-MODIFIED:20241004T132404Z
UID:9130-1744554600-1744558200@www.mbaa.besancon.fr
SUMMARY:Visite découverte
DESCRIPTION:Partez à la découverte du musée des beaux-arts et d’archéologie à travers une dizaine d’œuvres incontournables de ses collections. Des vestiges archéologiques\, aux chefs d’œuvres artistiques : laissez-vous guider à travers les époques et les civilisations… \nVisites gratuites (hors billet d’entrée) \nDurée : 1h \nMerci de vous présenter 10 minutes avant l’horaire indiqué. \nSur réservation : https://vosdemarches.grandbesancon.fr/billetterie/mat
URL:https://www.mbaa.besancon.fr/event/visite-decouverte-43/
CATEGORIES:public adulte,visite guidée
END:VEVENT
END:VCALENDAR