BEGIN:VCALENDAR
VERSION:2.0
PRODID:-//musée des beaux-arts et d&#039;archéologie de Besançon - ECPv5.14.2.1//NONSGML v1.0//EN
CALSCALE:GREGORIAN
METHOD:PUBLISH
X-WR-CALNAME:musée des beaux-arts et d&#039;archéologie de Besançon
X-ORIGINAL-URL:https://www.mbaa.besancon.fr
X-WR-CALDESC:évènements pour musée des beaux-arts et d&#039;archéologie de Besançon
BEGIN:VTIMEZONE
TZID:Europe/Paris
BEGIN:DAYLIGHT
TZOFFSETFROM:+0100
TZOFFSETTO:+0200
TZNAME:CEST
DTSTART:20250330T010000
END:DAYLIGHT
BEGIN:STANDARD
TZOFFSETFROM:+0200
TZOFFSETTO:+0100
TZNAME:CET
DTSTART:20251026T010000
END:STANDARD
END:VTIMEZONE
BEGIN:VEVENT
DTSTART;TZID=Europe/Paris:20250323T143000
DTEND;TZID=Europe/Paris:20250323T153000
DTSTAMP:20260422T061122
CREATED:20241004T132241Z
LAST-MODIFIED:20241004T132241Z
UID:9124-1742740200-1742743800@www.mbaa.besancon.fr
SUMMARY:Visite découverte
DESCRIPTION:Partez à la découverte du musée des beaux-arts et d’archéologie à travers une dizaine d’œuvres incontournables de ses collections. Des vestiges archéologiques\, aux chefs d’œuvres artistiques : laissez-vous guider à travers les époques et les civilisations… \nVisites gratuites (hors billet d’entrée) \nDurée : 1h \nMerci de vous présenter 10 minutes avant l’horaire indiqué. \nSur réservation : https://vosdemarches.grandbesancon.fr/billetterie/mat
URL:https://www.mbaa.besancon.fr/event/visite-decouverte-40/
CATEGORIES:public adulte,visite guidée
END:VEVENT
BEGIN:VEVENT
DTSTART;TZID=Europe/Paris:20250323T160000
DTEND;TZID=Europe/Paris:20250323T170000
DTSTAMP:20260422T061122
CREATED:20241004T121252Z
LAST-MODIFIED:20241004T121252Z
UID:9064-1742745600-1742749200@www.mbaa.besancon.fr
SUMMARY:Visite "Visages de femmes"
DESCRIPTION:Plongez dans une exploration fascinante des rôles et des images féminines qui ont marqué l’histoire de l’art. De la muse inspiratrice à la figure sacrée\, en passant par la Méduse puissante\, découvrez comment ces représentations ont évolué et influencé les créations artistiques à travers les siècles. \nDurée : 1h \nTarif : gratuit (hors billet d’entrée) \nSur réservation : https://vosdemarches.grandbesancon.fr/billetterie/mat
URL:https://www.mbaa.besancon.fr/event/visite-visages-de-femmes-2/
CATEGORIES:Beaux-arts,Histoire de l'art,public adulte,visite guidée
END:VEVENT
END:VCALENDAR