BEGIN:VCALENDAR
VERSION:2.0
PRODID:-//musée des beaux-arts et d&#039;archéologie de Besançon - ECPv5.14.2.1//NONSGML v1.0//EN
CALSCALE:GREGORIAN
METHOD:PUBLISH
X-WR-CALNAME:musée des beaux-arts et d&#039;archéologie de Besançon
X-ORIGINAL-URL:https://www.mbaa.besancon.fr
X-WR-CALDESC:évènements pour musée des beaux-arts et d&#039;archéologie de Besançon
BEGIN:VTIMEZONE
TZID:Europe/Paris
BEGIN:DAYLIGHT
TZOFFSETFROM:+0100
TZOFFSETTO:+0200
TZNAME:CEST
DTSTART:20250330T010000
END:DAYLIGHT
BEGIN:STANDARD
TZOFFSETFROM:+0200
TZOFFSETTO:+0100
TZNAME:CET
DTSTART:20251026T010000
END:STANDARD
END:VTIMEZONE
BEGIN:VEVENT
DTSTART;TZID=Europe/Paris:20250315T100000
DTEND;TZID=Europe/Paris:20250315T120000
DTSTAMP:20260422T061242
CREATED:20241004T133229Z
LAST-MODIFIED:20241004T133229Z
UID:9140-1742032800-1742040000@www.mbaa.besancon.fr
SUMMARY:Matinée Bien-être au musée
DESCRIPTION:Nos musées s’affirment aussi comme des lieux de bien-être\, où l’on se sent bien et où l’on souhaite passer du temps\, ralentir le temps. Ces activités permettent de redéfinir le musée en tant qu’espace public où le bien-être et l’exercice physique trouvent leur place dans un cadre unique. Offrez-vous une visite du musée dans un état de relaxation\, modifiant ainsi votre perception des œuvres. Un samedi par mois\, en alternance entre le MBAA et le MDT\, venez tester une séance de yoga\, de sophrologie ou des bains sonores pour commencer votre journée dans un état de sérénité et explorez le musée sous un angle inédit. \n  \nTarif : 10€/personne \nProgramme complet des séances à découvrir sur la plateforme de réservations des MAT. \nMerci de vous présenter 10 minutes avant l’horaire indiqué. \nSur réservation : https://vosdemarches.grandbesancon.fr/billetterie/mat
URL:https://www.mbaa.besancon.fr/event/matinee-bien-etre-au-musee-3/
CATEGORIES:Bien-être,Partenariat,public adulte,Yoga / Méditation
END:VEVENT
BEGIN:VEVENT
DTSTART;TZID=Europe/Paris:20250315T143000
DTEND;TZID=Europe/Paris:20250315T160000
DTSTAMP:20260422T061242
CREATED:20240925T085942Z
LAST-MODIFIED:20240925T085942Z
UID:8937-1742049000-1742054400@www.mbaa.besancon.fr
SUMMARY:Atelier "Moulage Méduse" (3-6 ans)
DESCRIPTION:Méduse\, la Vouivre\, Hercule ou Œdipe\, découvre à travers les œuvres du Musée les mythes antiques\, les légendes\, les héros et les monstres qui les peuplent\,  puis fabrique ta tête de méduse en argile. \nDurée : 1h30 \nTarif : 5€/enfant \nRéservation sur : https://vosdemarches.grandbesancon.fr/billetterie/mat
URL:https://www.mbaa.besancon.fr/event/atelier-moulage-meduse-3-6-ans-8/
CATEGORIES:Archéologie,atelier,jeune public,visite guidée
END:VEVENT
END:VCALENDAR