BEGIN:VCALENDAR
VERSION:2.0
PRODID:-//musée des beaux-arts et d&#039;archéologie de Besançon - ECPv5.14.2.1//NONSGML v1.0//EN
CALSCALE:GREGORIAN
METHOD:PUBLISH
X-WR-CALNAME:musée des beaux-arts et d&#039;archéologie de Besançon
X-ORIGINAL-URL:https://www.mbaa.besancon.fr
X-WR-CALDESC:évènements pour musée des beaux-arts et d&#039;archéologie de Besançon
BEGIN:VTIMEZONE
TZID:Europe/Paris
BEGIN:DAYLIGHT
TZOFFSETFROM:+0100
TZOFFSETTO:+0200
TZNAME:CEST
DTSTART:20250330T010000
END:DAYLIGHT
BEGIN:STANDARD
TZOFFSETFROM:+0200
TZOFFSETTO:+0100
TZNAME:CET
DTSTART:20251026T010000
END:STANDARD
END:VTIMEZONE
BEGIN:VEVENT
DTSTART;TZID=Europe/Paris:20250216T143000
DTEND;TZID=Europe/Paris:20250216T153000
DTSTAMP:20260422T074749
CREATED:20241004T131730Z
LAST-MODIFIED:20241004T131730Z
UID:9114-1739716200-1739719800@www.mbaa.besancon.fr
SUMMARY:Visite découverte
DESCRIPTION:Partez à la découverte du musée des beaux-arts et d’archéologie à travers une dizaine d’œuvres incontournables de ses collections. Des vestiges archéologiques\, aux chefs d’œuvres artistiques : laissez-vous guider à travers les époques et les civilisations… \nVisites gratuites (hors billet d’entrée) \nDurée : 1h \nMerci de vous présenter 10 minutes avant l’horaire indiqué. \nSur réservation : https://vosdemarches.grandbesancon.fr/billetterie/mat
URL:https://www.mbaa.besancon.fr/event/visite-decouverte-35/
CATEGORIES:public adulte,visite guidée
END:VEVENT
BEGIN:VEVENT
DTSTART;TZID=Europe/Paris:20250216T160000
DTEND;TZID=Europe/Paris:20250216T170000
DTSTAMP:20260422T074749
CREATED:20241004T084926Z
LAST-MODIFIED:20241004T084926Z
UID:9042-1739721600-1739725200@www.mbaa.besancon.fr
SUMMARY:Visite "Modeler le réel"
DESCRIPTION:Découvrez comment\, de tout temps\, les artistes façonnent la réalité à travers des matériaux variés comme la terre cuite\, la pierre et le bois\, alliant technique et imagination. Explorez cette maîtrise unique avec des œuvres d’artistes emblématiques des collections\, tels que Rodin ou Luc Breton. \nDurée : 1h \nTarif : gratuit (hors billet d’entrée) \nSur réservation : https://vosdemarches.grandbesancon.fr/billetterie/mat
URL:https://www.mbaa.besancon.fr/event/visite-modeler-le-reel/
CATEGORIES:Beaux-arts,public adulte,Sculpture,visite guidée
END:VEVENT
END:VCALENDAR