BEGIN:VCALENDAR
VERSION:2.0
PRODID:-//musée des beaux-arts et d&#039;archéologie de Besançon - ECPv5.14.2.1//NONSGML v1.0//EN
CALSCALE:GREGORIAN
METHOD:PUBLISH
X-WR-CALNAME:musée des beaux-arts et d&#039;archéologie de Besançon
X-ORIGINAL-URL:https://www.mbaa.besancon.fr
X-WR-CALDESC:évènements pour musée des beaux-arts et d&#039;archéologie de Besançon
BEGIN:VTIMEZONE
TZID:Europe/Paris
BEGIN:DAYLIGHT
TZOFFSETFROM:+0100
TZOFFSETTO:+0200
TZNAME:CEST
DTSTART:20250330T010000
END:DAYLIGHT
BEGIN:STANDARD
TZOFFSETFROM:+0200
TZOFFSETTO:+0100
TZNAME:CET
DTSTART:20251026T010000
END:STANDARD
END:VTIMEZONE
BEGIN:VEVENT
DTSTART;TZID=Europe/Paris:20250215T143000
DTEND;TZID=Europe/Paris:20250215T160000
DTSTAMP:20260422T074758
CREATED:20240925T085837Z
LAST-MODIFIED:20240925T085837Z
UID:8935-1739629800-1739635200@www.mbaa.besancon.fr
SUMMARY:Atelier "Moulage Méduse" (3-6 ans)
DESCRIPTION:Méduse\, la Vouivre\, Hercule ou Œdipe\, découvre à travers les œuvres du Musée les mythes antiques\, les légendes\, les héros et les monstres qui les peuplent\,  puis fabrique ta tête de méduse en argile. \nDurée : 1h30 \nTarif : 5€/enfant \nRéservation sur : https://vosdemarches.grandbesancon.fr/billetterie/mat
URL:https://www.mbaa.besancon.fr/event/atelier-moulage-meduse-3-6-ans-7/
CATEGORIES:Archéologie,atelier,jeune public,visite guidée
END:VEVENT
BEGIN:VEVENT
DTSTART;TZID=Europe/Paris:20250215T143000
DTEND;TZID=Europe/Paris:20250215T160000
DTSTAMP:20260422T074758
CREATED:20241004T124039Z
LAST-MODIFIED:20241004T124039Z
UID:9074-1739629800-1739635200@www.mbaa.besancon.fr
SUMMARY:Visite adaptée "Amour et érotisme" (handicap visuel)
DESCRIPTION:Découverte des histoires d’amour des œuvres\, en suivant le médiateur\, formé à l’audiodescription. \nEn partenariat avec l’Association Valentin Haüy (AVH) Doubs. \nDurée : 1h30 \n  \nInformation et réservation obligatoire : \nMiléna Buguet \nRéférente accessibilité \nmilena.buguet@besancon.fr \n03 81 41 57 86
URL:https://www.mbaa.besancon.fr/event/visite-adaptee-amour-et-erotisme-handicap-visuel/
CATEGORIES:Beaux-arts,handicap,Partenariat,public adulte,visite guidée
END:VEVENT
END:VCALENDAR