BEGIN:VCALENDAR
VERSION:2.0
PRODID:-//musée des beaux-arts et d&#039;archéologie de Besançon - ECPv5.14.2.1//NONSGML v1.0//EN
CALSCALE:GREGORIAN
METHOD:PUBLISH
X-WR-CALNAME:musée des beaux-arts et d&#039;archéologie de Besançon
X-ORIGINAL-URL:https://www.mbaa.besancon.fr
X-WR-CALDESC:évènements pour musée des beaux-arts et d&#039;archéologie de Besançon
BEGIN:VTIMEZONE
TZID:Europe/Paris
BEGIN:DAYLIGHT
TZOFFSETFROM:+0100
TZOFFSETTO:+0200
TZNAME:CEST
DTSTART:20250330T010000
END:DAYLIGHT
BEGIN:STANDARD
TZOFFSETFROM:+0200
TZOFFSETTO:+0100
TZNAME:CET
DTSTART:20251026T010000
END:STANDARD
END:VTIMEZONE
BEGIN:VEVENT
DTSTART;TZID=Europe/Paris:20250202T103000
DTEND;TZID=Europe/Paris:20250202T113000
DTSTAMP:20260422T074922
CREATED:20240925T071436Z
LAST-MODIFIED:20240925T071436Z
UID:8863-1738492200-1738495800@www.mbaa.besancon.fr
SUMMARY:Visite famille
DESCRIPTION:Un musée\, qu’est-ce que c’est\, qu’est-ce qu’on trouve dedans ? Une sculpture\, une mosaïque\, c’est fait comment ? Autour d’une sélection d’œuvres\, découverte des expositions permanentes ou temporaires en compagnie d’un médiateur. Visite destinée au jeune public accompagné de leurs parents\, grands-parents… \nDurée : 1h \nTarif : gratuit (hors tarif entrée musée) \nInscription obligatoire pour tous les membres de la famille. \n  \nSur inscription : https://vosdemarches.grandbesancon.fr/billetterie/mat
URL:https://www.mbaa.besancon.fr/event/visite-famille-58/
CATEGORIES:Famille,visite guidée
END:VEVENT
BEGIN:VEVENT
DTSTART;TZID=Europe/Paris:20250202T143000
DTEND;TZID=Europe/Paris:20250202T153000
DTSTAMP:20260422T074922
CREATED:20241004T131531Z
LAST-MODIFIED:20241004T131531Z
UID:9110-1738506600-1738510200@www.mbaa.besancon.fr
SUMMARY:Visite découverte
DESCRIPTION:Partez à la découverte du musée des beaux-arts et d’archéologie à travers une dizaine d’œuvres incontournables de ses collections. Des vestiges archéologiques\, aux chefs d’œuvres artistiques : laissez-vous guider à travers les époques et les civilisations… \nVisites gratuites (hors billet d’entrée) \nDurée : 1h \nMerci de vous présenter 10 minutes avant l’horaire indiqué. \nSur réservation : https://vosdemarches.grandbesancon.fr/billetterie/mat
URL:https://www.mbaa.besancon.fr/event/visite-decouverte-33/
CATEGORIES:public adulte,visite guidée
END:VEVENT
BEGIN:VEVENT
DTSTART;TZID=Europe/Paris:20250202T160000
DTEND;TZID=Europe/Paris:20250202T170000
DTSTAMP:20260422T074922
CREATED:20241004T144526Z
LAST-MODIFIED:20241004T144526Z
UID:9152-1738512000-1738515600@www.mbaa.besancon.fr
SUMMARY:Visite "Architecture dedans-dehors"
DESCRIPTION:Explorez l’évolution architecturale du musée des Beaux-Arts et d’Archéologie\, de la halle aux grains de 1843 par Pierre Marnotte\, à la structure en béton des années 60 signée Louis Miquel\, jusqu’à la rénovation de 2018 par Adelfo Scaranello. Une visite qui traverse les époques de ce monument de Besançon. \nDurée : 1h \nTarif : gratuit (hors billet d’entrée) \nSur réservation : https://vosdemarches.grandbesancon.fr/billetterie/mat
URL:https://www.mbaa.besancon.fr/event/visite-architecture-dedans-dehors/
CATEGORIES:Architecture,public adulte,visite guidée
END:VEVENT
END:VCALENDAR