BEGIN:VCALENDAR
VERSION:2.0
PRODID:-//musée des beaux-arts et d&#039;archéologie de Besançon - ECPv5.14.2.1//NONSGML v1.0//EN
CALSCALE:GREGORIAN
METHOD:PUBLISH
X-WR-CALNAME:musée des beaux-arts et d&#039;archéologie de Besançon
X-ORIGINAL-URL:https://www.mbaa.besancon.fr
X-WR-CALDESC:évènements pour musée des beaux-arts et d&#039;archéologie de Besançon
BEGIN:VTIMEZONE
TZID:Europe/Paris
BEGIN:DAYLIGHT
TZOFFSETFROM:+0100
TZOFFSETTO:+0200
TZNAME:CEST
DTSTART:20250330T010000
END:DAYLIGHT
BEGIN:STANDARD
TZOFFSETFROM:+0200
TZOFFSETTO:+0100
TZNAME:CET
DTSTART:20251026T010000
END:STANDARD
END:VTIMEZONE
BEGIN:VEVENT
DTSTART;TZID=Europe/Paris:20250118T100000
DTEND;TZID=Europe/Paris:20250119T180000
DTSTAMP:20260422T092247
CREATED:20241004T135156Z
LAST-MODIFIED:20241004T135156Z
UID:9144-1737194400-1737309600@www.mbaa.besancon.fr
SUMMARY:festival "Drôlement bien"
DESCRIPTION:Pour sa 3e édition\, Drôlement Bien vous prépare une programmation toujours plus ambitieuse et toujours sous le signe de la convivialité et du partage. En famille ou entre amis\, venez-vous a-musée ! Au programme : ateliers enfants\, visites sensorielles\, visites guidées du Cabinet des arts graphiques et ateliers caricatures avec le dessinateur de presse Rodho. \nLes samedi 18 et dimanche 19 janvier \nInformations et réservations sur : http://drolementbien.fr
URL:https://www.mbaa.besancon.fr/event/festival-drolement-bien-2/
CATEGORIES:Partenariat,tout public
END:VEVENT
BEGIN:VEVENT
DTSTART;TZID=Europe/Paris:20250119T103000
DTEND;TZID=Europe/Paris:20250119T120000
DTSTAMP:20260422T092247
CREATED:20240925T085716Z
LAST-MODIFIED:20240925T085716Z
UID:8933-1737282600-1737288000@www.mbaa.besancon.fr
SUMMARY:Atelier "Moulage Méduse" (3-6 ans)
DESCRIPTION:Méduse\, la Vouivre\, Hercule ou Œdipe\, découvre à travers les œuvres du Musée les mythes antiques\, les légendes\, les héros et les monstres qui les peuplent\,  puis fabrique ta tête de méduse en argile. \nDurée : 1h30 \nTarif : 5€/enfant \nRéservation sur : https://vosdemarches.grandbesancon.fr/billetterie/mat
URL:https://www.mbaa.besancon.fr/event/atelier-moulage-meduse-3-6-ans-6/
CATEGORIES:Archéologie,atelier,jeune public,visite guidée
END:VEVENT
BEGIN:VEVENT
DTSTART;TZID=Europe/Paris:20250119T140000
DTEND;TZID=Europe/Paris:20250119T160000
DTSTAMP:20260422T092247
CREATED:20240925T074301Z
LAST-MODIFIED:20240925T074301Z
UID:8889-1737295200-1737302400@www.mbaa.besancon.fr
SUMMARY:Atelier "Modelage lampe à huile" (7-10 ans)
DESCRIPTION:En parcourant le secteur archéologique du Musée\, à travers des éléments de décors et des objets\, de la cuisine à la chambre\, plonge dans la vie quotidienne des  gallo-romains. Puis viens créer ta propre lampe à huile en argile\, afin de décorer ta maison. \nDurée : 2h \nTarif : 5€/enfant \nLes enfants âgés de 7 à 10 ans participant aux ateliers ne doivent pas être accompagnés. \n  \nRéservation sur : https://vosdemarches.grandbesancon.fr/billetterie/mat
URL:https://www.mbaa.besancon.fr/event/atelier-modelage-lampe-a-huile-7-10-ans-3/
CATEGORIES:Archéologie,atelier,jeune public,médiation,public jeune,visite guidée
END:VEVENT
BEGIN:VEVENT
DTSTART;TZID=Europe/Paris:20250119T143000
DTEND;TZID=Europe/Paris:20250119T153000
DTSTAMP:20260422T092247
CREATED:20241004T131235Z
LAST-MODIFIED:20241004T131235Z
UID:9106-1737297000-1737300600@www.mbaa.besancon.fr
SUMMARY:Visite découverte
DESCRIPTION:Partez à la découverte du musée des beaux-arts et d’archéologie à travers une dizaine d’œuvres incontournables de ses collections. Des vestiges archéologiques\, aux chefs d’œuvres artistiques : laissez-vous guider à travers les époques et les civilisations… \nVisites gratuites (hors billet d’entrée) \nDurée : 1h \nMerci de vous présenter 10 minutes avant l’horaire indiqué. \nSur réservation : https://vosdemarches.grandbesancon.fr/billetterie/mat
URL:https://www.mbaa.besancon.fr/event/visite-decouverte-31/
CATEGORIES:public adulte,visite guidée
END:VEVENT
BEGIN:VEVENT
DTSTART;TZID=Europe/Paris:20250119T150000
DTEND;TZID=Europe/Paris:20250119T160000
DTSTAMP:20260422T092247
CREATED:20241004T121028Z
LAST-MODIFIED:20241004T121028Z
UID:9060-1737298800-1737302400@www.mbaa.besancon.fr
SUMMARY:Visite bavarde
DESCRIPTION:Qui a dit que le guide est le seul détenteur du savoir ? Tout le monde peut s’exprimer face aux tableaux : novices\, timides\, désinvoltes\, bavards\, facétieux\, paresseux ! Avoir une discussion orientée tous ensemble peut donner les clés de compréhension d’une œuvre. Venez tailler une bavette au musée\, autour d’une petite sélection de tableaux sur les émotions ! Un moment convivial et participatif. \nDurée : 1h \nTarif : gratuit \nSur réservation : https://vosdemarches.grandbesancon.fr/billetterie/mat
URL:https://www.mbaa.besancon.fr/event/visite-bavarde/
CATEGORIES:Echange,public adulte,visite guidée
END:VEVENT
END:VCALENDAR