BEGIN:VCALENDAR
VERSION:2.0
PRODID:-//musée des beaux-arts et d&#039;archéologie de Besançon - ECPv5.14.2.1//NONSGML v1.0//EN
CALSCALE:GREGORIAN
METHOD:PUBLISH
X-WR-CALNAME:musée des beaux-arts et d&#039;archéologie de Besançon
X-ORIGINAL-URL:https://www.mbaa.besancon.fr
X-WR-CALDESC:évènements pour musée des beaux-arts et d&#039;archéologie de Besançon
BEGIN:VTIMEZONE
TZID:Europe/Paris
BEGIN:DAYLIGHT
TZOFFSETFROM:+0100
TZOFFSETTO:+0200
TZNAME:CEST
DTSTART:20250330T010000
END:DAYLIGHT
BEGIN:STANDARD
TZOFFSETFROM:+0200
TZOFFSETTO:+0100
TZNAME:CET
DTSTART:20251026T010000
END:STANDARD
END:VTIMEZONE
BEGIN:VEVENT
DTSTART;TZID=Europe/Paris:20250112T103000
DTEND;TZID=Europe/Paris:20250112T110000
DTSTAMP:20260422T091257
CREATED:20240925T092528Z
LAST-MODIFIED:20240925T092528Z
UID:8967-1736677800-1736679600@www.mbaa.besancon.fr
SUMMARY:Visite Éveil (18 mois-3 ans)
DESCRIPTION:Ici on scrute les animaux dans un ou deux tableaux\, avec des bruits\, des comptines\, des histoires\, des marionnettes… \nDurée : 30 min \nTarif : gratuit \nInscription uniquement réservée aux enfants\, les parents n’ont pas besoin de s’inscrire. Les enfants doivent être obligatoirement accompagnés d’un adulte (deux adultes maximum). \nNous demandons aux enfants d’apporter leur propre doudou (chien\, vache\, mouton\, chèvre\, cochon ou cheval de préférence) ! \nSur réservation : https://vosdemarches.grandbesancon.fr/billetterie/mat
URL:https://www.mbaa.besancon.fr/event/visite-eveil-18-mois-3-ans-10/
CATEGORIES:éveil,tout-petits,visite guidée
END:VEVENT
BEGIN:VEVENT
DTSTART;TZID=Europe/Paris:20250112T143000
DTEND;TZID=Europe/Paris:20250112T153000
DTSTAMP:20260422T091257
CREATED:20241004T131144Z
LAST-MODIFIED:20241004T131144Z
UID:9104-1736692200-1736695800@www.mbaa.besancon.fr
SUMMARY:Visite découverte
DESCRIPTION:Partez à la découverte du musée des beaux-arts et d’archéologie à travers une dizaine d’œuvres incontournables de ses collections. Des vestiges archéologiques\, aux chefs d’œuvres artistiques : laissez-vous guider à travers les époques et les civilisations… \nVisites gratuites (hors billet d’entrée) \nDurée : 1h \nMerci de vous présenter 10 minutes avant l’horaire indiqué. \nSur réservation : https://vosdemarches.grandbesancon.fr/billetterie/mat
URL:https://www.mbaa.besancon.fr/event/visite-decouverte-30/
CATEGORIES:public adulte,visite guidée
END:VEVENT
BEGIN:VEVENT
DTSTART;TZID=Europe/Paris:20250112T160000
DTEND;TZID=Europe/Paris:20250112T170000
DTSTAMP:20260422T091257
CREATED:20241004T082249Z
LAST-MODIFIED:20241004T082249Z
UID:9016-1736697600-1736701200@www.mbaa.besancon.fr
SUMMARY:Visite "Courbet sans courbettes"
DESCRIPTION:Explorez la vie et l’œuvre du célèbre peintre franc-comtois à travers une sélection exceptionnelle de ses créations. Ne manquez pas cette occasion unique de comprendre la vision audacieuse de Courbet et son impact sur l’art. \nVisites gratuites (hors billet d’entrée) \nDurée : 1h \nMerci de vous présenter 10 minutes avant l’horaire indiqué. \nSur réservation : https://vosdemarches.grandbesancon.fr/billetterie/mat
URL:https://www.mbaa.besancon.fr/event/visite-courbet-sans-courbettes-2/
CATEGORIES:Beaux-arts,public adulte,visite guidée
END:VEVENT
END:VCALENDAR