BEGIN:VCALENDAR
VERSION:2.0
PRODID:-//musée des beaux-arts et d&#039;archéologie de Besançon - ECPv5.14.2.1//NONSGML v1.0//EN
CALSCALE:GREGORIAN
METHOD:PUBLISH
X-WR-CALNAME:musée des beaux-arts et d&#039;archéologie de Besançon
X-ORIGINAL-URL:https://www.mbaa.besancon.fr
X-WR-CALDESC:évènements pour musée des beaux-arts et d&#039;archéologie de Besançon
BEGIN:VTIMEZONE
TZID:Europe/Paris
BEGIN:DAYLIGHT
TZOFFSETFROM:+0100
TZOFFSETTO:+0200
TZNAME:CEST
DTSTART:20240331T010000
END:DAYLIGHT
BEGIN:STANDARD
TZOFFSETFROM:+0200
TZOFFSETTO:+0100
TZNAME:CET
DTSTART:20241027T010000
END:STANDARD
END:VTIMEZONE
BEGIN:VEVENT
DTSTART;TZID=Europe/Paris:20241222T143000
DTEND;TZID=Europe/Paris:20241222T153000
DTSTAMP:20260422T105042
CREATED:20241004T130550Z
LAST-MODIFIED:20241004T130550Z
UID:9098-1734877800-1734881400@www.mbaa.besancon.fr
SUMMARY:Visite découverte
DESCRIPTION:Partez à la découverte du musée des beaux-arts et d’archéologie à travers une dizaine d’œuvres incontournables de ses collections. Des vestiges archéologiques\, aux chefs d’œuvres artistiques : laissez-vous guider à travers les époques et les civilisations… \nVisites gratuites (hors billet d’entrée) \nDurée : 1h \nMerci de vous présenter 10 minutes avant l’horaire indiqué. \nSur réservation : https://vosdemarches.grandbesancon.fr/billetterie/mat
URL:https://www.mbaa.besancon.fr/event/visite-decouverte-27/
CATEGORIES:public adulte,visite guidée
END:VEVENT
BEGIN:VEVENT
DTSTART;TZID=Europe/Paris:20241222T160000
DTEND;TZID=Europe/Paris:20241222T170000
DTSTAMP:20260422T105042
CREATED:20241004T084424Z
LAST-MODIFIED:20241004T084424Z
UID:9034-1734883200-1734886800@www.mbaa.besancon.fr
SUMMARY:Visite "Cabinet des Arts graphiques"
DESCRIPTION:Entrez exceptionnellement dans le Cabinet des Arts Graphiques\, la seule réserve interne du musée\, où sont précieusement conservés dessins\, estampes et photographies. Explorez tous ses secrets : son architecture unique\, ses décors raffinés et les œuvres exceptionnelles qu’il renferme. \nDurée : 1h \nTarif : gratuit \nSur réservation : https://vosdemarches.grandbesancon.fr/billetterie/mat
URL:https://www.mbaa.besancon.fr/event/visite-cabinet-des-arts-graphiques-2/
CATEGORIES:art graphique,public adulte,visite guidée
END:VEVENT
END:VCALENDAR