BEGIN:VCALENDAR
VERSION:2.0
PRODID:-//musée des beaux-arts et d&#039;archéologie de Besançon - ECPv5.14.2.1//NONSGML v1.0//EN
CALSCALE:GREGORIAN
METHOD:PUBLISH
X-WR-CALNAME:musée des beaux-arts et d&#039;archéologie de Besançon
X-ORIGINAL-URL:https://www.mbaa.besancon.fr
X-WR-CALDESC:évènements pour musée des beaux-arts et d&#039;archéologie de Besançon
BEGIN:VTIMEZONE
TZID:Europe/Paris
BEGIN:DAYLIGHT
TZOFFSETFROM:+0100
TZOFFSETTO:+0200
TZNAME:CEST
DTSTART:20240331T010000
END:DAYLIGHT
BEGIN:STANDARD
TZOFFSETFROM:+0200
TZOFFSETTO:+0100
TZNAME:CET
DTSTART:20241027T010000
END:STANDARD
END:VTIMEZONE
BEGIN:VEVENT
DTSTART;TZID=Europe/Paris:20241215T143000
DTEND;TZID=Europe/Paris:20241215T153000
DTSTAMP:20260422T105115
CREATED:20241004T130523Z
LAST-MODIFIED:20241004T130523Z
UID:9096-1734273000-1734276600@www.mbaa.besancon.fr
SUMMARY:Visite découverte
DESCRIPTION:Partez à la découverte du musée des beaux-arts et d’archéologie à travers une dizaine d’œuvres incontournables de ses collections. Des vestiges archéologiques\, aux chefs d’œuvres artistiques : laissez-vous guider à travers les époques et les civilisations… \nVisites gratuites (hors billet d’entrée) \nDurée : 1h \nMerci de vous présenter 10 minutes avant l’horaire indiqué. \nSur réservation : https://vosdemarches.grandbesancon.fr/billetterie/mat
URL:https://www.mbaa.besancon.fr/event/visite-decouverte-26/
CATEGORIES:public adulte,visite guidée
END:VEVENT
BEGIN:VEVENT
DTSTART;TZID=Europe/Paris:20241215T160000
DTEND;TZID=Europe/Paris:20241215T170000
DTSTAMP:20260422T105115
CREATED:20241004T120823Z
LAST-MODIFIED:20241004T120823Z
UID:9058-1734278400-1734282000@www.mbaa.besancon.fr
SUMMARY:Visite "Usages et symboliques des couleurs"
DESCRIPTION:Découvrez la place des couleurs dans l’histoire de l’art lors d’une visite captivante ! Longtemps négligée par les historiens\, la couleur\, plus fragile face au temps\, a souvent été supplantée par le dessin. Depuis le XVIe siècle\, la transmission des modèles se faisait principalement en noir et blanc. Explorez comment les artistes ont employé les couleurs pour exprimer des émotions\, véhiculer des symboles et transformer les styles\, et comment elles continuent d’influencer notre société aujourd’hui. \nDurée : 1h \nTarif : gratuit (hors billet d’entrée) \nSur réservation : https://vosdemarches.grandbesancon.fr/billetterie/mat
URL:https://www.mbaa.besancon.fr/event/visite-usages-et-symboliques-des-couleurs-2/
CATEGORIES:Beaux-arts,public adulte,visite guidée
END:VEVENT
END:VCALENDAR