BEGIN:VCALENDAR
VERSION:2.0
PRODID:-//musée des beaux-arts et d&#039;archéologie de Besançon - ECPv5.14.2.1//NONSGML v1.0//EN
CALSCALE:GREGORIAN
METHOD:PUBLISH
X-WR-CALNAME:musée des beaux-arts et d&#039;archéologie de Besançon
X-ORIGINAL-URL:https://www.mbaa.besancon.fr
X-WR-CALDESC:évènements pour musée des beaux-arts et d&#039;archéologie de Besançon
BEGIN:VTIMEZONE
TZID:Europe/Paris
BEGIN:DAYLIGHT
TZOFFSETFROM:+0100
TZOFFSETTO:+0200
TZNAME:CEST
DTSTART:20240331T010000
END:DAYLIGHT
BEGIN:STANDARD
TZOFFSETFROM:+0200
TZOFFSETTO:+0100
TZNAME:CET
DTSTART:20241027T010000
END:STANDARD
END:VTIMEZONE
BEGIN:VEVENT
DTSTART;TZID=Europe/Paris:20241124T103000
DTEND;TZID=Europe/Paris:20241124T110000
DTSTAMP:20260422T121934
CREATED:20241122T084527Z
LAST-MODIFIED:20241122T085225Z
UID:9211-1732444200-1732446000@www.mbaa.besancon.fr
SUMMARY:Visite Éveil (18 mois-3 ans)
DESCRIPTION:Ici on scrute les animaux dans un ou deux tableaux\, avec des bruits\, des comptines\, des histoires\, des marionnettes… \nDurée : 30 min \nTarif : gratuit \nInscription uniquement réservée aux enfants\, les parents n’ont pas besoin de s’inscrire. Les enfants doivent être obligatoirement accompagnés d’un adulte (deux adultes maximum). \nNous demandons aux enfants d’apporter leur propre doudou (chien\, vache\, mouton\, chèvre\, cochon ou cheval de préférence) ! \nSur réservation : https://vosdemarches.grandbesancon.fr/billetterie/reservation/index/id/3761/idcatstr/mbaa/from/mat
URL:https://www.mbaa.besancon.fr/event/visite-eveil-18-mois-3-ans-14/
CATEGORIES:éveil,tout-petits,visite guidée
ATTACH;FMTTYPE=image/jpeg:https://www.mbaa.besancon.fr/wp-content/uploads/2024/11/20181204_143528-scaled.jpg
END:VEVENT
BEGIN:VEVENT
DTSTART;TZID=Europe/Paris:20241124T143000
DTEND;TZID=Europe/Paris:20241124T153000
DTSTAMP:20260422T121934
CREATED:20241004T130358Z
LAST-MODIFIED:20241004T130358Z
UID:9090-1732458600-1732462200@www.mbaa.besancon.fr
SUMMARY:Visite découverte
DESCRIPTION:Partez à la découverte du musée des beaux-arts et d’archéologie à travers une dizaine d’œuvres incontournables de ses collections. Des vestiges archéologiques\, aux chefs d’œuvres artistiques : laissez-vous guider à travers les époques et les civilisations… \nVisites gratuites (hors billet d’entrée) \nDurée : 1h \nMerci de vous présenter 10 minutes avant l’horaire indiqué. \nSur réservation : https://vosdemarches.grandbesancon.fr/billetterie/mat
URL:https://www.mbaa.besancon.fr/event/visite-decouverte-23/
CATEGORIES:public adulte,visite guidée
END:VEVENT
BEGIN:VEVENT
DTSTART;TZID=Europe/Paris:20241124T160000
DTEND;TZID=Europe/Paris:20241124T170000
DTSTAMP:20260422T121934
CREATED:20241004T083053Z
LAST-MODIFIED:20241004T083053Z
UID:9028-1732464000-1732467600@www.mbaa.besancon.fr
SUMMARY:Visite "Egyptomania"
DESCRIPTION:Découvrez comment et pourquoi des momies égyptiennes ont rejoint les collections du musée. À travers ces vestiges fascinants\, plongez dans l’univers d’une civilisation millénaire qui ne cesse de captiver l’imaginaire collectif. \nDurée : 1h \nTarif : gratuit (hors billet d’entrée) \nSur réservation : https://vosdemarches.grandbesancon.fr/billetterie/mat
URL:https://www.mbaa.besancon.fr/event/visite-egyptomania/
CATEGORIES:Archéologie,public adulte,visite guidée
END:VEVENT
END:VCALENDAR