BEGIN:VCALENDAR
VERSION:2.0
PRODID:-//musée des beaux-arts et d&#039;archéologie de Besançon - ECPv5.14.2.1//NONSGML v1.0//EN
CALSCALE:GREGORIAN
METHOD:PUBLISH
X-WR-CALNAME:musée des beaux-arts et d&#039;archéologie de Besançon
X-ORIGINAL-URL:https://www.mbaa.besancon.fr
X-WR-CALDESC:évènements pour musée des beaux-arts et d&#039;archéologie de Besançon
BEGIN:VTIMEZONE
TZID:Europe/Paris
BEGIN:DAYLIGHT
TZOFFSETFROM:+0100
TZOFFSETTO:+0200
TZNAME:CEST
DTSTART:20240331T010000
END:DAYLIGHT
BEGIN:STANDARD
TZOFFSETFROM:+0200
TZOFFSETTO:+0100
TZNAME:CET
DTSTART:20241027T010000
END:STANDARD
END:VTIMEZONE
BEGIN:VEVENT
DTSTART;TZID=Europe/Paris:20241027T143000
DTEND;TZID=Europe/Paris:20241027T153000
DTSTAMP:20260422T134357
CREATED:20241004T130149Z
LAST-MODIFIED:20241004T130149Z
UID:9082-1730039400-1730043000@www.mbaa.besancon.fr
SUMMARY:Visite découverte
DESCRIPTION:Partez à la découverte du musée des beaux-arts et d’archéologie à travers une dizaine d’œuvres incontournables de ses collections. Des vestiges archéologiques\, aux chefs d’œuvres artistiques : laissez-vous guider à travers les époques et les civilisations… \nVisites gratuites (hors billet d’entrée) \nDurée : 1h \nMerci de vous présenter 10 minutes avant l’horaire indiqué. \nSur réservation : https://vosdemarches.grandbesancon.fr/billetterie/mat
URL:https://www.mbaa.besancon.fr/event/visite-decouverte-19/
CATEGORIES:public adulte,visite guidée
END:VEVENT
BEGIN:VEVENT
DTSTART;TZID=Europe/Paris:20241027T160000
DTEND;TZID=Europe/Paris:20241027T170000
DTSTAMP:20260422T134357
CREATED:20241004T084654Z
LAST-MODIFIED:20241004T084654Z
UID:9038-1730044800-1730048400@www.mbaa.besancon.fr
SUMMARY:Visite "Bon sang ne sait mentir !"
DESCRIPTION:Visite autour du sang et de sa représentation dans les tableaux du musée. Symbolisme du sang\, analyses et anecdotes autour d’une sélection de tableaux\, analyse technique autour de la couleur du sang\, mise en lien de l’histoire de la médecine avec l’histoire de la représentation du corps… \nDurée : 1h \nTarif : gratuit (hors billet d’entrée) \nSur réservation : https://vosdemarches.grandbesancon.fr/billetterie/mat
URL:https://www.mbaa.besancon.fr/event/visite-bon-sang-ne-sait-mentir/
CATEGORIES:Beaux-arts,public adulte,visite guidée
END:VEVENT
END:VCALENDAR