BEGIN:VCALENDAR
VERSION:2.0
PRODID:-//musée des beaux-arts et d&#039;archéologie de Besançon - ECPv5.14.2.1//NONSGML v1.0//EN
CALSCALE:GREGORIAN
METHOD:PUBLISH
X-WR-CALNAME:musée des beaux-arts et d&#039;archéologie de Besançon
X-ORIGINAL-URL:https://www.mbaa.besancon.fr
X-WR-CALDESC:évènements pour musée des beaux-arts et d&#039;archéologie de Besançon
BEGIN:VTIMEZONE
TZID:Europe/Paris
BEGIN:DAYLIGHT
TZOFFSETFROM:+0100
TZOFFSETTO:+0200
TZNAME:CEST
DTSTART:20240331T010000
END:DAYLIGHT
BEGIN:STANDARD
TZOFFSETFROM:+0200
TZOFFSETTO:+0100
TZNAME:CET
DTSTART:20241027T010000
END:STANDARD
END:VTIMEZONE
BEGIN:VEVENT
DTSTART;TZID=Europe/Paris:20241017T183000
DTEND;TZID=Europe/Paris:20241017T200000
DTSTAMP:20260422T134214
CREATED:20241004T080154Z
LAST-MODIFIED:20241004T080154Z
UID:8991-1729189800-1729195200@www.mbaa.besancon.fr
SUMMARY:"Un verre\, une oeuvre"
DESCRIPTION:Les MAT vous proposent un nouveau concept de rencontres avec nos conservateur.rice.s et des artistes du territoire : après le travail\, un jeudi par mois\, dans un musée fermé\, ouvert exclusivement pour vous\, venez découvrir l’histoire d’une œuvre dans un esprit de détente et de convivialité\, autour d’un verre (avec ou sans alcool\, comme vous préférez). \nVous ne saurez pas à l’avance quelle œuvre vous sera présentée. Faites-nous confiance et nous vous garantissons seulement que c’est une œuvre inédite que vous n’aurez pas encore vue dans notre parcours permanent. De quoi éveiller votre curiosité et sortir des sentiers battus ! \n— \n30 personnes maximum. \nTarif : 5 € par personne (boisson incluse) \nDe 18h30 à 20h : Merci de vous présenter 10 minutes avant l’horaire indiqué. \nSur réservation : https://vosdemarches.grandbesancon.fr/billetterie/mat
URL:https://www.mbaa.besancon.fr/event/un-verre-une-oeuvre/
CATEGORIES:public adulte,rencontre,Vie du musée
END:VEVENT
END:VCALENDAR