BEGIN:VCALENDAR
VERSION:2.0
PRODID:-//musée des beaux-arts et d&#039;archéologie de Besançon - ECPv5.14.2.1//NONSGML v1.0//EN
CALSCALE:GREGORIAN
METHOD:PUBLISH
X-WR-CALNAME:musée des beaux-arts et d&#039;archéologie de Besançon
X-ORIGINAL-URL:https://www.mbaa.besancon.fr
X-WR-CALDESC:évènements pour musée des beaux-arts et d&#039;archéologie de Besançon
BEGIN:VTIMEZONE
TZID:Europe/Paris
BEGIN:DAYLIGHT
TZOFFSETFROM:+0100
TZOFFSETTO:+0200
TZNAME:CEST
DTSTART:20240331T010000
END:DAYLIGHT
BEGIN:STANDARD
TZOFFSETFROM:+0200
TZOFFSETTO:+0100
TZNAME:CET
DTSTART:20241027T010000
END:STANDARD
END:VTIMEZONE
BEGIN:VEVENT
DTSTART;TZID=Europe/Paris:20241012T140000
DTEND;TZID=Europe/Paris:20241013T180000
DTSTAMP:20260422T134358
CREATED:20241004T135015Z
LAST-MODIFIED:20241004T135015Z
UID:9142-1728741600-1728842400@www.mbaa.besancon.fr
SUMMARY:Fête de la science / les 12 et 13 octobre
DESCRIPTION:Sur le Campus de la Bouloie \n  \nTous les ans\, les sciences ont leur fête. \nÀ Besançon\, l’université de Franche-Comté vous accueille. \nPlus d’une trentaine d’animations avec les laboratoires\, musées\, associations … qui seront présents sur le campus de la Bouloie. \nAteliers\, stands\, expos\, rencontres\, jeux … \nDeux jours pour réveiller la curiosité dans un esprit convivial et chaleureux. \nVenez faire le plein de sciences ! \n  \nLors de ces deux journées\, retrouvez les musées d’Arts et du Temps à Propédeutique avec « Que d’eau ! L’eau à travers les arts »\, un atelier autour de l’eau (dès 6 ans) \n  \nConsultez le programme complet de la Fête des sciences à Besançon : \nhttps://actu.univ-fcomte.fr/sites/default/files/programme_fete_de_la_science_2024.pdf
URL:https://www.mbaa.besancon.fr/event/fete-de-la-science-les-12-et-13-octobre/
CATEGORIES:manifestation,Partenariat,tout public
END:VEVENT
BEGIN:VEVENT
DTSTART;TZID=Europe/Paris:20241013T103000
DTEND;TZID=Europe/Paris:20241013T110000
DTSTAMP:20260422T134358
CREATED:20240925T092219Z
LAST-MODIFIED:20240925T092219Z
UID:8961-1728815400-1728817200@www.mbaa.besancon.fr
SUMMARY:Visite Éveil (18 mois-3 ans)
DESCRIPTION:Ici on scrute les animaux dans un ou deux tableaux\, avec des bruits\, des comptines\, des histoires\, des marionnettes… \nDurée : 30 min \nTarif : gratuit \nInscription uniquement réservée aux enfants\, les parents n’ont pas besoin de s’inscrire. Les enfants doivent être obligatoirement accompagnés d’un adulte (deux adultes maximum). \nNous demandons aux enfants d’apporter leur propre doudou (chien\, vache\, mouton\, chèvre\, cochon ou cheval de préférence) ! \nSur réservation : https://vosdemarches.grandbesancon.fr/billetterie/mat
URL:https://www.mbaa.besancon.fr/event/visite-eveil-18-mois-3-ans-7/
CATEGORIES:éveil,tout-petits,visite guidée
END:VEVENT
BEGIN:VEVENT
DTSTART;TZID=Europe/Paris:20241013T143000
DTEND;TZID=Europe/Paris:20241013T153000
DTSTAMP:20260422T134358
CREATED:20241004T124442Z
LAST-MODIFIED:20241004T124442Z
UID:9078-1728829800-1728833400@www.mbaa.besancon.fr
SUMMARY:Visite découverte
DESCRIPTION:Partez à la découverte du musée des beaux-arts et d’archéologie à travers une dizaine d’œuvres incontournables de ses collections. Des vestiges archéologiques\, aux chefs d’œuvres artistiques : laissez-vous guider à travers les époques et les civilisations… \nVisites gratuites (hors billet d’entrée) \nDurée : 1h \nMerci de vous présenter 10 minutes avant l’horaire indiqué. \nSur réservation : https://vosdemarches.grandbesancon.fr/billetterie/mat
URL:https://www.mbaa.besancon.fr/event/visite-decouverte-17/
CATEGORIES:public adulte,visite guidée
END:VEVENT
BEGIN:VEVENT
DTSTART;TZID=Europe/Paris:20241013T160000
DTEND;TZID=Europe/Paris:20241013T170000
DTSTAMP:20260422T134358
CREATED:20241004T082826Z
LAST-MODIFIED:20241004T082826Z
UID:9026-1728835200-1728838800@www.mbaa.besancon.fr
SUMMARY:Visite "Une ville sous nos pieds"
DESCRIPTION:Explorez l’histoire de Besançon\, de la Séquanie à Vesontio\, à travers une riche collection archéologique. De la vie quotidienne gallo-romaine aux trésors tels que le Taureau d’Avrigney ou les spectaculaires mosaïques\, cette visite vous fera voyager à travers les époques. \nDurée : 1h \nTarif : gratuit (hors billet d’entrée) \nSur réservation : https://vosdemarches.grandbesancon.fr/billetterie/mat
URL:https://www.mbaa.besancon.fr/event/visite-une-ville-sous-nos-pieds-2/
CATEGORIES:Archéologie,public adulte,visite guidée
END:VEVENT
END:VCALENDAR