BEGIN:VCALENDAR
VERSION:2.0
PRODID:-//musée des beaux-arts et d&#039;archéologie de Besançon - ECPv5.14.2.1//NONSGML v1.0//EN
CALSCALE:GREGORIAN
METHOD:PUBLISH
X-WR-CALNAME:musée des beaux-arts et d&#039;archéologie de Besançon
X-ORIGINAL-URL:https://www.mbaa.besancon.fr
X-WR-CALDESC:évènements pour musée des beaux-arts et d&#039;archéologie de Besançon
BEGIN:VTIMEZONE
TZID:Europe/Paris
BEGIN:DAYLIGHT
TZOFFSETFROM:+0100
TZOFFSETTO:+0200
TZNAME:CEST
DTSTART:20240331T010000
END:DAYLIGHT
BEGIN:STANDARD
TZOFFSETFROM:+0200
TZOFFSETTO:+0100
TZNAME:CET
DTSTART:20241027T010000
END:STANDARD
END:VTIMEZONE
BEGIN:VEVENT
DTSTART;TZID=Europe/Paris:20241006T103000
DTEND;TZID=Europe/Paris:20241006T113000
DTSTAMP:20260422T134214
CREATED:20240925T071000Z
LAST-MODIFIED:20240925T071000Z
UID:8853-1728210600-1728214200@www.mbaa.besancon.fr
SUMMARY:Visite famille
DESCRIPTION:Un musée\, qu’est-ce que c’est\, qu’est-ce qu’on trouve dedans ? Une sculpture\, une mosaïque\, c’est fait comment ? Autour d’une sélection d’œuvres\, découverte des expositions permanentes ou temporaires en compagnie d’un médiateur. Visite destinée au jeune public accompagné de leurs parents\, grands-parents… \nDurée : 1h \nTarif : gratuit (hors tarif entrée musée) \nInscription obligatoire pour tous les membres de la famille. \n  \nSur inscription : https://vosdemarches.grandbesancon.fr/billetterie/mat
URL:https://www.mbaa.besancon.fr/event/visite-famille-53/
CATEGORIES:Famille,visite guidée
END:VEVENT
BEGIN:VEVENT
DTSTART;TZID=Europe/Paris:20241006T143000
DTEND;TZID=Europe/Paris:20241006T153000
DTSTAMP:20260422T134214
CREATED:20241004T124403Z
LAST-MODIFIED:20241004T124403Z
UID:9076-1728225000-1728228600@www.mbaa.besancon.fr
SUMMARY:Visite découverte
DESCRIPTION:Partez à la découverte du musée des beaux-arts et d’archéologie à travers une dizaine d’œuvres incontournables de ses collections. Des vestiges archéologiques\, aux chefs d’œuvres artistiques : laissez-vous guider à travers les époques et les civilisations… \nVisites gratuites (hors billet d’entrée) \nDurée : 1h \nMerci de vous présenter 10 minutes avant l’horaire indiqué. \nSur réservation : https://vosdemarches.grandbesancon.fr/billetterie/mat
URL:https://www.mbaa.besancon.fr/event/visite-decouverte-16/
CATEGORIES:public adulte,visite guidée
END:VEVENT
BEGIN:VEVENT
DTSTART;TZID=Europe/Paris:20241006T160000
DTEND;TZID=Europe/Paris:20241006T170000
DTSTAMP:20260422T134214
CREATED:20241004T082737Z
LAST-MODIFIED:20241004T082737Z
UID:9024-1728230400-1728234000@www.mbaa.besancon.fr
SUMMARY:Visite "Une ville sous nos pieds"
DESCRIPTION:Explorez l’histoire de Besançon\, de la Séquanie à Vesontio\, à travers une riche collection archéologique. De la vie quotidienne gallo-romaine aux trésors tels que le Taureau d’Avrigney ou les spectaculaires mosaïques\, cette visite vous fera voyager à travers les époques. \nDurée : 1h \nTarif : gratuit (hors billet d’entrée) \nSur réservation : https://vosdemarches.grandbesancon.fr/billetterie/mat
URL:https://www.mbaa.besancon.fr/event/visite-une-ville-sous-nos-pieds/
CATEGORIES:Archéologie,public adulte,visite guidée
END:VEVENT
END:VCALENDAR