BEGIN:VCALENDAR
VERSION:2.0
PRODID:-//musée des beaux-arts et d&#039;archéologie de Besançon - ECPv5.14.2.1//NONSGML v1.0//EN
CALSCALE:GREGORIAN
METHOD:PUBLISH
X-WR-CALNAME:musée des beaux-arts et d&#039;archéologie de Besançon
X-ORIGINAL-URL:https://www.mbaa.besancon.fr
X-WR-CALDESC:évènements pour musée des beaux-arts et d&#039;archéologie de Besançon
BEGIN:VTIMEZONE
TZID:Europe/Paris
BEGIN:DAYLIGHT
TZOFFSETFROM:+0100
TZOFFSETTO:+0200
TZNAME:CEST
DTSTART:20240331T010000
END:DAYLIGHT
BEGIN:STANDARD
TZOFFSETFROM:+0200
TZOFFSETTO:+0100
TZNAME:CET
DTSTART:20241027T010000
END:STANDARD
END:VTIMEZONE
BEGIN:VEVENT
DTSTART;TZID=Europe/Paris:20240929T103000
DTEND;TZID=Europe/Paris:20240929T113000
DTSTAMP:20260422T150557
CREATED:20240701T075134Z
LAST-MODIFIED:20240701T075134Z
UID:8708-1727605800-1727609400@www.mbaa.besancon.fr
SUMMARY:Visite famille
DESCRIPTION:Un musée\, qu’est-ce que c’est\, qu’est-ce qu’on trouve dedans ? Une sculpture\, une mosaïque\, c’est fait comment ? Autour d’une sélection d’œuvres\, découverte des expositions permanentes ou temporaires en compagnie d’un médiateur. Visite destinée au jeune public accompagné de leurs parents\, grands-parents… \nDurée : 1h \nTarif : gratuit (hors tarif entrée musée) \nInscription obligatoire pour tous les membres de la famille. \n  \nSur inscription : https://vosdemarches.grandbesancon.fr/billetterie/mat \n 
URL:https://www.mbaa.besancon.fr/event/visite-famille-52/
CATEGORIES:Famille,public jeune,visite guidée
END:VEVENT
BEGIN:VEVENT
DTSTART;TZID=Europe/Paris:20240929T150000
DTEND;TZID=Europe/Paris:20240929T160000
DTSTAMP:20260422T150557
CREATED:20240701T083857Z
LAST-MODIFIED:20240701T083903Z
UID:8757-1727622000-1727625600@www.mbaa.besancon.fr
SUMMARY:Visite découverte
DESCRIPTION:Partez à la découverte du musée des beaux-arts et d’archéologie de Besançon à travers une dizaine d’œuvres incontournables de ses collections. Des vestiges archéologiques\, aux chefs d’œuvres artistiques : laissez-vous guider à travers les époques et les civilisations… \nDurée : 1h \nTarif : gratuit (hors tarif entrée musée) \n  \nSur réservation : https://vosdemarches.grandbesancon.fr/billetterie/mat
URL:https://www.mbaa.besancon.fr/event/visite-decouverte-13/
CATEGORIES:public adulte,tout public,visite guidée
END:VEVENT
BEGIN:VEVENT
DTSTART;TZID=Europe/Paris:20240929T163000
DTEND;TZID=Europe/Paris:20240929T173000
DTSTAMP:20260422T150557
CREATED:20240701T084202Z
LAST-MODIFIED:20240701T084202Z
UID:8763-1727627400-1727631000@www.mbaa.besancon.fr
SUMMARY:Visite architecture dedans/dehors MBAA
DESCRIPTION:Découvrez les diverses architectures qui ont façonné le musée des Beaux-Arts et d’Archéologie : depuis ses débuts dans la halle aux grains conçue par Pierre Marnotte en 1843\, à la structure novatrice en béton armé des années 60\, imaginée par Louis Miquel\, disciple de Le Corbusier\, jusqu’à la spectaculaire rénovation menée par Adelfo Scaranello en 2018. Cette visite guidée qui vous transportera à travers les époques\, à l’intérieur et à l’extérieur de ce monument emblématique de Besançon. \nDurée : 1h \nTarif : gratuit (hors tarif entrée musée) \n  \nSur réservation : https://vosdemarches.grandbesancon.fr/billetterie/mat
URL:https://www.mbaa.besancon.fr/event/visite-architecture-dedans-dehors-mbaa-2/
CATEGORIES:public adulte,tout public,visite guidée
END:VEVENT
END:VCALENDAR