BEGIN:VCALENDAR
VERSION:2.0
PRODID:-//musée des beaux-arts et d&#039;archéologie de Besançon - ECPv5.14.2.1//NONSGML v1.0//EN
CALSCALE:GREGORIAN
METHOD:PUBLISH
X-WR-CALNAME:musée des beaux-arts et d&#039;archéologie de Besançon
X-ORIGINAL-URL:https://www.mbaa.besancon.fr
X-WR-CALDESC:évènements pour musée des beaux-arts et d&#039;archéologie de Besançon
BEGIN:VTIMEZONE
TZID:Europe/Paris
BEGIN:DAYLIGHT
TZOFFSETFROM:+0100
TZOFFSETTO:+0200
TZNAME:CEST
DTSTART:20240331T010000
END:DAYLIGHT
BEGIN:STANDARD
TZOFFSETFROM:+0200
TZOFFSETTO:+0100
TZNAME:CET
DTSTART:20241027T010000
END:STANDARD
END:VTIMEZONE
BEGIN:VEVENT
DTSTART;TZID=Europe/Paris:20240915T103000
DTEND;TZID=Europe/Paris:20240915T120000
DTSTAMP:20260422T150608
CREATED:20240701T082358Z
LAST-MODIFIED:20240701T082358Z
UID:8733-1726396200-1726401600@www.mbaa.besancon.fr
SUMMARY:Atelier moulage Méduse / 3-6 ans
DESCRIPTION:Méduse\, la Vouivre\, Hercule ou Œdipe\, découvre à travers les œuvres du Musée les mythes antiques\, les légendes\, les héros et les monstres qui les peuplent\,  puis fabrique ta tête de méduse en argile. \nDurée : 1h30 \nTarif :  5€/enfant \nInscription uniquement réservée aux enfants\, les parents n’ont pas besoin de s’inscrire. Les enfants doivent être obligatoirement accompagnés d’un adulte (deux adultes maximum).  \n  \nSur réservation : https://vosdemarches.grandbesancon.fr/billetterie/mat
URL:https://www.mbaa.besancon.fr/event/atelier-moulage-meduse-3-6-ans-3/
CATEGORIES:atelier,jeune public,visite guidée
END:VEVENT
BEGIN:VEVENT
DTSTART;TZID=Europe/Paris:20240915T143000
DTEND;TZID=Europe/Paris:20240915T153000
DTSTAMP:20260422T150608
CREATED:20240529T061825Z
LAST-MODIFIED:20240529T061825Z
UID:8606-1726410600-1726414200@www.mbaa.besancon.fr
SUMMARY:Rencontre "Le livre de prières de Maximilien Ier\, un des sommets artistiques de la Renaissance allemande" par Pierre-Emmanuel Guilleray
DESCRIPTION:Dimanche 15 septembre à 14h30 \nPierre-Emmanuel Guilleray est conservateur de la Bibliothèque d’études et de conservation de Besançon. \nDurée : 1h \nGratuit\, sans inscription\, dans la limite des places disponibles
URL:https://www.mbaa.besancon.fr/event/rencontre-le-livre-de-prieres-de-maximilien-ier-un-des-sommets-artistiques-de-la-renaissance-allemande-par-pierre-emmanuel-guilleray/
CATEGORIES:conférence,expo,public adulte,rencontre
END:VEVENT
BEGIN:VEVENT
DTSTART;TZID=Europe/Paris:20240915T150000
DTEND;TZID=Europe/Paris:20240915T160000
DTSTAMP:20260422T150608
CREATED:20240701T095428Z
LAST-MODIFIED:20240701T095428Z
UID:8793-1726412400-1726416000@www.mbaa.besancon.fr
SUMMARY:Visite exposition "Made in Germany"
DESCRIPTION:Plongez au cœur de la Renaissance germanique avec l’exposition exceptionnelle « Made in Germany »\, présentant 70 œuvres de 1500 à 1550. Issues de collections bisontines\, nationales (Louvre\, Versailles) et régionales (Nancy\, Avignon\, etc.)\, cette exposition unique révèle les modes de représentation et la société du XVIe siècle. Une occasion incontournable d’explorer la richesse artistique et historique de cette période fascinante. \nDurée : 1h \nTarif : gratuit (hors tarif entrée musée) \n  \nSur réservation : https://vosdemarches.grandbesancon.fr/billetterie/mat
URL:https://www.mbaa.besancon.fr/event/visite-exposition-made-in-germany-16/
CATEGORIES:expo,public adulte,tout public,visite guidée
END:VEVENT
BEGIN:VEVENT
DTSTART;TZID=Europe/Paris:20240915T163000
DTEND;TZID=Europe/Paris:20240915T173000
DTSTAMP:20260422T150608
CREATED:20240821T084423Z
LAST-MODIFIED:20240821T084423Z
UID:8834-1726417800-1726421400@www.mbaa.besancon.fr
SUMMARY:Visite découverte
DESCRIPTION:Partez à la découverte du musée des beaux-arts et d’archéologie de Besançon à travers une dizaine d’œuvres incontournables de ses collections. Des vestiges archéologiques\, aux chefs d’œuvres artistiques : laissez-vous guider à travers les époques et les civilisations… \nDurée : 1h \nTarif : gratuit (hors tarif entrée) \n  \nSur réservation : https://vosdemarches.grandbesancon.fr/billetterie/mat
URL:https://www.mbaa.besancon.fr/event/visite-decouverte-15/
CATEGORIES:tout public,visite guidée
END:VEVENT
END:VCALENDAR