BEGIN:VCALENDAR
VERSION:2.0
PRODID:-//musée des beaux-arts et d&#039;archéologie de Besançon - ECPv5.14.2.1//NONSGML v1.0//EN
CALSCALE:GREGORIAN
METHOD:PUBLISH
X-WR-CALNAME:musée des beaux-arts et d&#039;archéologie de Besançon
X-ORIGINAL-URL:https://www.mbaa.besancon.fr
X-WR-CALDESC:évènements pour musée des beaux-arts et d&#039;archéologie de Besançon
BEGIN:VTIMEZONE
TZID:Europe/Paris
BEGIN:DAYLIGHT
TZOFFSETFROM:+0100
TZOFFSETTO:+0200
TZNAME:CEST
DTSTART:20240331T010000
END:DAYLIGHT
BEGIN:STANDARD
TZOFFSETFROM:+0200
TZOFFSETTO:+0100
TZNAME:CET
DTSTART:20241027T010000
END:STANDARD
END:VTIMEZONE
BEGIN:VEVENT
DTSTART;TZID=Europe/Paris:20240821T103000
DTEND;TZID=Europe/Paris:20240821T120000
DTSTAMP:20260422T163153
CREATED:20240701T082822Z
LAST-MODIFIED:20240701T082822Z
UID:8739-1724236200-1724241600@www.mbaa.besancon.fr
SUMMARY:Atelier modelage Chouette / 3-6 ans
DESCRIPTION:Une statue\, c’est taillé dans la pierre ou dans le bois\, ou ça peut être modelé dans la terre avec ses petits doigts. Découverte de sculptures de musées et manipulation de moulages et d’argile. \nDurée : 1h30 min \n  \nTarif : 5€/enfant \nInscription uniquement réservée aux enfants\, les parents n’ont pas besoin de s’inscrire. Les enfants doivent être obligatoirement accompagnés d’un adulte (deux adultes maximum).  \n  \nSur réservation : https://vosdemarches.grandbesancon.fr/billetterie/mat
URL:https://www.mbaa.besancon.fr/event/atelier-modelage-chouette-3-6-ans-3/
CATEGORIES:atelier,jeune public,visite guidée
END:VEVENT
END:VCALENDAR