BEGIN:VCALENDAR
VERSION:2.0
PRODID:-//musée des beaux-arts et d&#039;archéologie de Besançon - ECPv5.14.2.1//NONSGML v1.0//EN
CALSCALE:GREGORIAN
METHOD:PUBLISH
X-WR-CALNAME:musée des beaux-arts et d&#039;archéologie de Besançon
X-ORIGINAL-URL:https://www.mbaa.besancon.fr
X-WR-CALDESC:évènements pour musée des beaux-arts et d&#039;archéologie de Besançon
BEGIN:VTIMEZONE
TZID:Europe/Paris
BEGIN:DAYLIGHT
TZOFFSETFROM:+0100
TZOFFSETTO:+0200
TZNAME:CEST
DTSTART:20240331T010000
END:DAYLIGHT
BEGIN:STANDARD
TZOFFSETFROM:+0200
TZOFFSETTO:+0100
TZNAME:CET
DTSTART:20241027T010000
END:STANDARD
END:VTIMEZONE
BEGIN:VEVENT
DTSTART;TZID=Europe/Paris:20240804T150000
DTEND;TZID=Europe/Paris:20240804T160000
DTSTAMP:20260422T163109
CREATED:20240701T094923Z
LAST-MODIFIED:20240701T094923Z
UID:8780-1722783600-1722787200@www.mbaa.besancon.fr
SUMMARY:Visite exposition "Made in Germany"
DESCRIPTION:Plongez au cœur de la Renaissance germanique avec l’exposition exceptionnelle « Made in Germany »\, présentant 70 œuvres de 1500 à 1550. Issues de collections bisontines\, nationales (Louvre\, Versailles) et régionales (Nancy\, Avignon\, etc.)\, cette exposition unique révèle les modes de représentation et la société du XVIe siècle. Une occasion incontournable d’explorer la richesse artistique et historique de cette période fascinante. \nDurée : 1h \nTarif : gratuit (hors tarif entrée musée) \n  \nSur réservation : https://vosdemarches.grandbesancon.fr/billetterie/mat
URL:https://www.mbaa.besancon.fr/event/visite-exposition-made-in-germany-10/
CATEGORIES:expo,public adulte,tout public,visite guidée
END:VEVENT
BEGIN:VEVENT
DTSTART;TZID=Europe/Paris:20240804T163000
DTEND;TZID=Europe/Paris:20240804T173000
DTSTAMP:20260422T163109
CREATED:20240701T083458Z
LAST-MODIFIED:20240701T083458Z
UID:8745-1722789000-1722792600@www.mbaa.besancon.fr
SUMMARY:Visite découverte
DESCRIPTION:Partez à la découverte du musée des beaux-arts et d’archéologie de Besançon à travers une dizaine d’œuvres incontournables de ses collections. Des vestiges archéologiques\, aux chefs d’œuvres artistiques : laissez-vous guider à travers les époques et les civilisations… \nDurée : 1h \nTarif : gratuit (hors tarif entrée musée) \n  \nSue réservation : https://vosdemarches.grandbesancon.fr/billetterie/mat
URL:https://www.mbaa.besancon.fr/event/visite-decouverte-7/
CATEGORIES:public adulte,tout public,visite guidée
END:VEVENT
END:VCALENDAR