BEGIN:VCALENDAR
VERSION:2.0
PRODID:-//musée des beaux-arts et d&#039;archéologie de Besançon - ECPv5.14.2.1//NONSGML v1.0//EN
CALSCALE:GREGORIAN
METHOD:PUBLISH
X-WR-CALNAME:musée des beaux-arts et d&#039;archéologie de Besançon
X-ORIGINAL-URL:https://www.mbaa.besancon.fr
X-WR-CALDESC:évènements pour musée des beaux-arts et d&#039;archéologie de Besançon
BEGIN:VTIMEZONE
TZID:Europe/Paris
BEGIN:DAYLIGHT
TZOFFSETFROM:+0100
TZOFFSETTO:+0200
TZNAME:CEST
DTSTART:20240331T010000
END:DAYLIGHT
BEGIN:STANDARD
TZOFFSETFROM:+0200
TZOFFSETTO:+0100
TZNAME:CET
DTSTART:20241027T010000
END:STANDARD
END:VTIMEZONE
BEGIN:VEVENT
DTSTART;TZID=Europe/Paris:20240623T103000
DTEND;TZID=Europe/Paris:20240623T123000
DTSTAMP:20260422T192243
CREATED:20240611T141231Z
LAST-MODIFIED:20240611T141231Z
UID:8648-1719138600-1719145800@www.mbaa.besancon.fr
SUMMARY:Atelier "Hiéroglyphes" / 7-12 ans
DESCRIPTION:Découverte de l’Egypte ancienne et de son écriture si particulière\, le hiéroglyphe. Expérimentation en atelier\, au calame sur papyrus. \nDurée : 2h \nTarif : 5€/enfant \nLes enfants âgés de 7 à 12 ans participant aux ateliers ne doivent pas être accompagnés. \n  \nSur réservation : https://vosdemarches.grandbesancon.fr/billetterie/mat
URL:https://www.mbaa.besancon.fr/event/atelier-hieroglyphes-7-12-ans/
CATEGORIES:atelier,jeune public,visite guidée
END:VEVENT
BEGIN:VEVENT
DTSTART;TZID=Europe/Paris:20240623T150000
DTEND;TZID=Europe/Paris:20240623T160000
DTSTAMP:20260422T192243
CREATED:20240611T141855Z
LAST-MODIFIED:20240611T141855Z
UID:8654-1719154800-1719158400@www.mbaa.besancon.fr
SUMMARY:Visite exposition "Made in Germany"
DESCRIPTION:Plongez en pleine Renaissance germanique à travers l’exposition « Made in Germany » ! \nSi la plupart des 70 œuvres présentées restent anonymes\, certaines\, léguées par Jean Gigoux (1806-1894) et qui constituent les trésors du patrimoine bisontin\, portent la signature de grands maîtres tels que Lucas Cranach l’Ancien. \nS’appuyant sur les collections publiques françaises\, l’exposition s’articule en trois volets répartis également sur les musées de Dijon et Colmar. En raison de son histoire liée au Saint-Empire\, Besançon conserve des œuvres significatives en peinture et arts graphiques\, où il s’agit d’explorer les notions de frontières\, tant géographiques que symboliques\, entre les sphères privées\, publiques et religieuses. \nDurée : 1h \nTarif : gratuit (hors entrée musée) \n  \nSur réservation : https://vosdemarches.grandbesancon.fr/billetterie/mat
URL:https://www.mbaa.besancon.fr/event/visite-exposition-made-in-germany-4/
CATEGORIES:expo,tout public,visite guidée
END:VEVENT
BEGIN:VEVENT
DTSTART;TZID=Europe/Paris:20240623T163000
DTEND;TZID=Europe/Paris:20240623T173000
DTSTAMP:20260422T192243
CREATED:20240611T142130Z
LAST-MODIFIED:20240611T142130Z
UID:8660-1719160200-1719163800@www.mbaa.besancon.fr
SUMMARY:Visite des collections archéologiques
DESCRIPTION:Les collections archéologiques du musée permettent de suivre en pointillé l’histoire de l’archéologie en France mais surtout à Besançon. Comment s’est construite l’archéologie à Besançon et quel a été le rôle du musée pour conserver et présenter cette archéologie au public ? Cette visite nous amènera à connaître le rôle de plusieurs grands donateurs du musée mais aussi des objets emblématiques de sa collection. \nDurée : 2h \nTarif : gratuit (hors entrée musée) \n  \nSur réservation : https://vosdemarches.grandbesancon.fr/billetterie/mat
URL:https://www.mbaa.besancon.fr/event/visite-des-collections-archeologiques/
CATEGORIES:Archéologie,tout public,visite guidée
END:VEVENT
END:VCALENDAR