BEGIN:VCALENDAR
VERSION:2.0
PRODID:-//musée des beaux-arts et d&#039;archéologie de Besançon - ECPv5.14.2.1//NONSGML v1.0//EN
CALSCALE:GREGORIAN
METHOD:PUBLISH
X-WR-CALNAME:musée des beaux-arts et d&#039;archéologie de Besançon
X-ORIGINAL-URL:https://www.mbaa.besancon.fr
X-WR-CALDESC:évènements pour musée des beaux-arts et d&#039;archéologie de Besançon
BEGIN:VTIMEZONE
TZID:Europe/Paris
BEGIN:DAYLIGHT
TZOFFSETFROM:+0100
TZOFFSETTO:+0200
TZNAME:CEST
DTSTART:20240331T010000
END:DAYLIGHT
BEGIN:STANDARD
TZOFFSETFROM:+0200
TZOFFSETTO:+0100
TZNAME:CET
DTSTART:20241027T010000
END:STANDARD
END:VTIMEZONE
BEGIN:VEVENT
DTSTART;TZID=Europe/Paris:20240616T103000
DTEND;TZID=Europe/Paris:20240616T120000
DTSTAMP:20260422T192244
CREATED:20240522T064156Z
LAST-MODIFIED:20240522T064456Z
UID:8548-1718533800-1718539200@www.mbaa.besancon.fr
SUMMARY:Atelier moulage méduse / 3-6 ans
DESCRIPTION:Méduse\, la Vouivre\, Hercule ou Œdipe\, découvre à travers les œuvres du Musée les mythes antiques\, les légendes\, les héros et les monstres qui les peuplent\,  puis fabrique ta tête de méduse en argile. \nDurée : 1h30 \nTarif :  5€/enfant \nRéservation sur : https://vosdemarches.grandbesancon.fr/billetterie/mat
URL:https://www.mbaa.besancon.fr/event/atelier-moulage-meduse-3-6-ans/
CATEGORIES:atelier,jeune public,médiation,public jeune,visite guidée
END:VEVENT
BEGIN:VEVENT
DTSTART;TZID=Europe/Paris:20240616T143000
DTEND;TZID=Europe/Paris:20240616T153000
DTSTAMP:20260422T192244
CREATED:20240529T061300Z
LAST-MODIFIED:20240529T061300Z
UID:8602-1718548200-1718551800@www.mbaa.besancon.fr
SUMMARY:Rencontre "De l'étude de l'objet à sa présentation au public : l'exemple de l'exposition Made in Germany par Isabelle Dubois-Brinkmann
DESCRIPTION:Dimanche 16 juin à 14H30 \nIsabelle Dubois-Brinkmann est conservatrice en chef du patrimoine\, directrice des musées municipaux de Mulhouse et spécialiste des peintures germaniques dans les collections françaises (1300-1550) \nDurée : 1h \nGratuit\, sans inscription\, dans la limite des places disponibles
URL:https://www.mbaa.besancon.fr/event/rencontre-de-letude-de-lobjet-a-sa-presentation-au-public-lexemple-de-lexposition-made-in-germany-par-isabelle-dubois-brinkmann/
CATEGORIES:conférence,expo,public adulte,rencontre
END:VEVENT
BEGIN:VEVENT
DTSTART;TZID=Europe/Paris:20240616T150000
DTEND;TZID=Europe/Paris:20240616T160000
DTSTAMP:20260422T192244
CREATED:20240522T070226Z
LAST-MODIFIED:20240522T070226Z
UID:8564-1718550000-1718553600@www.mbaa.besancon.fr
SUMMARY:Visite exposition "Made in Germany"
DESCRIPTION:Plongez en pleine Renaissance germanique à travers l’exposition « Made in Germany » ! \nSi la plupart des 70 œuvres présentées restent anonymes\, certaines\, léguées par Jean Gigoux (1806-1894) et qui constituent les trésors du patrimoine bisontin\, portent la signature de grands maîtres tels que Lucas Cranach l’Ancien. \nS’appuyant sur les collections publiques françaises\, l’exposition s’articule en trois volets répartis également sur les musées de Dijon et Colmar. En raison de son histoire liée au Saint-Empire\, Besançon conserve des œuvres significatives en peinture et arts graphiques\, où il s’agit d’explorer les notions de frontières\, tant géographiques que symboliques\, entre les sphères privées\, publiques et religieuses. \nDurée : 1h \nTarif : gratuit (hors tarif entrée) \n  \nSur réservation : https://vosdemarches.grandbesancon.fr/billetterie/mat
URL:https://www.mbaa.besancon.fr/event/visite-exposition-made-in-germany-3/
CATEGORIES:expo,public adulte,visite guidée
END:VEVENT
BEGIN:VEVENT
DTSTART;TZID=Europe/Paris:20240616T163000
DTEND;TZID=Europe/Paris:20240616T173000
DTSTAMP:20260422T192244
CREATED:20240522T071057Z
LAST-MODIFIED:20240522T071057Z
UID:8575-1718555400-1718559000@www.mbaa.besancon.fr
SUMMARY:Visite la collection Besson ou l'art du XXe siècle
DESCRIPTION:Venez découvrir le nouvel accrochage de la donation Georges (1882-1971) et Adèle (1884-1964). Cette collection\, riche en œuvres de grands maîtres tels que Bonnard\, Matisse et Renoir\, met également en lumière des artistes émergents soutenus par les Besson\, soulignant ainsi l’éclectisme et la vision artistique unique du couple jurassien. L’exposition propose un accrochage serré dit « de collectionneur » pour valoriser ces « second couteaux »\, ces talents moins connus. Une collection marquée par l’impressionnisme et le fauvisme\, et qui reflète la vision d’un couple qui considérait que la révolution passait l’art. \nDurée : 1h \nTarif : gratuit (hors tarif entrée) \n  \nSur réservation : https://vosdemarches.grandbesancon.fr/billetterie/mat
URL:https://www.mbaa.besancon.fr/event/visite-la-collection-besson-ou-lart-du-xxe-siecle-2/
CATEGORIES:public adulte,visite guidée
END:VEVENT
END:VCALENDAR