BEGIN:VCALENDAR
VERSION:2.0
PRODID:-//musée des beaux-arts et d&#039;archéologie de Besançon - ECPv5.14.2.1//NONSGML v1.0//EN
CALSCALE:GREGORIAN
METHOD:PUBLISH
X-WR-CALNAME:musée des beaux-arts et d&#039;archéologie de Besançon
X-ORIGINAL-URL:https://www.mbaa.besancon.fr
X-WR-CALDESC:évènements pour musée des beaux-arts et d&#039;archéologie de Besançon
BEGIN:VTIMEZONE
TZID:Europe/Paris
BEGIN:DAYLIGHT
TZOFFSETFROM:+0100
TZOFFSETTO:+0200
TZNAME:CEST
DTSTART:20240331T010000
END:DAYLIGHT
BEGIN:STANDARD
TZOFFSETFROM:+0200
TZOFFSETTO:+0100
TZNAME:CET
DTSTART:20241027T010000
END:STANDARD
END:VTIMEZONE
BEGIN:VEVENT
DTSTART;TZID=Europe/Paris:20240526T103000
DTEND;TZID=Europe/Paris:20240526T120000
DTSTAMP:20260422T204902
CREATED:20240522T064907Z
LAST-MODIFIED:20240522T064907Z
UID:8554-1716719400-1716724800@www.mbaa.besancon.fr
SUMMARY:Atelier modelage buste / 7-12 ans
DESCRIPTION:Un portrait\, est-ce que c’est forcément une peinture ? Exploration de la notion de portrait\, et modelage d’un petit buste en terre. \nDurée : 2h \nTarif : 5€/enfant \nLes enfants âgés de 7 à 12 ans participant aux ateliers ne doivent pas être accompagnés. \n  \nSur réservation : https://vosdemarches.grandbesancon.fr/billetterie/mat \n 
URL:https://www.mbaa.besancon.fr/event/atelier-modelage-buste-7-12-ans/
CATEGORIES:atelier,jeune public,médiation,public jeune,visite guidée
END:VEVENT
BEGIN:VEVENT
DTSTART;TZID=Europe/Paris:20240526T150000
DTEND;TZID=Europe/Paris:20240526T160000
DTSTAMP:20260422T204902
CREATED:20240522T065353Z
LAST-MODIFIED:20240522T070319Z
UID:8558-1716735600-1716739200@www.mbaa.besancon.fr
SUMMARY:Viste exposition "Made in Germany"
DESCRIPTION:Plongez en pleine Renaissance germanique à travers l’exposition « Made in Germany » ! \nSi la plupart des 70 œuvres présentées restent anonymes\, certaines\, léguées par Jean Gigoux (1806-1894) et qui constituent les trésors du patrimoine bisontin\, portent la signature de grands maîtres tels que Lucas Cranach l’Ancien. \nS’appuyant sur les collections publiques françaises\, l’exposition s’articule en trois volets répartis également sur les musées de Dijon et Colmar. En raison de son histoire liée au Saint-Empire\, Besançon conserve des œuvres significatives en peinture et arts graphiques\, où il s’agit d’explorer les notions de frontières\, tant géographiques que symboliques\, entre les sphères privées\, publiques et religieuses. \nDurée : 1h \nTarif : gratuit (hors tarif entrée) \n  \nSur réservation : https://vosdemarches.grandbesancon.fr/billetterie/mat
URL:https://www.mbaa.besancon.fr/event/viste-exposition-made-in-germany/
CATEGORIES:expo,public adulte,visite guidée
END:VEVENT
BEGIN:VEVENT
DTSTART;TZID=Europe/Paris:20240526T163000
DTEND;TZID=Europe/Paris:20240526T173000
DTSTAMP:20260422T204902
CREATED:20240522T070513Z
LAST-MODIFIED:20240522T070513Z
UID:8567-1716741000-1716744600@www.mbaa.besancon.fr
SUMMARY:Visite Monet-Courbet
DESCRIPTION:A l’occasion des 150 ans de l’impressionnisme\, Le Déjeuner sur l’herbe de Claude Monet étend sa nappe au musée des Beaux-Arts et d’Archéologie de Besançon. Ce tableau\, prêt exceptionnel du musée d’Orsay\, représente quatre personnages installés dans une clairière\, dont l’un présente certains traits communs à Gustave Courbet… Présenté juste en face des œuvres de Courbet et de son célèbre Hallali du Cerf\, découvrez ce dialogue visuel inédit qui révèle l’amitié et l’influence mutuelle entre ces deux géants de l’histoire de l’art. \nDurée : 1h \nTarif : gratuit (hors tarif entrée) \nUne médiatrice culturelle sera également présente en salle pour vous présenter cet accrochage de 10h à 12h et de 14h à 16h le dimanche 2 juin\, à l’occasion du Grand Déjeuner sur l’herbe\, sans réservation au préalable. \n  \nSur réservation : https://vosdemarches.grandbesancon.fr/billetterie/mat
URL:https://www.mbaa.besancon.fr/event/visite-monet-courbet/
CATEGORIES:public adulte,visite guidée
END:VEVENT
END:VCALENDAR