BEGIN:VCALENDAR
VERSION:2.0
PRODID:-//musée des beaux-arts et d&#039;archéologie de Besançon - ECPv5.14.2.1//NONSGML v1.0//EN
CALSCALE:GREGORIAN
METHOD:PUBLISH
X-WR-CALNAME:musée des beaux-arts et d&#039;archéologie de Besançon
X-ORIGINAL-URL:https://www.mbaa.besancon.fr
X-WR-CALDESC:évènements pour musée des beaux-arts et d&#039;archéologie de Besançon
BEGIN:VTIMEZONE
TZID:Europe/Paris
BEGIN:DAYLIGHT
TZOFFSETFROM:+0100
TZOFFSETTO:+0200
TZNAME:CEST
DTSTART:20240331T010000
END:DAYLIGHT
BEGIN:STANDARD
TZOFFSETFROM:+0200
TZOFFSETTO:+0100
TZNAME:CET
DTSTART:20241027T010000
END:STANDARD
END:VTIMEZONE
BEGIN:VEVENT
DTSTART;TZID=Europe/Paris:20240428T103000
DTEND;TZID=Europe/Paris:20240428T123000
DTSTAMP:20260422T220950
CREATED:20230901T082310Z
LAST-MODIFIED:20230901T082310Z
UID:8106-1714300200-1714307400@www.mbaa.besancon.fr
SUMMARY:Les Grands explorateurs 7-12 ans / Visite-atelier "Mythes et légendes"
DESCRIPTION:De Méduse à la Vouivre\, d’Hercule à Thésée\, découvre les mythes antiques\, les légendes\, les monstres et les héros qui peuplent  les œuvres du Musée. Puis crée\, en bas relief\,  ta propre tête de méduse en argile. \nTarif : 5€ \nSur réservation : https://vosdemarches.grandbesancon.fr/billetterie/mbaa
URL:https://www.mbaa.besancon.fr/event/les-grands-explorateurs-7-12-ans-visite-atelier-mythes-et-legendes-6/
CATEGORIES:atelier,jeune public,visite guidée
END:VEVENT
BEGIN:VEVENT
DTSTART;TZID=Europe/Paris:20240428T150000
DTEND;TZID=Europe/Paris:20240428T160000
DTSTAMP:20260422T220950
CREATED:20230920T085119Z
LAST-MODIFIED:20230920T085119Z
UID:8286-1714316400-1714320000@www.mbaa.besancon.fr
SUMMARY:Visite guidée "Egyptomania : visite des collections égyptiennes"
DESCRIPTION:Gratuit \nRéservation sur https://vosdemarches.grandbesancon.fr/billetterie/mbaa
URL:https://www.mbaa.besancon.fr/event/visite-guidee-egyptomania-visite-des-collections-egyptiennes-2/
CATEGORIES:tout public,visite guidée
END:VEVENT
BEGIN:VEVENT
DTSTART;TZID=Europe/Paris:20240428T163000
DTEND;TZID=Europe/Paris:20240428T173000
DTSTAMP:20260422T220950
CREATED:20230825T141329Z
LAST-MODIFIED:20230825T141329Z
UID:7998-1714321800-1714325400@www.mbaa.besancon.fr
SUMMARY:Visite guidée "Les Incontournables du musée"
DESCRIPTION:Gratuit – Réservation sur https://vosdemarches.grandbesancon.fr/billetterie/mbaa
URL:https://www.mbaa.besancon.fr/event/visite-guidee-les-incontournables-du-musee-115/
CATEGORIES:tout public,visite guidée
END:VEVENT
END:VCALENDAR