BEGIN:VCALENDAR
VERSION:2.0
PRODID:-//musée des beaux-arts et d&#039;archéologie de Besançon - ECPv5.14.2.1//NONSGML v1.0//EN
CALSCALE:GREGORIAN
METHOD:PUBLISH
X-WR-CALNAME:musée des beaux-arts et d&#039;archéologie de Besançon
X-ORIGINAL-URL:https://www.mbaa.besancon.fr
X-WR-CALDESC:évènements pour musée des beaux-arts et d&#039;archéologie de Besançon
BEGIN:VTIMEZONE
TZID:Europe/Paris
BEGIN:DAYLIGHT
TZOFFSETFROM:+0100
TZOFFSETTO:+0200
TZNAME:CEST
DTSTART:20240331T010000
END:DAYLIGHT
BEGIN:STANDARD
TZOFFSETFROM:+0200
TZOFFSETTO:+0100
TZNAME:CET
DTSTART:20241027T010000
END:STANDARD
END:VTIMEZONE
BEGIN:VEVENT
DTSTART;TZID=Europe/Paris:20240421T103000
DTEND;TZID=Europe/Paris:20240421T123000
DTSTAMP:20260422T221112
CREATED:20230901T085924Z
LAST-MODIFIED:20230901T085924Z
UID:8152-1713695400-1713702600@www.mbaa.besancon.fr
SUMMARY:Les P'tits curieux 3-6 ans / Visite-atelier "À l'aise glaise !"
DESCRIPTION:Une statue\, c’est taillé dans la pierre ou dans le bois\, ou ça peut être modelé dans la terre avec ses petits doigts. Découverte de sculptures du musée et manipulation  de l’argile. \nGratuit \nSur réservation : https://vosdemarches.grandbesancon.fr/billetterie/mbaa \n 
URL:https://www.mbaa.besancon.fr/event/les-ptits-curieux-3-6-ans-visite-atelier-a-laise-glaise-8/
CATEGORIES:atelier,jeune public,visite guidée
END:VEVENT
BEGIN:VEVENT
DTSTART;TZID=Europe/Paris:20240421T150000
DTEND;TZID=Europe/Paris:20240421T160000
DTSTAMP:20260422T221112
CREATED:20230920T085026Z
LAST-MODIFIED:20230920T085026Z
UID:8284-1713711600-1713715200@www.mbaa.besancon.fr
SUMMARY:Visite guidée "Une ville sous nos pieds. Visite des collections archéologiques"
DESCRIPTION:Gratuit \nRéservation sur https://vosdemarches.grandbesancon.fr/billetterie/mbaa
URL:https://www.mbaa.besancon.fr/event/visite-guidee-une-ville-sous-nos-pieds-visite-des-collections-archeologiques-5/
CATEGORIES:tout public,visite guidée
END:VEVENT
BEGIN:VEVENT
DTSTART;TZID=Europe/Paris:20240421T163000
DTEND;TZID=Europe/Paris:20240421T173000
DTSTAMP:20260422T221112
CREATED:20230825T140931Z
LAST-MODIFIED:20230825T140931Z
UID:7996-1713717000-1713720600@www.mbaa.besancon.fr
SUMMARY:Visite guidée "Les Incontournables du musée"
DESCRIPTION:Gratuit – Réservation sur https://vosdemarches.grandbesancon.fr/billetterie/mbaa
URL:https://www.mbaa.besancon.fr/event/visite-guidee-les-incontournables-du-musee-114/
CATEGORIES:tout public,visite guidée
END:VEVENT
END:VCALENDAR