BEGIN:VCALENDAR
VERSION:2.0
PRODID:-//musée des beaux-arts et d&#039;archéologie de Besançon - ECPv5.14.2.1//NONSGML v1.0//EN
CALSCALE:GREGORIAN
METHOD:PUBLISH
X-WR-CALNAME:musée des beaux-arts et d&#039;archéologie de Besançon
X-ORIGINAL-URL:https://www.mbaa.besancon.fr
X-WR-CALDESC:évènements pour musée des beaux-arts et d&#039;archéologie de Besançon
BEGIN:VTIMEZONE
TZID:Europe/Paris
BEGIN:DAYLIGHT
TZOFFSETFROM:+0100
TZOFFSETTO:+0200
TZNAME:CEST
DTSTART:20240331T010000
END:DAYLIGHT
BEGIN:STANDARD
TZOFFSETFROM:+0200
TZOFFSETTO:+0100
TZNAME:CET
DTSTART:20241027T010000
END:STANDARD
END:VTIMEZONE
BEGIN:VEVENT
DTSTART;TZID=Europe/Paris:20240419T103000
DTEND;TZID=Europe/Paris:20240419T123000
DTSTAMP:20260422T221002
CREATED:20230901T084233Z
LAST-MODIFIED:20230901T084233Z
UID:8128-1713522600-1713529800@www.mbaa.besancon.fr
SUMMARY:Les P'tits curieux 3-6 ans / Visite-atelier "Sacré scarabée !"
DESCRIPTION:Après une visite découverte de l’Egypte ancienne\, les enfants réaliseront un moulage en argile d’un scarabée égyptien. \nGratuit \nSur réservation : https://vosdemarches.grandbesancon.fr/billetterie/mbaa
URL:https://www.mbaa.besancon.fr/event/les-ptits-curieux-3-6-ans-visite-atelier-sacre-scarabee-10/
CATEGORIES:atelier,jeune public,visite guidée
END:VEVENT
END:VCALENDAR