BEGIN:VCALENDAR
VERSION:2.0
PRODID:-//musée des beaux-arts et d&#039;archéologie de Besançon - ECPv5.14.2.1//NONSGML v1.0//EN
CALSCALE:GREGORIAN
METHOD:PUBLISH
X-WR-CALNAME:musée des beaux-arts et d&#039;archéologie de Besançon
X-ORIGINAL-URL:https://www.mbaa.besancon.fr
X-WR-CALDESC:évènements pour musée des beaux-arts et d&#039;archéologie de Besançon
BEGIN:VTIMEZONE
TZID:Europe/Paris
BEGIN:DAYLIGHT
TZOFFSETFROM:+0100
TZOFFSETTO:+0200
TZNAME:CEST
DTSTART:20240331T010000
END:DAYLIGHT
BEGIN:STANDARD
TZOFFSETFROM:+0200
TZOFFSETTO:+0100
TZNAME:CET
DTSTART:20241027T010000
END:STANDARD
END:VTIMEZONE
BEGIN:VEVENT
DTSTART;TZID=Europe/Paris:20240414T103000
DTEND;TZID=Europe/Paris:20240414T113000
DTSTAMP:20260422T221807
CREATED:20230825T153225Z
LAST-MODIFIED:20230825T153225Z
UID:8058-1713090600-1713094200@www.mbaa.besancon.fr
SUMMARY:Éveil tout-petits 18 mois-3 ans
DESCRIPTION:Ici on scrute les animaux dans un ou deux tableaux\, avec des bruits\, des comptines\, des histoires\, des marionnettes… \nAmenez votre propre doudou (chien\, vache\, mouton\, chèvre\, cochon ou cheval de préférence) ! \n  \nGratuit – Réservation sur https://vosdemarches.grandbesancon.fr/billetterie/mbaa \n 
URL:https://www.mbaa.besancon.fr/event/eveil-tout-petits-18-mois-3-ans-22/
CATEGORIES:tout-petits,visite guidée
END:VEVENT
BEGIN:VEVENT
DTSTART;TZID=Europe/Paris:20240414T150000
DTEND;TZID=Europe/Paris:20240414T160000
DTSTAMP:20260422T221807
CREATED:20230920T084924Z
LAST-MODIFIED:20230920T084924Z
UID:8282-1713106800-1713110400@www.mbaa.besancon.fr
SUMMARY:Visite guidée "Le tour du monde en 80 oeuvres. Visite migration"
DESCRIPTION:Gratuit \nRéservation sur https://vosdemarches.grandbesancon.fr/billetterie/mbaa
URL:https://www.mbaa.besancon.fr/event/visite-guidee-le-tour-du-monde-en-80-oeuvres-visite-migration-3/
CATEGORIES:tout public,visite guidée
END:VEVENT
BEGIN:VEVENT
DTSTART;TZID=Europe/Paris:20240414T163000
DTEND;TZID=Europe/Paris:20240414T173000
DTSTAMP:20260422T221807
CREATED:20230825T140822Z
LAST-MODIFIED:20230825T140822Z
UID:7994-1713112200-1713115800@www.mbaa.besancon.fr
SUMMARY:Visite guidée "Les Incontournables du musée"
DESCRIPTION:Gratuit – Réservation sur https://vosdemarches.grandbesancon.fr/billetterie/mbaa
URL:https://www.mbaa.besancon.fr/event/visite-guidee-les-incontournables-du-musee-113/
CATEGORIES:tout public,visite guidée
END:VEVENT
END:VCALENDAR