BEGIN:VCALENDAR
VERSION:2.0
PRODID:-//musée des beaux-arts et d&#039;archéologie de Besançon - ECPv5.14.2.1//NONSGML v1.0//EN
CALSCALE:GREGORIAN
METHOD:PUBLISH
X-WR-CALNAME:musée des beaux-arts et d&#039;archéologie de Besançon
X-ORIGINAL-URL:https://www.mbaa.besancon.fr
X-WR-CALDESC:évènements pour musée des beaux-arts et d&#039;archéologie de Besançon
BEGIN:VTIMEZONE
TZID:Europe/Paris
BEGIN:DAYLIGHT
TZOFFSETFROM:+0100
TZOFFSETTO:+0200
TZNAME:CEST
DTSTART:20240331T010000
END:DAYLIGHT
BEGIN:STANDARD
TZOFFSETFROM:+0200
TZOFFSETTO:+0100
TZNAME:CET
DTSTART:20241027T010000
END:STANDARD
END:VTIMEZONE
BEGIN:VEVENT
DTSTART;TZID=Europe/Paris:20240407T103000
DTEND;TZID=Europe/Paris:20240407T113000
DTSTAMP:20260422T221108
CREATED:20230825T145938Z
LAST-MODIFIED:20230825T145938Z
UID:8042-1712485800-1712489400@www.mbaa.besancon.fr
SUMMARY:Visite famille
DESCRIPTION:Gratuit – Réservation sur https://vosdemarches.grandbesancon.fr/billetterie/mbaa
URL:https://www.mbaa.besancon.fr/event/visite-famille-42/
CATEGORIES:Famille,visite guidée
END:VEVENT
BEGIN:VEVENT
DTSTART;TZID=Europe/Paris:20240407T150000
DTEND;TZID=Europe/Paris:20240407T160000
DTSTAMP:20260422T221108
CREATED:20230920T084815Z
LAST-MODIFIED:20230920T084815Z
UID:8280-1712502000-1712505600@www.mbaa.besancon.fr
SUMMARY:Visite guidée "Visages de femmes : muses\, madones ou Méduse ? Les différents visages des femmes dans l'histoire de l'art
DESCRIPTION:Gratuit \nRéservation sur https://vosdemarches.grandbesancon.fr/billetterie/mbaa
URL:https://www.mbaa.besancon.fr/event/visite-guidee-visages-de-femmes-muses-madones-ou-meduse-les-differents-visages-des-femmes-dans-lhistoire-de-lart-2/
CATEGORIES:tout public,visite guidée
END:VEVENT
BEGIN:VEVENT
DTSTART;TZID=Europe/Paris:20240407T163000
DTEND;TZID=Europe/Paris:20240407T173000
DTSTAMP:20260422T221108
CREATED:20230825T140706Z
LAST-MODIFIED:20230825T140706Z
UID:7992-1712507400-1712511000@www.mbaa.besancon.fr
SUMMARY:Visite guidée "Les Incontournables du musée"
DESCRIPTION:Gratuit – Réservation sur https://vosdemarches.grandbesancon.fr/billetterie/mbaa
URL:https://www.mbaa.besancon.fr/event/visite-guidee-les-incontournables-du-musee-112/
CATEGORIES:tout public,visite guidée
END:VEVENT
END:VCALENDAR