BEGIN:VCALENDAR
VERSION:2.0
PRODID:-//musée des beaux-arts et d&#039;archéologie de Besançon - ECPv5.14.2.1//NONSGML v1.0//EN
CALSCALE:GREGORIAN
METHOD:PUBLISH
X-WR-CALNAME:musée des beaux-arts et d&#039;archéologie de Besançon
X-ORIGINAL-URL:https://www.mbaa.besancon.fr
X-WR-CALDESC:évènements pour musée des beaux-arts et d&#039;archéologie de Besançon
BEGIN:VTIMEZONE
TZID:Europe/Paris
BEGIN:DAYLIGHT
TZOFFSETFROM:+0100
TZOFFSETTO:+0200
TZNAME:CEST
DTSTART:20240331T010000
END:DAYLIGHT
BEGIN:STANDARD
TZOFFSETFROM:+0200
TZOFFSETTO:+0100
TZNAME:CET
DTSTART:20241027T010000
END:STANDARD
END:VTIMEZONE
BEGIN:VEVENT
DTSTART;TZID=Europe/Paris:20240316T100000
DTEND;TZID=Europe/Paris:20240317T180000
DTSTAMP:20260422T234054
CREATED:20230901T120456Z
LAST-MODIFIED:20240304T111911Z
UID:8225-1710583200-1710698400@www.mbaa.besancon.fr
SUMMARY:Pixel Art\, art\, jeux vidéo au musée avec l'Association Pixel Bisontin / Les 16 et 17 mars
DESCRIPTION:Le musée des beaux-arts et d’archéologie s’associe à l’Association Pixel Bisontin pour un événement inédit où se répondent jeux vidéo et œuvres du musée. En famille ou entre ami.e.s\, partez à la découverte des animations : let’s play\, atelier créatif\, conférence jouée et jeux vidéo installés dans les salles du musée : une expérience unique et ludique garantie. \n  \nAu programme :\n  \nJeux vidéo \n  \nRez-de-chaussée\n  \n>Stand de l’Association Pixel Bisontin : rétrogaming\, présentation des jeux vidéo\, jeu “vrai et faux tableaux de Rounard” (Animal Crossing) \nHall du musée \n  \n>Dordogne \nExplorez les souvenirs d’enfance de Mimi à travers des paysages aquarellés éblouissants de la Dordogne\, peints à la main\, offrant une expérience narrative immersive et émotionnelle où chaque scène est une véritable œuvre d’art.\nHall du musée \n  \n>Chant of Sennaar \nPlongez dans un monde énigmatique\, inspiré du mythe de la tour de Babel. Au cœur de cette aventure se trouve un défi unique : décoder des langues anciennes grâce à un système innovant\, révélant ainsi les secrets de langages depuis longtemps oubliés.\nSection archéologique \n  \n>The room 2 \nDes événements imprévisibles vous transportent dans une crypte oubliée depuis longtemps. Le seul moyen de vous enfuir est enfermé dans un piédestal en pierre\, de même qu’une note de votre mystérieux allié.\nCabinet de curiosité \n  \n>Pentiment \nDécouvrez un monde où les illustrations prennent vie\, inspiré des manuscrits enluminés et des gravures sur bois de l’Europe du XVIe siècle. Suivez les aventures d’Andreas Maler\, un maître-artisan qui se retrouve mêlé à des meurtres\, des scandales et des intrigues au beau milieu des Alpes bavaroises. \nPalier Renaissance \n  \n>Four last things \nJeu d’aventure point-and-click humoristique dans lequel les joueurs explorent des peintures de la Renaissance pour résoudre des énigmes et expier les péchés d’un pêcheur. Le jeu offre une expérience unique\, mêlant art\, humour décalé et énigmes originales. \nPalier Renaissance \n  \n1er étage\n  \n>Journey \nJeu vidéo d’exploration et d’aventure dans lequel les joueurs incarnent une silhouette mystérieuse voyageant à travers des déserts mystiques et des ruines anciennes. Sans dialogue ni texte explicatif\, le jeu encourage la communication non verbale entre les joueurs rencontrés en ligne\, favorisant ainsi une expérience immersive et émotionnelle unique. Guidé par une bande-son envoûtante et des paysages magnifiques\, Journey offre une expérience poétique et contemplative qui invite à la réflexion sur le voyage\, la solitude et la connexion.\nSalle XIXe siècle \n  \n>Gris \nJeu vidéo d’aventure dans lequel les joueurs incarnent une jeune fille évoluant dans un monde en noir et blanc\, représentant sa tristesse et son désespoir. Au fur et à mesure de son périple\, elle retrouve progressivement la couleur\, symbolisant l’espoir et la renaissance après une perte tragique. Avec des visuels époustouflants et une narration émotionnelle sans mots\, ce jeu offre une expérience poignante qui explore le thème de la guérison et de la résilience.\nSalle XIXe siècle \n  \n>Gorogoa \nJeu de puzzle artistique dans lequel les joueurs explorent des tableaux dessinés à la main\, qu’ils manipulent pour résoudre des énigmes et découvrir une histoire fascinante. Avec son style artistique saisissant et son gameplay innovant\, ce jeu offre une expérience visuelle et interactive captivante.\nSalle XIXe siècle \n  \n>Assassin’s creed origins \nPlongez dans une Égypte ancienne d’une réalité saisissante\, en incarnant Bayek\, chargé de protéger son peuple et de venger la mort de ses proches. Avec des paysages détaillés et une histoire captivante\, le jeu offre une expérience immersive et réaliste dans l’une des périodes les plus fascinantes de l’histoire. \nPalier Egypte \n  \n>Zelda \nExplorez un monde fantastique varié\, des forêts aux montagnes\, tout en parcourant des donjons pour sauver la princesse Zelda. Ce jeu iconique de Nintendo offre une immersion dans des paysages enchanteurs et mystérieux. \nPalier comtois \n  \n2e étage\n  \n>Please touch the artwork 2 \nAssistez un artiste squelette errant à naviguer dans un univers surréaliste peint à la main\, tout en collectant des objets cachés pour ses habitants excentriques. Résolvez des énigmes simples et réparez les fissures et les crevasses dans les tableaux. Soigneusement conçu à partir des œuvres de James Ensor\, un pionnier belge dans le monde de l’Art Moderne. \nPalier Besson \n  \n>Viewfinder démo PS5 \nDéfiez la perception\, redéfinissez la réalité et remodelez le monde qui vous entoure avec un appareil photo instantané. Viewfinder est un nouveau jeu solo offrant aux joueurs des heures d’expériences passionnantes et l’occasion de percer des mystères oubliés. \nPalier Besson \n  \n>Sayonara wild hearts \nDans ce jeu\, une jeune femme embarque dans une aventure à travers des mondes fantastiques pour restaurer l’équilibre cosmique menacé par son chagrin. Guidée par un papillon de diamant\, elle traverse des niveaux rythmés par une bande-son électrisante en affrontant des adversaires. Avec des visuels saisissants et une fusion parfaite entre musique et action\, le jeu offre une expérience immersive et envoûtante. \nPalier Besson \n— \nAtelier mosaïques « Space Invaders »\nDe la technique antique gallo-romaine à l’esthétique urbaine et rétro\, inspirée du jeu vidéo Space Invaders de l’artiste Invader : laissez parler votre créativité et composez votre propre mosaïque !\nSamedi 16 mars de 14h à 17h (en continu)\nAtelier pédagogique (RDC) \n— \nConférence jouée\n« Des jeux vidéo au miroir des beaux-arts : effets et reflets » par Mikaël Crevoisier\, Maître de conférence en philosophie à l’université de Franche-Comté \nQue font des jeux vidéo dans un musée des Beaux-arts ? Ils nous interrogent sur ce que devient l’art\, sur la manière dont nous contemplons les œuvres et prenons plaisir à les apprécier. Et c’est manette en main et philosophie en tête\, à la surface de l’écran et dans l’intelligence des concepts\, que nous en réfléchirons les enjeux \nMichaël Crevoisier est agrégé et Maître de conférences en philosophie à l’université de Franche-Comté\, membre du laboratoire des Logiques de l’agir. Ses travaux portent sur la philosophie française contemporaine\, l’esthétique des images des XXe et XXIe siècles\, et les technologies numériques. \nSamedi 16 mars de 14h à 15h30 \nSalle XVIIIe siècle (1er étage) \n— \nLet’s play commenté du jeu Assassin’s Creed\nDécouvrez plusieurs versions du célèbre jeu vidéo Assassin’s Creed grâce aux réflexions\, conseils et astuces d’un•e joueur•euse expérimenté.e et au regard avisé d’un.e archéologue. Ensemble\, ils joueront et commenteront le jeu en direct\, vous offrant ainsi une analyse singulière de ces univers\, entre fiction et réalité… \nSamedi 16 mars à 11h : Assassin’s Creed Origins (Egypte Antique) par Cécile Clément-Demange : assistante des collections archéologiques au musée des Beaux-Arts et d’Archéologie de Besançon \nDimanche 17 mars à 14h : Assassin’s Creed Odyssey (Grèce Antique) Mathieu Borg : chargé de récolement des collections archéologiques au musée des Beaux-Arts et d’Archéologie de Besançon \nSalle de conférence (1er étage) \n— \nVisite guidée découverte du musée « Les Incontournables »\nPartez à la découverte du musée des beaux-arts et d’archéologie de Besançon à travers une dizaine d’œuvres incontournables de ses collections. Des vestiges archéologiques\, aux\nchefs d’œuvres artistiques : laissez-vous guider à travers les époques et les civilisations… \nDimanche 17 mars à 16h30 \nDépart à l’accueil du musée (RDC) \nSur réservation : \nhttps://vosdemarches.grandbesancon.fr/billetterie/reservation/index/id/1614/idcat/9 \n— \nAnimations tout public \nEntrée gratuite\, sans réservation (sauf mention contraire)\, dans la limite des places disponibles. \n 
URL:https://www.mbaa.besancon.fr/event/pixel-art-art-jeux-video-au-musee-avec-lassociation-du-pixel-bisontin/
CATEGORIES:atelier,jeu,médiation,Numérique,Partenariat,tout public,visite guidée
END:VEVENT
BEGIN:VEVENT
DTSTART;TZID=Europe/Paris:20240316T100000
DTEND;TZID=Europe/Paris:20240317T180000
DTSTAMP:20260422T234054
CREATED:20230920T084110Z
LAST-MODIFIED:20240304T111727Z
UID:8270-1710583200-1710698400@www.mbaa.besancon.fr
SUMMARY:WE Télérama / Les 16 et 17 mars 2024
DESCRIPTION:(En parallèle de Pixel’art) \nCette année encore\, l’hebdomadaire Télérama propose à ses lecteurs de découvrir gratuitement des centaines de lieux d’art en France\, musées\, galeries et autres FRAC. \nEntrée gratuite pour les porteurs du Pass valable pour 4 personnes à découper dans Télérama.
URL:https://www.mbaa.besancon.fr/event/we-telerama-les-9-et-10-mars-2024/
CATEGORIES:Partenariat,tout public
END:VEVENT
BEGIN:VEVENT
DTSTART;TZID=Europe/Paris:20240317T103000
DTEND;TZID=Europe/Paris:20240317T123000
DTSTAMP:20260422T234054
CREATED:20230901T085831Z
LAST-MODIFIED:20230901T085831Z
UID:8150-1710671400-1710678600@www.mbaa.besancon.fr
SUMMARY:Les P'tits curieux 3-6 ans / Visite-atelier "À l'aise glaise !"
DESCRIPTION:Une statue\, c’est taillé dans la pierre ou dans le bois\, ou ça peut être modelé dans la terre avec ses petits doigts. Découverte de sculptures du musée et manipulation  de l’argile. \nGratuit \nSur réservation : https://vosdemarches.grandbesancon.fr/billetterie/mbaa \n 
URL:https://www.mbaa.besancon.fr/event/les-ptits-curieux-3-6-ans-visite-atelier-a-laise-glaise-7/
CATEGORIES:atelier,jeune public,visite guidée
END:VEVENT
BEGIN:VEVENT
DTSTART;TZID=Europe/Paris:20240317T150000
DTEND;TZID=Europe/Paris:20240317T160000
DTSTAMP:20260422T234054
CREATED:20230920T084413Z
LAST-MODIFIED:20230920T084413Z
UID:8274-1710687600-1710691200@www.mbaa.besancon.fr
SUMMARY:Visite guidée "Courbet sans courbettes - La vie et l'oeuvre de Gustave Courbet"
DESCRIPTION:Gratuit \nRéservation sur https://vosdemarches.grandbesancon.fr/billetterie/mbaa
URL:https://www.mbaa.besancon.fr/event/visite-guidee-courbet-sans-courbettes-la-vie-et-loeuvre-de-gustave-courbet/
CATEGORIES:tout public,visite guidée
END:VEVENT
BEGIN:VEVENT
DTSTART;TZID=Europe/Paris:20240317T163000
DTEND;TZID=Europe/Paris:20240317T173000
DTSTAMP:20260422T234054
CREATED:20230825T140337Z
LAST-MODIFIED:20230825T140337Z
UID:7986-1710693000-1710696600@www.mbaa.besancon.fr
SUMMARY:Visite guidée "Les Incontournables du musée"
DESCRIPTION:Gratuit – Réservation sur https://vosdemarches.grandbesancon.fr/billetterie/mbaa
URL:https://www.mbaa.besancon.fr/event/visite-guidee-les-incontournables-du-musee-109/
CATEGORIES:tout public,visite guidée
END:VEVENT
END:VCALENDAR