BEGIN:VCALENDAR
VERSION:2.0
PRODID:-//musée des beaux-arts et d&#039;archéologie de Besançon - ECPv5.14.2.1//NONSGML v1.0//EN
CALSCALE:GREGORIAN
METHOD:PUBLISH
X-WR-CALNAME:musée des beaux-arts et d&#039;archéologie de Besançon
X-ORIGINAL-URL:https://www.mbaa.besancon.fr
X-WR-CALDESC:évènements pour musée des beaux-arts et d&#039;archéologie de Besançon
BEGIN:VTIMEZONE
TZID:Europe/Paris
BEGIN:DAYLIGHT
TZOFFSETFROM:+0100
TZOFFSETTO:+0200
TZNAME:CEST
DTSTART:20240331T010000
END:DAYLIGHT
BEGIN:STANDARD
TZOFFSETFROM:+0200
TZOFFSETTO:+0100
TZNAME:CET
DTSTART:20241027T010000
END:STANDARD
END:VTIMEZONE
BEGIN:VEVENT
DTSTART;TZID=Europe/Paris:20240224T100000
DTEND;TZID=Europe/Paris:20240225T170000
DTSTAMP:20260423T011030
CREATED:20230901T111931Z
LAST-MODIFIED:20240222T140026Z
UID:8190-1708768800-1708880400@www.mbaa.besancon.fr
SUMMARY:Attention ANNULÉ : "Face aux muses" - Stage adultes
DESCRIPTION:Stage de création artistique avec Le Bastion et le musée des beaux-arts et d’archéologie de Besançon  \nLe Bastion et le MBAA proposent un week-end d’ateliers avec l’artiste Claire Passard (autrice\, compositrice et interprète – Clara Yucatan & Komorebi). Des portraits de femmes parcourant le musée seront les points de départ d’une immersion artistique. Une expérience passant par plusieurs états (dessin\, écriture\, jeux du corps et de la voix…) pour arriver jusqu’aux sons\, la musique et la prise de conscience du corps. Le musée devient un objet de création ! \nSamedi 24 et dimanche 25 février de 10h à 12h et de 13h à 17h : stage adultes\nVendredi 1er mars à 18h : restitution stage adultes et enfants\n30€/personne \nInformations et inscription obligatoire : reservation@lebastion.org
URL:https://www.mbaa.besancon.fr/event/face-aux-muses-stage-adultes/
CATEGORIES:atelier,Partenariat,public adulte
END:VEVENT
BEGIN:VEVENT
DTSTART;TZID=Europe/Paris:20240224T100000
DTEND;TZID=Europe/Paris:20240224T120000
DTSTAMP:20260423T011030
CREATED:20230920T083505Z
LAST-MODIFIED:20230920T083746Z
UID:8261-1708768800-1708776000@www.mbaa.besancon.fr
SUMMARY:Yoga au musée
DESCRIPTION:Après une visite guidée du musée sur la thématique des émotions\, laissez-vous porter par Yogixela pour une séance de yoga dans un cadre exceptionnel. \n15€ \nRéservation sur https://vosdemarches.grandbesancon.fr/billetterie/mbaa \n 
URL:https://www.mbaa.besancon.fr/event/yoga-au-musee-4/
CATEGORIES:public adulte,Yoga / Méditation
END:VEVENT
END:VCALENDAR