BEGIN:VCALENDAR
VERSION:2.0
PRODID:-//musée des beaux-arts et d&#039;archéologie de Besançon - ECPv5.14.2.1//NONSGML v1.0//EN
CALSCALE:GREGORIAN
METHOD:PUBLISH
X-WR-CALNAME:musée des beaux-arts et d&#039;archéologie de Besançon
X-ORIGINAL-URL:https://www.mbaa.besancon.fr
X-WR-CALDESC:évènements pour musée des beaux-arts et d&#039;archéologie de Besançon
BEGIN:VTIMEZONE
TZID:Europe/Paris
BEGIN:DAYLIGHT
TZOFFSETFROM:+0100
TZOFFSETTO:+0200
TZNAME:CEST
DTSTART:20240331T010000
END:DAYLIGHT
BEGIN:STANDARD
TZOFFSETFROM:+0200
TZOFFSETTO:+0100
TZNAME:CET
DTSTART:20241027T010000
END:STANDARD
END:VTIMEZONE
BEGIN:VEVENT
DTSTART;TZID=Europe/Paris:20240214T100000
DTEND;TZID=Europe/Paris:20240215T000000
DTSTAMP:20260423T011037
CREATED:20230901T115638Z
LAST-MODIFIED:20230901T115638Z
UID:8218-1707904800-1707955200@www.mbaa.besancon.fr
SUMMARY:Nocturne "Saint Valentin"
DESCRIPTION:Programmation à venir \nGratuit
URL:https://www.mbaa.besancon.fr/event/nocturne-saint-valentin/
CATEGORIES:nocturne,tout public
END:VEVENT
END:VCALENDAR