BEGIN:VCALENDAR
VERSION:2.0
PRODID:-//musée des beaux-arts et d&#039;archéologie de Besançon - ECPv5.14.2.1//NONSGML v1.0//EN
CALSCALE:GREGORIAN
METHOD:PUBLISH
X-WR-CALNAME:musée des beaux-arts et d&#039;archéologie de Besançon
X-ORIGINAL-URL:https://www.mbaa.besancon.fr
X-WR-CALDESC:évènements pour musée des beaux-arts et d&#039;archéologie de Besançon
BEGIN:VTIMEZONE
TZID:Europe/Paris
BEGIN:DAYLIGHT
TZOFFSETFROM:+0100
TZOFFSETTO:+0200
TZNAME:CEST
DTSTART:20230326T010000
END:DAYLIGHT
BEGIN:STANDARD
TZOFFSETFROM:+0200
TZOFFSETTO:+0100
TZNAME:CET
DTSTART:20231029T010000
END:STANDARD
BEGIN:DAYLIGHT
TZOFFSETFROM:+0100
TZOFFSETTO:+0200
TZNAME:CEST
DTSTART:20240331T010000
END:DAYLIGHT
BEGIN:STANDARD
TZOFFSETFROM:+0200
TZOFFSETTO:+0100
TZNAME:CET
DTSTART:20241027T010000
END:STANDARD
END:VTIMEZONE
BEGIN:VEVENT
DTSTART;TZID=Europe/Paris:20231215T140000
DTEND;TZID=Europe/Paris:20240129T180000
DTSTAMP:20260423T023042
CREATED:20230920T083245Z
LAST-MODIFIED:20230920T083245Z
UID:8257-1702648800-1706551200@www.mbaa.besancon.fr
SUMMARY:Restitution / En partenariat avec les Groupes d'entraide mutuelle bisontins
DESCRIPTION:En lien avec l’exposition “Les lettres séquanes”\, un groupe d’adultes adhérents de Groupes d’Entraide Mutuelle bisontins revisite le passé et ses objets\, au cours d’une série d’ateliers créatifs. \nExposition de restitution du 15 décembre au 29 janvier.
URL:https://www.mbaa.besancon.fr/event/restitution-en-partenariat-avec-les-groupes-dentraide-mutuelle-bisontins/
CATEGORIES:Partenariat,Restitution,tout public
END:VEVENT
BEGIN:VEVENT
DTSTART;TZID=Europe/Paris:20240118T100000
DTEND;TZID=Europe/Paris:20240121T180000
DTSTAMP:20260423T023042
CREATED:20230901T114438Z
LAST-MODIFIED:20230901T114438Z
UID:8210-1705572000-1705860000@www.mbaa.besancon.fr
SUMMARY:Festival "Drôlement bien"
DESCRIPTION:Pour sa 2e édition\, Drôlement Bien vous prépare une programmation toujours plus ambitieuse et toujours sous le signe de la convivialité et du partage. En famille ou entre amis\, venez-vous a-musée ! Au programme : escape game\, déambulations\, visites guidées du Cabinet des arts graphiques et ateliers caricatures avec le dessinateur de presse Rodho. \nDu 18 au 21 janvier 2024 \nInformations et réservations sur : https://drolementbien.fr/
URL:https://www.mbaa.besancon.fr/event/festival-drolement-bien/
CATEGORIES:atelier,jeu,manifestation,Partenariat,spectacle,tout public,visite guidée
END:VEVENT
BEGIN:VEVENT
DTSTART;TZID=Europe/Paris:20240121T103000
DTEND;TZID=Europe/Paris:20240121T123000
DTSTAMP:20260423T023042
CREATED:20230901T090635Z
LAST-MODIFIED:20230901T090635Z
UID:8160-1705833000-1705840200@www.mbaa.besancon.fr
SUMMARY:Les P'tits curieux 3-6 ans / Visite-atelier "Mon petit herbier"
DESCRIPTION:Pars à la découverte des  plantes et des fleurs qui se cachent dans les tableaux du musée\, grâce à une visite ludique et sensorielle. Pour compléter l’expérience\, tu pourras créer ton petit herbier pour comparer les plantes vues dans les tableaux avec celles de la nature. \nGratuit \nSur réservation : https://vosdemarches.grandbesancon.fr/billetterie/mbaa
URL:https://www.mbaa.besancon.fr/event/les-ptits-curieux-3-6-ans-visite-atelier-mon-petit-herbier-6/
CATEGORIES:atelier,jeune public,visite guidée
END:VEVENT
BEGIN:VEVENT
DTSTART;TZID=Europe/Paris:20240121T150000
DTEND;TZID=Europe/Paris:20240121T160000
DTSTAMP:20260423T023042
CREATED:20230825T143157Z
LAST-MODIFIED:20230825T143157Z
UID:8016-1705849200-1705852800@www.mbaa.besancon.fr
SUMMARY:Visite guidée de l'exposition "Les Lettres séquanes"
DESCRIPTION:Gratuit – Réservation sur https://vosdemarches.grandbesancon.fr/billetterie/mbaa
URL:https://www.mbaa.besancon.fr/event/visite-guidee-de-lexposition-les-lettres-sequanes-9/
CATEGORIES:Archéologie,expo,tout public,visite guidée
END:VEVENT
BEGIN:VEVENT
DTSTART;TZID=Europe/Paris:20240121T163000
DTEND;TZID=Europe/Paris:20240121T173000
DTSTAMP:20260423T023042
CREATED:20230825T133459Z
LAST-MODIFIED:20230825T133459Z
UID:7970-1705854600-1705858200@www.mbaa.besancon.fr
SUMMARY:Visite guidée "Les Incontournables du musée"
DESCRIPTION:Gratuit – Réservation sur https://vosdemarches.grandbesancon.fr/billetterie/mbaa
URL:https://www.mbaa.besancon.fr/event/visite-guidee-les-incontournables-du-musee-101/
CATEGORIES:tout public,visite guidée
END:VEVENT
END:VCALENDAR