BEGIN:VCALENDAR
VERSION:2.0
PRODID:-//musée des beaux-arts et d&#039;archéologie de Besançon - ECPv5.14.2.1//NONSGML v1.0//EN
CALSCALE:GREGORIAN
METHOD:PUBLISH
X-WR-CALNAME:musée des beaux-arts et d&#039;archéologie de Besançon
X-ORIGINAL-URL:https://www.mbaa.besancon.fr
X-WR-CALDESC:évènements pour musée des beaux-arts et d&#039;archéologie de Besançon
BEGIN:VTIMEZONE
TZID:Europe/Paris
BEGIN:DAYLIGHT
TZOFFSETFROM:+0100
TZOFFSETTO:+0200
TZNAME:CEST
DTSTART:20230326T010000
END:DAYLIGHT
BEGIN:STANDARD
TZOFFSETFROM:+0200
TZOFFSETTO:+0100
TZNAME:CET
DTSTART:20231029T010000
END:STANDARD
BEGIN:DAYLIGHT
TZOFFSETFROM:+0100
TZOFFSETTO:+0200
TZNAME:CEST
DTSTART:20240331T010000
END:DAYLIGHT
BEGIN:STANDARD
TZOFFSETFROM:+0200
TZOFFSETTO:+0100
TZNAME:CET
DTSTART:20241027T010000
END:STANDARD
END:VTIMEZONE
BEGIN:VEVENT
DTSTART;TZID=Europe/Paris:20231215T140000
DTEND;TZID=Europe/Paris:20240129T180000
DTSTAMP:20260423T024948
CREATED:20230920T083245Z
LAST-MODIFIED:20230920T083245Z
UID:8257-1702648800-1706551200@www.mbaa.besancon.fr
SUMMARY:Restitution / En partenariat avec les Groupes d'entraide mutuelle bisontins
DESCRIPTION:En lien avec l’exposition “Les lettres séquanes”\, un groupe d’adultes adhérents de Groupes d’Entraide Mutuelle bisontins revisite le passé et ses objets\, au cours d’une série d’ateliers créatifs. \nExposition de restitution du 15 décembre au 29 janvier.
URL:https://www.mbaa.besancon.fr/event/restitution-en-partenariat-avec-les-groupes-dentraide-mutuelle-bisontins/
CATEGORIES:Partenariat,Restitution,tout public
END:VEVENT
BEGIN:VEVENT
DTSTART;TZID=Europe/Paris:20240118T100000
DTEND;TZID=Europe/Paris:20240121T180000
DTSTAMP:20260423T024948
CREATED:20230901T114438Z
LAST-MODIFIED:20230901T114438Z
UID:8210-1705572000-1705860000@www.mbaa.besancon.fr
SUMMARY:Festival "Drôlement bien"
DESCRIPTION:Pour sa 2e édition\, Drôlement Bien vous prépare une programmation toujours plus ambitieuse et toujours sous le signe de la convivialité et du partage. En famille ou entre amis\, venez-vous a-musée ! Au programme : escape game\, déambulations\, visites guidées du Cabinet des arts graphiques et ateliers caricatures avec le dessinateur de presse Rodho. \nDu 18 au 21 janvier 2024 \nInformations et réservations sur : https://drolementbien.fr/
URL:https://www.mbaa.besancon.fr/event/festival-drolement-bien/
CATEGORIES:atelier,jeu,manifestation,Partenariat,spectacle,tout public,visite guidée
END:VEVENT
BEGIN:VEVENT
DTSTART;TZID=Europe/Paris:20240120T140000
DTEND;TZID=Europe/Paris:20240120T160000
DTSTAMP:20260423T024948
CREATED:20231006T080604Z
LAST-MODIFIED:20231006T080837Z
UID:8330-1705759200-1705766400@www.mbaa.besancon.fr
SUMMARY:Visite guidée "Le cabinet d'arts graphiques" suivi d'un atelier de caricatures avec Rodho
DESCRIPTION:Dans le cadre du Festival Drôlement Bien \nEntrez dans le Cabinet des arts graphiques du MBAA\, lieu dédié à la conservation des dessins et des estampes\, habituellement fermé au public\, et découvrez tous ses secrets : sa création sous le directorat de Marie-Lucie Cornillot\, son architecture\, ses décors et une sélection d’œuvres exceptionnelles présentées pour l’occasion ! \nSuivi d’un atelier caricatures avec le dessinateur de presse Rodho \nSur réservation : https://vosdemarches.grandbesancon.fr/billetterie/mbaa \n 
URL:https://www.mbaa.besancon.fr/event/visite-guidee-le-cabinet-darts-graphiques-suivi-dun-atelier-de-caricatures-avec-rodho/
CATEGORIES:art graphique,atelier,expo,Partenariat,tout public,Vie du musée,visite guidée
END:VEVENT
BEGIN:VEVENT
DTSTART;TZID=Europe/Paris:20240120T143000
DTEND;TZID=Europe/Paris:20240120T170000
DTSTAMP:20260423T024948
CREATED:20230901T115024Z
LAST-MODIFIED:20230901T115024Z
UID:8212-1705761000-1705770000@www.mbaa.besancon.fr
SUMMARY:Visite-atelier interprétée en LSF\, exposition "Les Lettres séquanes"
DESCRIPTION:Visite de l’exposition en présence d’un interprète Langue des Signes Française\, suivie d’un atelier pour comprendre la pratique de l’ex-voto. \nAvec Sors les mains d’tes poches et CAL LSF (ajouter logo) \nPossibilité d’emprunter des boucles magnétiques portatives. \nDurée : 2h30 \n  \nToutes les animations sont sur réservation. \nPour toute information et réservation : \nMiléna Buguet \nRéférente accessibilité \nmilena.buguet@besancon.fr \n03 81 41 57 86 \n 
URL:https://www.mbaa.besancon.fr/event/visite-atelier-interpretee-en-lsf-exposition-les-lettres-sequanes/
CATEGORIES:Archéologie,expo,handicap,médiation,Partenariat,visite guidée
END:VEVENT
BEGIN:VEVENT
DTSTART;TZID=Europe/Paris:20240120T160000
DTEND;TZID=Europe/Paris:20240120T180000
DTSTAMP:20260423T024948
CREATED:20231006T080739Z
LAST-MODIFIED:20231006T080739Z
UID:8332-1705766400-1705773600@www.mbaa.besancon.fr
SUMMARY:Visite guidée "Le cabinet d'arts graphiques" suivi d'un atelier de caricatures avec Rodho
DESCRIPTION:Dans le cadre du Festival Drôlement Bien\nEntrez dans le Cabinet des arts graphiques du MBAA\, lieu dédié à la conservation des dessins et des estampes\, habituellement fermé au public\, et découvrez tous ses secrets : sa création sous le directorat de Marie-Lucie Cornillot\, son architecture\, ses décors et une sélection d’œuvres exceptionnelles présentées pour l’occasion !\nSuivi d’un atelier caricatures avec le dessinateur de presse Rodho. \nSur réservation : https://vosdemarches.grandbesancon.fr/billetterie/mbaa
URL:https://www.mbaa.besancon.fr/event/visite-guidee-le-cabinet-darts-graphiques-suivi-dun-atelier-de-caricatures-avec-rodho-2/
CATEGORIES:art graphique,atelier,expo,Partenariat,rencontre,tout public,Vie du musée,visite guidée
END:VEVENT
END:VCALENDAR